#------------------------------------------------------------------------------
#$Date: 2018-09-27 07:13:35 +0300 (Thu, 27 Sep 2018) $
#$Revision: 211196 $
#$URL: file:///home/coder/svn-repositories/cod/cif/1/53/92/1539270.cif $
#------------------------------------------------------------------------------
#
# This file is available in the Crystallography Open Database (COD),
# http://www.crystallography.net/
#
# All data on this site have been placed in the public domain by the
# contributors.
#
data_1539270
loop_
_publ_author_name
'Schoenberg, N.'
_publ_section_title
;
 Metallic ternary phases in the Mn - Ta - O system
;
_journal_name_full               'Acta Metallurgica'
_journal_page_first              14
_journal_page_last               16
_journal_volume                  3
_journal_year                    1955
_chemical_formula_sum            'Mn2 Ta'
_space_group_IT_number           194
_symmetry_space_group_name_Hall  '-P 6c 2c'
_symmetry_space_group_name_H-M   'P 63/m m c'
_cell_angle_alpha                90
_cell_angle_beta                 90
_cell_angle_gamma                120
_cell_formula_units_Z            4
_cell_length_a                   4.806
_cell_length_b                   4.806
_cell_length_c                   7.952
_cell_volume                     159.065
_citation_journal_id_ASTM        AMETAR
_cod_data_source_file            Schoenberg_AMETAR_1955_666.cif
_cod_data_source_block           Mn2Ta1
_cod_original_formula_sum        'Mn2 Ta1'
_cod_database_code               1539270
loop_
_symmetry_equiv_pos_as_xyz
x,y,z
x-y,x,z+1/2
-y,x-y,z
-x,-y,z+1/2
-x+y,-x,z
y,-x+y,z+1/2
-y,-x,-z+1/2
x-y,-y,-z
x,x-y,-z+1/2
y,x,-z
-x+y,y,-z+1/2
-x,-x+y,-z
-x,-y,-z
-x+y,-x,-z-1/2
y,-x+y,-z
x,y,-z-1/2
x-y,x,-z
-y,x-y,-z-1/2
y,x,z-1/2
-x+y,y,z
-x,-x+y,z-1/2
-y,-x,z
x-y,-y,z-1/2
x,x-y,z
loop_
_atom_site_label
_atom_site_type_symbol
_atom_site_fract_x
_atom_site_fract_y
_atom_site_fract_z
_atom_site_occupancy
_atom_site_U_iso_or_equiv
Ta1 Ta 0.3333 0.6667 0.07 1 0.0
Mn1 Mn 0 0 0 1 0.0
Mn2 Mn 0.17 0.34 0.25 1 0.0
