#------------------------------------------------------------------------------
#$Date: 2016-02-13 21:28:24 +0200 (Sat, 13 Feb 2016) $
#$Revision: 176429 $
#$URL: svn://www.crystallography.net/cod/cif/1/54/19/1541998.cif $
#------------------------------------------------------------------------------
#
# This file is available in the Crystallography Open Database (COD),
# http://www.crystallography.net/
#
# All data on this site have been placed in the public domain by the
# contributors.
#
data_1541998
loop_
_publ_author_name
'Kupriyanov, M.F.'
'Fesenko, E.G.'
_publ_section_title
;
 An X-ray study of the phase transition in Sr2 Fe Nb O6
;
_journal_name_full               Kristallografiya
_journal_page_first              794
_journal_page_last               795
_journal_volume                  6
_journal_year                    1961
_chemical_formula_sum            'Fe0.5 Nb0.5 O3 Sr'
_chemical_name_systematic        'Sr ((Fe Nb)0.5 O3)'
_space_group_IT_number           221
_symmetry_space_group_name_Hall  '-P 4 2 3'
_symmetry_space_group_name_H-M   'P m -3 m'
_cell_angle_alpha                90
_cell_angle_beta                 90
_cell_angle_gamma                90
_cell_formula_units_Z            1
_cell_length_a                   3.971
_cell_length_b                   3.971
_cell_length_c                   3.971
_cell_volume                     62.618
_citation_journal_id_ASTM        KRISAJ
_cod_data_source_file            Kupriyanov_KRISAJ_1961_855.cif
_cod_data_source_block           Fe0.5Nb0.5O3Sr1
_cod_original_cell_volume        62.61806
_cod_original_formula_sum        'Fe0.5 Nb0.5 O3 Sr1'
_cod_database_code               1541998
loop_
_symmetry_equiv_pos_as_xyz
x,y,z
-y,x,z
-x,-y,z
y,-x,z
x,-y,-z
y,x,-z
-x,y,-z
-y,-x,-z
z,x,y
-x,z,y
-z,-x,y
x,-z,y
z,-x,-y
x,z,-y
-z,x,-y
-x,-z,-y
y,z,x
y,-z,-x
z,y,-x
-y,z,-x
-z,-y,-x
-y,-z,x
z,-y,x
-z,y,x
-x,-y,-z
y,-x,-z
x,y,-z
-y,x,-z
-x,y,z
-y,-x,z
x,-y,z
y,x,z
-z,-x,-y
x,-z,-y
z,x,-y
-x,z,-y
-z,x,y
-x,-z,y
z,-x,y
x,z,y
-y,-z,-x
-y,z,x
-z,-y,x
y,-z,x
z,y,x
y,z,-x
-z,y,-x
z,-y,-x
loop_
_atom_site_label
_atom_site_type_symbol
_atom_site_fract_x
_atom_site_fract_y
_atom_site_fract_z
_atom_site_occupancy
_atom_site_U_iso_or_equiv
Nb1 Nb+5 0.5 0.5 0.5 0.5 0.0
Fe1 Fe+3 0.5 0.5 0.5 0.5 0.0
Sr1 Sr+2 0 0 0 1 0.0
O1 O-2 0.5 0.5 0 1 0.0
