#------------------------------------------------------------------------------
#$Date: 2018-06-05 19:02:35 +0300 (Tue, 05 Jun 2018) $
#$Revision: 208139 $
#$URL: file:///home/coder/svn-repositories/cod/cif/1/54/95/1549516.cif $
#------------------------------------------------------------------------------
#
# This file is available in the Crystallography Open Database (COD),
# http://www.crystallography.net/
#
# All data on this site have been placed in the public domain by the
# contributors.
#
data_1549516
loop_
_publ_author_name
'Seryotkin, Y.V.'
'Bakakin, V.V.'
_publ_section_title
;
 Structural evolution of hemimorphite at high pressure up to 4.2 GPa :
 hemimorphite @ 1.93 GPa, room temperature
;
_journal_name_full               'Physics and Chemistry of Minerals'
_journal_page_first              679
_journal_page_last               684
_journal_volume                  38
_journal_year                    2011
_chemical_formula_sum            'H4 O10 Si2 Zn4'
_chemical_name_common            'Zn4Si2O7(OH)2H2O at 1.93 GPa'
_chemical_name_mineral           'hemimorphite at 1.93 GPa'
_space_group_IT_number           44
_space_group_name_H-M_alt        'I m m 2'
_symmetry_space_group_name_Hall  'I 2 -2'
_symmetry_space_group_name_H-M   'I m m 2'
_cell_angle_alpha                90
_cell_angle_beta                 90
_cell_angle_gamma                90
_cell_formula_units_Z            2
_cell_length_a                   8.2453(10)
_cell_length_b                   10.6959(16)
_cell_length_c                   5.0691(2)
_cell_volume                     447.05(9)
_diffrn_ambient_pressure         1.93E+6
_cod_data_source_file            hemimorphite-I-1.93GPa.cif
_cod_data_source_block           hemimorphite-1.93GPa
_cod_original_formula_sum        'Zn4.0 Si2.0 O10.0 H4.0'
_cod_database_code               1549516
loop_
_space_group_symop_operation_xyz
'x, y, z'
'-x, -y, z'
'x, -y, z'
'-x, y, z'
'x+1/2, y+1/2, z+1/2'
'-x+1/2, -y+1/2, z+1/2'
'x+1/2, -y+1/2, z+1/2'
'-x+1/2, y+1/2, z+1/2'
loop_
_atom_site_label
_atom_site_occupancy
_atom_site_fract_x
_atom_site_fract_y
_atom_site_fract_z
_atom_site_adp_type
_atom_site_U_iso_or_equiv
_atom_site_type_symbol
Zn1 1.0 0.20737(4) 0.15881(4) 0.000000 Uiso 0.01147(12) Zn
Si1 1.0 0.000000 0.14510(12) 0.5092(4) Uiso 0.0073(3) Si
O1 1.0 0.1617(3) 0.2057(4) 0.6338(5) Uiso 0.0167(8) O
O2 1.0 0.000000 0.1621(4) 0.1929(6) Uiso 0.0136(11) O
O3 1.0 0.3121(5) 0.000000 0.0446(8) Uiso 0.0232(14) O
H3 1.0 0.387(10) 0.000000 0.168(13) Uiso 0.09(4) H
O4 1.0 0.000000 0.000000 0.6001(10) Uiso 0.0181(16) O
Ow5 1.0 0.500000 0.000000 0.5279(14) Uiso 0.073(3) O
H5 1.0 0.43(3) 0.000000 0.69(3) Uiso 1.0(3) H
