#------------------------------------------------------------------------------
#$Date: 2019-11-26 14:47:32 +0200 (Tue, 26 Nov 2019) $
#$Revision: 243572 $
#$URL: file:///home/coder/svn-repositories/cod/cif/1/55/62/1556219.cif $
#------------------------------------------------------------------------------
#
# This file is available in the Crystallography Open Database (COD),
# http://www.crystallography.net/
#
# All data on this site have been placed in the public domain by the
# contributors.
#
data_1556219
loop_
_publ_author_name
'de Robillard, Guillaume'
'Devillers, Charles H.'
'Kunz, Doris'
'Cattey, Hélène'
'Digard, Eric'
'Andrieu, Jacques'
_publ_section_title
;
 Electrosynthesis of imidazolium carboxylates.
;
_journal_issue                   17
_journal_name_full               'Organic letters'
_journal_page_first              4410
_journal_page_last               4413
_journal_paper_doi               10.1021/ol401949f
_journal_volume                  15
_journal_year                    2013
_chemical_formula_moiety         'C9 H11 N2, Cl, H2 O'
_chemical_formula_sum            'C9 H13 Cl N2 O'
_chemical_formula_weight         200.66
_space_group_IT_number           14
_space_group_name_Hall           '-P 2ybc'
_space_group_name_H-M_alt        'P 1 21/c 1'
_symmetry_cell_setting           monoclinic
_symmetry_space_group_name_Hall  '-P 2ybc'
_symmetry_space_group_name_H-M   'P 1 21/c 1'
_atom_sites_solution_hydrogens   geom
_atom_sites_solution_primary     direct
_atom_sites_solution_secondary   difmap
_audit_creation_method           SHELXL-97
_cell_angle_alpha                90.00
_cell_angle_beta                 111.426(2)
_cell_angle_gamma                90.00
_cell_formula_units_Z            4
_cell_length_a                   8.6471(3)
_cell_length_b                   16.9091(7)
_cell_length_c                   7.3080(3)
_cell_measurement_reflns_used    5234
_cell_measurement_temperature    115(2)
_cell_measurement_theta_max      27.485
_cell_measurement_theta_min      0.998
_cell_volume                     994.69(7)
_computing_cell_refinement       'DENZO-SMN (Otwinowski & Minor, 1997)'
_computing_data_collection       'KappaCCD Server Software (Nonius,1997)'
_computing_data_reduction        'DENZO-SMN (Otwinowski & Minor, 1997)'
_computing_molecular_graphics    'ORTEPIII (Burnett, 1996)'
_computing_publication_material  'SHELXL97 and WinGX (Farrugia, 1999)'
_computing_structure_refinement  'SHELXL-97 (Sheldrick, 1997)'
_computing_structure_solution    'SIR92 (Altomare, 1993)'
_diffrn_ambient_temperature      115(2)
_diffrn_measured_fraction_theta_full 0.988
_diffrn_measured_fraction_theta_max 0.988
_diffrn_measurement_device_type  KappaCCD
_diffrn_measurement_method       'φ scans (κ = 0) + additional ω scans'
_diffrn_radiation_monochromator  graphite
_diffrn_radiation_source         'fine-focus sealed tube'
_diffrn_radiation_type           MoK\a
_diffrn_radiation_wavelength     0.71073
_diffrn_reflns_av_R_equivalents  0.0166
_diffrn_reflns_av_sigmaI/netI    0.0254
_diffrn_reflns_limit_h_max       11
_diffrn_reflns_limit_h_min       -11
_diffrn_reflns_limit_k_max       21
_diffrn_reflns_limit_k_min       -21
_diffrn_reflns_limit_l_max       9
_diffrn_reflns_limit_l_min       -9
_diffrn_reflns_number            4271
_diffrn_reflns_theta_full        27.49
_diffrn_reflns_theta_max         27.49
_diffrn_reflns_theta_min         3.36
_diffrn_standards_number         0
_exptl_absorpt_coefficient_mu    0.346
_exptl_absorpt_correction_type   none
_exptl_crystal_colour            colourless
_exptl_crystal_density_diffrn    1.340
_exptl_crystal_density_method    'not measured'
_exptl_crystal_description       prism
_exptl_crystal_F_000             424
_exptl_crystal_size_max          0.27
_exptl_crystal_size_mid          0.15
_exptl_crystal_size_min          0.13
_refine_diff_density_max         0.284
_refine_diff_density_min         -0.232
_refine_diff_density_rms         0.044
_refine_ls_extinction_method     none
_refine_ls_goodness_of_fit_ref   1.065
_refine_ls_hydrogen_treatment    noref
_refine_ls_matrix_type           full
_refine_ls_number_parameters     123
_refine_ls_number_reflns         2258
_refine_ls_number_restraints     0
_refine_ls_restrained_S_all      1.065
_refine_ls_R_factor_all          0.0404
_refine_ls_R_factor_gt           0.0343
_refine_ls_shift/su_max          0.000
_refine_ls_shift/su_mean         0.000
_refine_ls_structure_factor_coef Fsqd
_refine_ls_weighting_details
'calc w=1/[σ²(Fo²)+(0.0241P)²+0.6364P] where P=(Fo²+2Fc²)/3'
_refine_ls_weighting_scheme      calc
_refine_ls_wR_factor_gt          0.0774
_refine_ls_wR_factor_ref         0.0812
_reflns_number_gt                2005
_reflns_number_total             2258
_reflns_threshold_expression     >2sigma(I)
_cod_data_source_file            ol401949f_si_001.cif
_cod_data_source_block           1301cd41n_2H+,Cl-,H2O
_cod_database_code               1556219
loop_
_symmetry_equiv_pos_as_xyz
'x, y, z'
'-x, y+1/2, -z+1/2'
'-x, -y, -z'
'x, -y-1/2, z-1/2'
loop_
_atom_site_label
_atom_site_type_symbol
_atom_site_fract_x
_atom_site_fract_y
_atom_site_fract_z
_atom_site_U_iso_or_equiv
_atom_site_adp_type
_atom_site_occupancy
_atom_site_symmetry_multiplicity
_atom_site_calc_flag
_atom_site_refinement_flags
O O 0.32446(14) 0.97192(8) 0.58811(18) 0.0348(3) Uani 1 1 d G
HO1 H 0.3325 0.9577 0.4788 0.042 Uiso 1 1 d G
HO2 H 0.4088 1.0016 0.6480 0.042 Uiso 1 1 d G
Cl Cl 0.35558(4) 0.92092(2) 0.18284(5) 0.02690(11) Uani 1 1 d .
C1 C 0.66155(16) 0.88814(8) 0.0073(2) 0.0213(3) Uani 1 1 d .
H1 H 0.6065 0.9352 -0.0418 0.026 Uiso 1 1 calc R
C2 C 0.71534(16) 0.76094(8) 0.0611(2) 0.0185(3) Uani 1 1 d .
C3 C 0.71149(17) 0.67874(8) 0.0610(2) 0.0214(3) Uani 1 1 d .
H3 H 0.6187 0.6504 -0.0173 0.026 Uiso 1 1 calc R
C4 C 0.85427(17) 0.64146(9) 0.1846(2) 0.0243(3) Uani 1 1 d .
H4 H 0.8571 0.5865 0.1898 0.029 Uiso 1 1 calc R
C5 C 0.99513(17) 0.68434(9) 0.3023(2) 0.0252(3) Uani 1 1 d .
H5 H 1.0880 0.6570 0.3840 0.030 Uiso 1 1 calc R
C6 C 0.99871(17) 0.76603(9) 0.2995(2) 0.0223(3) Uani 1 1 d .
H6 H 1.0921 0.7944 0.3760 0.027 Uiso 1 1 calc R
C7 C 0.85507(16) 0.80356(8) 0.1762(2) 0.0187(3) Uani 1 1 d .
C8 C 0.42791(17) 0.79875(9) -0.1776(2) 0.0260(3) Uani 1 1 d .
H8A H 0.3589 0.7876 -0.1034 0.039 Uiso 1 1 calc R
H8B H 0.4300 0.7536 -0.2563 0.039 Uiso 1 1 calc R
H8C H 0.3840 0.8435 -0.2615 0.039 Uiso 1 1 calc R
C9 C 0.92846(18) 0.94928(9) 0.2215(2) 0.0269(3) Uani 1 1 d .
H9A H 1.0237 0.9452 0.1841 0.040 Uiso 1 1 calc R
H9B H 0.9637 0.9479 0.3622 0.040 Uiso 1 1 calc R
H9C H 0.8717 0.9982 0.1733 0.040 Uiso 1 1 calc R
N1 N 0.59704(13) 0.81646(7) -0.04269(17) 0.0198(2) Uani 1 1 d .
N2 N 0.81603(14) 0.88299(7) 0.13751(18) 0.0202(2) Uani 1 1 d .
loop_
_atom_site_aniso_label
_atom_site_aniso_U_11
_atom_site_aniso_U_22
_atom_site_aniso_U_33
_atom_site_aniso_U_23
_atom_site_aniso_U_13
_atom_site_aniso_U_12
O 0.0335(6) 0.0383(7) 0.0347(7) -0.0004(5) 0.0148(5) -0.0025(5)
Cl 0.02525(18) 0.02456(19) 0.0260(2) -0.00385(14) 0.00362(14) 0.00238(13)
C1 0.0195(6) 0.0186(7) 0.0277(7) -0.0002(6) 0.0109(6) 0.0014(5)
C2 0.0162(6) 0.0204(7) 0.0205(7) -0.0010(5) 0.0084(5) 0.0018(5)
C3 0.0209(6) 0.0195(7) 0.0251(7) -0.0018(5) 0.0101(6) -0.0008(5)
C4 0.0251(7) 0.0192(7) 0.0302(8) 0.0027(6) 0.0120(6) 0.0033(5)
C5 0.0206(6) 0.0288(8) 0.0254(7) 0.0058(6) 0.0077(6) 0.0058(6)
C6 0.0171(6) 0.0294(8) 0.0197(7) -0.0006(6) 0.0061(5) 0.0001(5)
C7 0.0187(6) 0.0184(6) 0.0210(6) -0.0017(5) 0.0099(5) 0.0005(5)
C8 0.0170(6) 0.0259(7) 0.0307(8) -0.0023(6) 0.0035(6) 0.0011(6)
C9 0.0242(7) 0.0209(7) 0.0357(8) -0.0086(6) 0.0111(6) -0.0062(6)
N1 0.0162(5) 0.0194(6) 0.0227(6) -0.0011(5) 0.0059(5) 0.0017(4)
N2 0.0189(5) 0.0180(6) 0.0250(6) -0.0040(5) 0.0097(5) -0.0011(4)
loop_
_atom_type_symbol
_atom_type_description
_atom_type_scat_dispersion_real
_atom_type_scat_dispersion_imag
_atom_type_scat_source
C C 0.0033 0.0016 'International Tables Vol C Tables 4.2.6.8 and 6.1.1.4'
H H 0.0000 0.0000 'International Tables Vol C Tables 4.2.6.8 and 6.1.1.4'
N N 0.0061 0.0033 'International Tables Vol C Tables 4.2.6.8 and 6.1.1.4'
Cl Cl 0.1484 0.1585 'International Tables Vol C Tables 4.2.6.8 and 6.1.1.4'
O O 0.0106 0.0060 'International Tables Vol C Tables 4.2.6.8 and 6.1.1.4'
loop_
_geom_angle_atom_site_label_1
_geom_angle_atom_site_label_2
_geom_angle_atom_site_label_3
_geom_angle
HO1 O HO2 107.1
N1 C1 N2 110.36(12)
N1 C1 H1 124.8
N2 C1 H1 124.8
C3 C2 N1 131.42(13)
C3 C2 C7 122.16(13)
N1 C2 C7 106.42(12)
C4 C3 C2 116.02(13)
C4 C3 H3 122.0
C2 C3 H3 122.0
C3 C4 C5 121.96(13)
C3 C4 H4 119.0
C5 C4 H4 119.0
C6 C5 C4 121.64(13)
C6 C5 H5 119.2
C4 C5 H5 119.2
C5 C6 C7 116.45(13)
C5 C6 H6 121.8
C7 C6 H6 121.8
N2 C7 C6 131.71(13)
N2 C7 C2 106.53(11)
C6 C7 C2 121.76(13)
N1 C8 H8A 109.5
N1 C8 H8B 109.5
H8A C8 H8B 109.5
N1 C8 H8C 109.5
H8A C8 H8C 109.5
H8B C8 H8C 109.5
N2 C9 H9A 109.5
N2 C9 H9B 109.5
H9A C9 H9B 109.5
N2 C9 H9C 109.5
H9A C9 H9C 109.5
H9B C9 H9C 109.5
C1 N1 C2 108.33(11)
C1 N1 C8 125.95(12)
C2 N1 C8 125.68(12)
C1 N2 C7 108.36(11)
C1 N2 C9 126.12(12)
C7 N2 C9 125.49(12)
loop_
_geom_bond_atom_site_label_1
_geom_bond_atom_site_label_2
_geom_bond_distance
O HO1 0.8611
O HO2 0.8612
C1 N1 1.3286(18)
C1 N2 1.3300(18)
C1 H1 0.9300
C2 C3 1.3904(19)
C2 N1 1.3913(17)
C2 C7 1.3944(19)
C3 C4 1.387(2)
C3 H3 0.9300
C4 C5 1.409(2)
C4 H4 0.9300
C5 C6 1.382(2)
C5 H5 0.9300
C6 C7 1.3928(19)
C6 H6 0.9300
C7 N2 1.3885(18)
C8 N1 1.4654(17)
C8 H8A 0.9600
C8 H8B 0.9600
C8 H8C 0.9600
C9 N2 1.4637(18)
C9 H9A 0.9600
C9 H9B 0.9600
C9 H9C 0.9600
