#------------------------------------------------------------------------------
#$Date: 2016-02-19 16:29:56 +0200 (Fri, 19 Feb 2016) $
#$Revision: 176759 $
#$URL: svn://www.crystallography.net/cod/cif/2/00/13/2001320.cif $
#------------------------------------------------------------------------------
#
# This file is available in the Crystallography Open Database (COD),
# http://www.crystallography.net/. The original data for this entry
# were provided by IUCr Journals, http://journals.iucr.org/.
#
# The file may be used within the scientific community so long as
# proper attribution is given to the journal article from which the
# data were obtained.
#
data_2001320
loop_
_publ_author_name
'Kawata, T.'
'Ohba, S.'
'Umehara, M.'
'Honnami, H.'
_publ_section_title
;Three isomers of tricyclo[10.3.0.0^4,9^]pentadecane-2,10-dione, (I), (II) and
 (III), and
 cis-cisoid-cis-9-hydroxy-9-methyltricyclo[9.3.0.0^3,7^]tetradecan-2-one,
 (IV)
;
_journal_issue                   10
_journal_name_full               'Acta Crystallographica Section C'
_journal_page_first              1854
_journal_page_last               1857
_journal_paper_doi               10.1107/S0108270193003750
_journal_volume                  49
_journal_year                    1993
_chemical_formula_sum            'C15 H22 O2'
_chemical_formula_weight         234.3
_symmetry_cell_setting           orthorhombic
_symmetry_space_group_name_Hall  '-P 2ac 2ab'
_symmetry_space_group_name_H-M   'P b c a'
_atom_type_scat_source           IntTabIV
_cell_angle_alpha                90.
_cell_angle_beta                 90.
_cell_angle_gamma                90.
_cell_formula_units_Z            8
_cell_length_a                   13.2500(10)
_cell_length_b                   10.0540(10)
_cell_length_c                   19.4960(10)
_cell_measurement_reflns_used    25
_cell_measurement_temperature    298(2)
_cell_measurement_theta_max      15
_cell_measurement_theta_min      10
_cell_volume                     2597.2(4)
_diffrn_measurement_device       'Rigaku AFC-5 four-circle'
_diffrn_measurement_method       θ-2θ
_diffrn_radiation_type           MoK\a
_diffrn_radiation_wavelength     0.71073
_diffrn_reflns_limit_h_max       17
_diffrn_reflns_limit_h_min       0
_diffrn_reflns_limit_k_max       0
_diffrn_reflns_limit_k_min       -13
_diffrn_reflns_limit_l_max       25
_diffrn_reflns_limit_l_min       0
_diffrn_reflns_number            2986
_diffrn_reflns_theta_max         27.5
_diffrn_standards_decay_%        0.984-1.006
_diffrn_standards_interval_count 100
_diffrn_standards_number         5
_exptl_absorpt_coefficient_mu    0.072
_exptl_absorpt_correction_T_max  0.979
_exptl_absorpt_correction_T_min  0.965
_exptl_absorpt_correction_type   integration
_exptl_crystal_colour            Colourless
_exptl_crystal_density_diffrn    1.199
_exptl_crystal_description       Prism
_exptl_crystal_size_max          0.60
_exptl_crystal_size_mid          0.50
_exptl_crystal_size_min          0.40
_refine_diff_density_max         0.14
_refine_diff_density_min         -0.18
_refine_ls_extinction_method     none
_refine_ls_goodness_of_fit_obs   3.85
_refine_ls_hydrogen_treatment    refall
_refine_ls_number_parameters     243
_refine_ls_number_reflns         1348
_refine_ls_R_factor_obs          0.046
_refine_ls_shift/esd_max         0.207
_refine_ls_structure_factor_coef F
_refine_ls_weighting_details     w=1/σ²
_refine_ls_weighting_scheme      calc
_refine_ls_wR_factor_obs         0.043
_reflns_number_observed          1348
_reflns_number_total             2986
_reflns_observed_criterion       '|F~o~| > 3\s(|F~o~|)'
_cod_data_source_file            oh1027.cif
_cod_data_source_block           oh1027_structure_1_of_4
_cod_depositor_comments
;
The following automatic conversions were performed:

'_refine_ls_weighting_scheme' value 'w=1/\s^2^' was changed to
'calc'. New tag '_refine_ls_weighting_details' was created. The value
of the new tag was set to 'w=1/\s^2^'.

Automatic conversion script
Id: cif_fix_values 3143 2015-03-26 13:38:13Z robertas 
;
_cod_original_cell_volume        2597.2(3)
_cod_database_code               2001320
loop_
_atom_site_label
_atom_site_fract_x
_atom_site_fract_y
_atom_site_fract_z
_atom_site_U_iso_or_equiv
O1 .4427(2) .4233(2) .74850(10) .0611(9)
O2 .6568(2) .6016(2) .78770(10) .0650(10)
C1 .5525(2) .2963(3) .6765(2) .0430(10)
C2 .5033(3) .3320(3) .7439(2) .0460(10)
C3 .5314(3) .2511(3) .8060(2) .0520(10)
C4 .5971(2) .3227(3) .8594(2) .0440(10)
C5 .5446(2) .4328(4) .9005(2) .0530(10)
C6 .6299(3) .5054(4) .9378(2) .064(2)
C7 .7282(3) .4633(4) .9015(2) .0580(10)
C8 .6967(2) .3904(3) .8357(2) .0430(10)
C9 .6824(2) .4872(3) .7767(2) .0450(10)
C10 .7044(2) .4433(3) .7045(2) .0480(10)
C11 .6682(2) .3052(3) .68180(10) .0430(10)
C12 .7151(3) .2652(4) .6126(2) .060(2)
C13 .6730(3) .3441(4) .5521(2) .066(2)
C14 .5598(3) .3314(4) .5486(2) .068(2)
C15 .5110(3) .3738(4) .6156(2) .0620(10)
H1 .535(2) .202(3) .6660(10) ?
H31 .470(2) .220(3) .8290(10) ?
H32 .566(2) .173(3) .7920(10) ?
H4 .617(2) .251(3) .8970(10) ?
H51 .508(2) .494(3) .8700(10) ?
H52 .493(2) .396(3) .9340(10) ?
H61 .621(2) .601(3) .9350(10) ?
H62 .632(2) .485(3) .9890(10) ?
H71 .773(2) .541(3) .8920(10) ?
H72 .768(2) .399(3) .9350(10) ?
H8 .750(2) .323(3) .8240(10) ?
H101 .675(2) .513(3) .6720(10) ?
H102 .777(2) .451(3) .6980(10) ?
H11 .694(2) .235(3) .7170(10) ?
H121 .788(2) .272(3) .6130(10) ?
H122 .701(2) .168(3) .6010(10) ?
H131 .691(2) .440(3) .5560(10) ?
H132 .707(2) .311(3) .5070(10) ?
H141 .532(2) .384(3) .5080(10) ?
H142 .544(2) .237(3) .5390(10) ?
H151 .524(2) .473(3) .6220(10) ?
H152 .440(2) .362(3) .6130(10) ?
loop_
_geom_angle_atom_site_label_1
_geom_angle_atom_site_label_2
_geom_angle_atom_site_label_3
_geom_angle
_geom_angle_publ_flag
C2 C1 C11 111.0(3) no
C2 C1 C15 113.7(3) no
C11 C1 C15 112.4(3) no
O1 C2 C1 121.6(3) no
O1 C2 C3 120.7(3) no
C1 C2 C3 117.7(3) no
C2 C3 C4 115.6(3) no
C3 C4 C5 115.8(3) no
C3 C4 C5 119.0(2) no
C5 C4 C8 102.9(3) no
C4 C5 C6 104.9(3) no
C5 C6 C7 106.0(3) no
C6 C7 C8 106.5(3) no
C4 C8 C7 101.1(2) no
C4 C8 C9 113.6(2) no
C7 C8 C9 111.2(3) no
O2 C9 C8 120.5(3) no
O2 C9 C10 119.7(3) no
C8 C9 C10 119.8(3) no
C9 C10 C11 118.3(3) no
C1 C11 C10 112.6(3) no
C1 C11 C12 109.2(2) no
C10 C11 C12 111.3(3) no
C11 C12 C13 113.2(3) no
C12 C13 C14 110.8(3) no
C13 C14 C15 111.1(3) no
C1 C15 C14 111.9(3) no
loop_
_geom_bond_atom_site_label_1
_geom_bond_atom_site_label_2
_geom_bond_distance
_geom_bond_publ_flag
C1 C11 1.539(4) yes
C4 C8 1.555(4) yes
O1 C2 1.223(4) no
O2 C9 1.218(4) no
C1 C2 1.511(5) no
C1 C15 1.523(5) no
C2 C3 1.505(5) no
C3 C4 1.536(4) no
C4 C5 1.534(5) no
C5 C6 1.530(5) no
C6 C7 1.542(5) no
C7 C8 1.535(4) no
C8 C9 1.519(4) no
C9 C10 1.505(4) no
C10 C11 1.535(5) no
C11 C12 1.539(4) no
C12 C13 1.527(5) no
C13 C14 1.507(5) no
C14 C15 1.518(5) no
loop_
_geom_torsion_atom_site_label_1
_geom_torsion_atom_site_label_2
_geom_torsion_atom_site_label_3
_geom_torsion_atom_site_label_4
_geom_torsion
_geom_torsion_publ_flag
C2 C1 C11 C10 -57.1(3) yes
C3 C4 C8 C9 54.4(4) yes
