#------------------------------------------------------------------------------
#$Date: 2016-02-14 16:26:36 +0200 (Sun, 14 Feb 2016) $
#$Revision: 176435 $
#$URL: svn://www.crystallography.net/cod/cif/2/00/28/2002895.cif $
#------------------------------------------------------------------------------
#
# This file is available in the Crystallography Open Database (COD),
# http://www.crystallography.net/. The original data for this entry
# were provided by IUCr Journals, http://journals.iucr.org/.
#
# The file may be used within the scientific community so long as
# proper attribution is given to the journal article from which the
# data were obtained.
#
data_2002895
loop_
_publ_author_name
'Thompson, John G'
'Withers, Ray L.'
'Melnitchenko, Alexandra'
'Palethorpe, Stephen R.'
_publ_section_title
;
 Cristobalite-Related Phases in the NaAlO₂--NaAlSiO₄ System. I. Two
 Tetragonal and Two Orthorhombic Structures
;
_journal_issue                   5
_journal_name_full               'Acta Crystallographica Section B'
_journal_page_first              531
_journal_page_last               546
_journal_paper_doi               10.1107/S0108768197019927
_journal_volume                  54
_journal_year                    1998
_chemical_formula_sum            'Al1.55 Na1.55 O4 Si0.45'
_chemical_formula_weight         154.09
_chemical_name_systematic        ' ?'
_space_group_IT_number           61
_symmetry_space_group_name_Hall  '-P 2ac 2ab'
_symmetry_space_group_name_H-M   'P b c a'
_cell_angle_alpha                90.0
_cell_angle_beta                 90.0
_cell_angle_gamma                90.0
_cell_formula_units_Z            8
_cell_length_a                   10.3850(10)
_cell_length_b                   14.198(3)
_cell_length_c                   5.1925(6)
_cell_measurement_temperature    293
_cell_volume                     765.6(2)
_diffrn_ambient_temperature      293
_diffrn_measurement_device       'Siemens D-5000'
_diffrn_measurement_method       'profile data from theta/2theta scan'
_diffrn_radiation_monochromator  graphite
_diffrn_radiation_source         'sealed tube'
_diffrn_radiation_type           'Cu K\a'
_diffrn_radiation_wavelength     1.5418
_exptl_crystal_density_diffrn    2.674
_cod_data_source_file            ab0390.cif
_cod_data_source_block           Na1.55Al1.55Si0.45O4
_cod_original_cell_volume        765.7(4)
_cod_original_formula_sum        'Na1.55 Al1.55 Si0.45 O4'
_cod_database_code               2002895
loop_
_symmetry_equiv_pos_as_xyz
x,y,z
1/2-x,-y,1/2+z
-x,1/2+y,1/2-z
1/2+x,1/2-y,-z
-x,-y,-z
1/2+x,y,1/2-z
x,1/2-y,1/2+z
1/2-x,1/2+y,z
loop_
_atom_site_label
_atom_site_fract_x
_atom_site_fract_y
_atom_site_fract_z
_atom_site_U_iso_or_equiv
_atom_site_occupancy
_atom_site_type_symbol
M1 0.9760(10) 0.8090(10) 0.703(3) 0.775 0.058(5) Al
M1 0.9760(10) 0.8090(10) 0.703(3) 0.225 0.058(5) Si
M2 0.2730(10) 0.0620(10) 0.294(3) 0.775 0.058(5) Al
M2 0.2730(10) 0.0620(10) 0.294(3) 0.225 0.058(5) Si
Na1 0.497(8) 0.057(6) 0.667(3) 0.3875 0.114(12) Na
Na2 0.459(9) 0.063(5) 0.836(3) 0.3875 0.114(12) Na
Na3 0.756(9) 0.317(9) 0.189(3) 0.3875 0.114(12) Na
Na4 0.779(9) 0.301(7) 0.278(3) 0.3875 0.114(12) Na
O1 0.072(2) 0.9040(10) 0.770(5) 1.0 0.065(5) O
O2 0.014(3) 0.7880(10) 0.387(4) 1.0 0.065(5) O
O3 0.252(2) 0.9620(10) 0.116(4) 1.0 0.065(5) O
O4 0.825(2) 0.8450(10) 0.795(5) 1.0 0.065(5) O
