#------------------------------------------------------------------------------
#$Date: 2018-07-11 16:43:08 +0300 (Wed, 11 Jul 2018) $
#$Revision: 208975 $
#$URL: file:///home/coder/svn-repositories/cod/cif/2/00/30/2003090.cif $
#------------------------------------------------------------------------------
#
# This file is available in the Crystallography Open Database (COD),
# http://www.crystallography.net/. The original data for this entry
# were provided by IUCr Journals, http://journals.iucr.org/.
#
# The file may be used within the scientific community so long as
# proper attribution is given to the journal article from which the
# data were obtained.
#
data_2003090
loop_
_publ_author_name
'Krebs, Frederik C.'
'Laursen, Bo W.'
'Johannsen, Ib'
'Faldt, André'
'Bechgaard, Klaus'
'Jacobsen, Claus S.'
'Thorup, Niels'
'Boubekeur, Kamal'
_publ_section_title
;
 The geometry and structural properties of the
 4,8,12-trioxa-4,8,12,12c-tetrahydrodibenzo[cd,mn]pyrene system
 in the cationic state. Structures of a planar organic cation with
 various monovalent and divalent anions
;
_journal_coden_ASTM              ASBSDK
_journal_issue                   3
_journal_name_full
;
 Acta Crystallographica, Section B: Structural Science
;
_journal_page_first              410
_journal_page_last               423
_journal_paper_doi               10.1107/S0108768198016140
_journal_volume                  55
_journal_year                    1999
_chemical_formula_moiety         'C19 H9 O3,F6 P'
_chemical_formula_sum            'C19 H9 F6 O3 P'
_chemical_formula_weight         430.23
_chemical_name_systematic
;4,8,12-trioxa-4,8,12,12c-tetrahydro-dibenzo[cd,mn]pyrenium
 hexafluorophosphate
;
_space_group_IT_number           167
_symmetry_cell_setting           trigonal
_symmetry_space_group_name_Hall  '-R 3 2"c'
_symmetry_space_group_name_H-M   'R -3 c :H'
_audit_creation_method           SHELXL
_cell_angle_alpha                90.00
_cell_angle_beta                 90.00
_cell_angle_gamma                120.00
_cell_formula_units_Z            6
_cell_length_a                   13.015(2)
_cell_length_b                   13.015(2)
_cell_length_c                   16.859(3)
_cell_measurement_temperature    220(2)
_cell_volume                     2473.2(7)
_computing_cell_refinement       'SAINT Siemens'
_computing_data_collection       'SMART Siemens'
_computing_data_reduction        'SAINT Siemens'
_computing_molecular_graphics    'SHELXTL (Sheldrick)'
_computing_publication_material  'XCIF (Sheldrick)'
_computing_structure_refinement  'SHELXL-93 (Sheldrick, 1993)'
_computing_structure_solution    'SHELXS-86 (Sheldrick, 1990)'
_diffrn_ambient_temperature      293(2)
_diffrn_measurement_device_type  'Siemens SMART CCD'
_diffrn_measurement_method       'omega scan, frame data integration'
_diffrn_radiation_monochromator  graphite
_diffrn_radiation_source         'fine-focus sealed tube'
_diffrn_radiation_type           MoK\a
_diffrn_radiation_wavelength     0.71073
_diffrn_reflns_av_R_equivalents  0.0570
_diffrn_reflns_av_sigmaI/netI    0.0191
_diffrn_reflns_limit_h_max       16
_diffrn_reflns_limit_h_min       -16
_diffrn_reflns_limit_k_max       16
_diffrn_reflns_limit_k_min       -16
_diffrn_reflns_limit_l_max       21
_diffrn_reflns_limit_l_min       -21
_diffrn_reflns_number            8196
_diffrn_reflns_theta_max         26.36
_diffrn_reflns_theta_min         3.02
_exptl_absorpt_coefficient_mu    0.252
_exptl_absorpt_correction_type   none
_exptl_crystal_colour            orange
_exptl_crystal_density_diffrn    1.733
_exptl_crystal_description       prism
_exptl_crystal_F_000             1296
_exptl_crystal_size_max          0.25
_exptl_crystal_size_mid          0.25
_exptl_crystal_size_min          0.075
_refine_diff_density_max         0.147
_refine_diff_density_min         -0.300
_refine_ls_extinction_method     none
_refine_ls_goodness_of_fit_ref   1.022
_refine_ls_hydrogen_treatment    mixed
_refine_ls_matrix_type           full
_refine_ls_number_parameters     47
_refine_ls_number_reflns         566
_refine_ls_number_restraints     0
_refine_ls_restrained_S_all      1.022
_refine_ls_R_factor_all          0.0593
_refine_ls_R_factor_gt           0.0325
_refine_ls_shift/su_max          -0.010
_refine_ls_structure_factor_coef Fsqd
_refine_ls_weighting_details
'w=1/[σ²(Fo²)+(0.0456P)²+2.6625P] where P=(Fo²+2Fc²)/3'
_refine_ls_weighting_scheme      calc
_refine_ls_wR_factor_ref         0.0993
_reflns_number_observed          380
_reflns_number_total             567
_reflns_observed_criterion       >2sigma(I)
_cod_data_source_file            os0007.cif
_cod_data_source_block           6220K
_cod_depositor_comments
;
The following automatic conversions were performed:

'_refine_ls_weighting_scheme' value 'calc
w=1/[\s^2^(Fo^2^)+(0.0456P)^2^+2.6625P] where P=(Fo^2^+2Fc^2^)/3' was
changed to 'calc'. New tag '_refine_ls_weighting_details' was
created. The value of the new tag was set to
'w=1/[\s^2^(Fo^2^)+(0.0456P)^2^+2.6625P] where P=(Fo^2^+2Fc^2^)/3'.

Automatic conversion script
Id: cif_fix_values 3143 2015-03-26 13:38:13Z robertas 
;
_cod_original_cell_volume        2473.3(7)
_cod_original_sg_symbol_H-M      ' R -3c'
_cod_database_code               2003090
loop_
_symmetry_equiv_pos_as_xyz
'x, y, z'
'-y, x-y, z'
'-x+y, -x, z'
'y, x, -z+1/2'
'x-y, -y, -z+1/2'
'-x, -x+y, -z+1/2'
'x+2/3, y+1/3, z+1/3'
'-y+2/3, x-y+1/3, z+1/3'
'-x+y+2/3, -x+1/3, z+1/3'
'y+2/3, x+1/3, -z+5/6'
'x-y+2/3, -y+1/3, -z+5/6'
'-x+2/3, -x+y+1/3, -z+5/6'
'x+1/3, y+2/3, z+2/3'
'-y+1/3, x-y+2/3, z+2/3'
'-x+y+1/3, -x+2/3, z+2/3'
'y+1/3, x+2/3, -z+7/6'
'x-y+1/3, -y+2/3, -z+7/6'
'-x+1/3, -x+y+2/3, -z+7/6'
'-x, -y, -z'
'y, -x+y, -z'
'x-y, x, -z'
'-y, -x, z-1/2'
'-x+y, y, z-1/2'
'x, x-y, z-1/2'
'-x+2/3, -y+1/3, -z+1/3'
'y+2/3, -x+y+1/3, -z+1/3'
'x-y+2/3, x+1/3, -z+1/3'
'-y+2/3, -x+1/3, z-1/6'
'-x+y+2/3, y+1/3, z-1/6'
'x+2/3, x-y+1/3, z-1/6'
'-x+1/3, -y+2/3, -z+2/3'
'y+1/3, -x+y+2/3, -z+2/3'
'x-y+1/3, x+2/3, -z+2/3'
'-y+1/3, -x+2/3, z+1/6'
'-x+y+1/3, y+2/3, z+1/6'
'x+1/3, x-y+2/3, z+1/6'
loop_
_atom_site_aniso_label
_atom_site_aniso_U_11
_atom_site_aniso_U_22
_atom_site_aniso_U_33
_atom_site_aniso_U_12
_atom_site_aniso_U_13
_atom_site_aniso_U_23
P1 0.0400(5) 0.0400(5) 0.0440(7) 0.0200(2) 0.000 0.000
F1 0.0641(9) 0.0507(8) 0.0674(9) 0.0261(7) -0.0070(7) -0.0167(6)
O1 0.0466(9) 0.067(2) 0.0484(12) 0.0337(8) 0.0019(6) 0.0037(11)
C1 0.042(2) 0.042(2) 0.027(2) 0.0212(8) 0.000 0.000
C2 0.049(2) 0.0452(12) 0.0296(13) 0.0244(9) 0.0009(13) 0.0004(7)
C3 0.0550(15) 0.0521(14) 0.0347(10) 0.0315(11) -0.0003(10) 0.0010(10)
C4 0.083(2) 0.073(2) 0.0432(12) 0.057(2) -0.0062(13) -0.0048(12)
C5 0.104(3) 0.0553(14) 0.049(2) 0.052(2) -0.015(2) -0.0076(10)
loop_
_atom_site_label
_atom_site_fract_x
_atom_site_fract_y
_atom_site_fract_z
_atom_site_U_iso_or_equiv
_atom_site_thermal_displace_type
_atom_site_calc_flag
_atom_site_refinement_flags
_atom_site_occupancy
_atom_site_disorder_group
_atom_site_type_symbol
P1 0.0000 0.0000 0.0000 0.0413(4) Uani d S 1 . P
F1 0.04933(13) 0.11536(11) 0.05450(8) 0.0619(5) Uani d . 1 . F
O1 0.7865(2) 0.0000 0.2500 0.0518(6) Uani d S 1 . O
C1 1.0000 0.0000 0.2500 0.0371(10) Uani d S 1 . C
C2 1.0000 0.1068(2) 0.2500 0.0408(7) Uani d S 1 . C
C3 0.8922(2) 0.1062(2) 0.25163(11) 0.0452(5) Uani d . 1 . C
C4 0.8916(2) 0.2113(2) 0.25375(12) 0.0583(7) Uani d . 1 . C
H4 0.8209 0.2125 0.2576 0.070 Uiso calc . 1 . H
C5 1.0000 0.3157(3) 0.2500 0.0639(11) Uani d S 1 . C
H5 1.0000 0.3872 0.2500 0.077 Uiso calc S 1 . H
loop_
_atom_type_symbol
_atom_type_description
_atom_type_scat_dispersion_real
_atom_type_scat_dispersion_imag
_atom_type_scat_source
C C 0.0033 0.0016 'International Tables Vol C Tables 4.2.6.8 and 6.1.1.4'
H H 0.0000 0.0000 'International Tables Vol C Tables 4.2.6.8 and 6.1.1.4'
O O 0.0106 0.0060 'International Tables Vol C Tables 4.2.6.8 and 6.1.1.4'
F F 0.0171 0.0103 'International Tables Vol C Tables 4.2.6.8 and 6.1.1.4'
P P 0.1023 0.0942 'International Tables Vol C Tables 4.2.6.8 and 6.1.1.4'
loop_
_geom_angle_atom_site_label_1
_geom_angle_atom_site_label_2
_geom_angle_atom_site_label_3
_geom_angle_site_symmetry_1
_geom_angle_site_symmetry_3
_geom_angle
F1 P1 F1 . 21 89.84(7)
F1 P1 F1 . 3 90.16(7)
F1 P1 F1 21 3 180.0
F1 P1 F1 . 19 180.0
F1 P1 F1 21 19 90.16(7)
F1 P1 F1 3 19 89.84(7)
F1 P1 F1 . 2 90.16(7)
F1 P1 F1 21 2 89.84(7)
F1 P1 F1 3 2 90.16(7)
F1 P1 F1 19 2 89.84(7)
F1 P1 F1 . 20 89.84(7)
F1 P1 F1 21 20 90.16(7)
F1 P1 F1 3 20 89.84(7)
F1 P1 F1 19 20 90.16(7)
F1 P1 F1 2 20 180.0
C3 O1 C3 . 5 120.5(2)
C2 C1 C2 2_645 . 120.0
C2 C1 C2 2_645 3_765 120.0
C2 C1 C2 . 3_765 120.0
C1 C2 C3 . 6_765 119.7(2)
C1 C2 C3 . . 119.7(2)
C3 C2 C3 6_765 . 120.7(3)
C4 C3 O1 . . 119.9(2)
C4 C3 C2 . . 120.0(3)
O1 C3 C2 . . 120.1(2)
C3 C4 C5 . . 117.7(3)
C4 C5 C4 . 6_765 123.8(3)
loop_
_geom_bond_atom_site_label_1
_geom_bond_atom_site_label_2
_geom_bond_site_symmetry_2
_geom_bond_distance
P1 F1 . 1.5959(12)
P1 F1 21 1.5959(12)
P1 F1 3 1.5959(12)
P1 F1 19 1.5959(12)
P1 F1 2 1.5959(12)
P1 F1 20 1.5959(12)
O1 C3 . 1.379(3)
O1 C3 5 1.379(3)
C1 C2 2_645 1.391(3)
C1 C2 . 1.391(3)
C1 C2 3_765 1.391(3)
C2 C3 6_765 1.399(2)
C2 C3 . 1.399(2)
C3 C4 . 1.373(3)
C4 C5 . 1.387(3)
C5 C4 6_765 1.387(3)
