#------------------------------------------------------------------------------
#$Date: 2016-02-14 16:26:36 +0200 (Sun, 14 Feb 2016) $
#$Revision: 176435 $
#$URL: svn://www.crystallography.net/cod/cif/2/00/38/2003835.cif $
#------------------------------------------------------------------------------
#
# This file is available in the Crystallography Open Database (COD),
# http://www.crystallography.net/. The original data for this entry
# were provided by IUCr Journals, http://journals.iucr.org/.
#
# The file may be used within the scientific community so long as
# proper attribution is given to the journal article from which the
# data were obtained.
#
data_2003835
loop_
_publ_author_name
'Mansilla-Koblavi, F.'
'Tenon, J. A.'
'Toure, S.'
'Ebby, N.'
'Lapasset, J.'
'Carles, M.'
_publ_section_title
;
 Une Serie de N-(2,3-Dihydroxybenzilidene)amines: Manifestation
 d'Equilibres Tautomères
;
_journal_issue                   8
_journal_name_full               'Acta Crystallographica Section C'
_journal_page_first              1595
_journal_page_last               1602
_journal_paper_doi               10.1107/S0108270194002945
_journal_volume                  51
_journal_year                    1995
_chemical_compound_source        synthesis
_chemical_formula_sum            'C14 H13 N O2'
_chemical_formula_weight         227.3
_symmetry_cell_setting           monoclinic
_symmetry_space_group_name_Hall  '-P 2ybc'
_symmetry_space_group_name_H-M   'P 1 21/c 1'
_atom_type_scat_source           'SHELX76 (Sheldrick, 1976)'
_cell_angle_alpha                90
_cell_angle_beta                 105.16(8)
_cell_angle_gamma                90
_cell_formula_units_Z            4
_cell_length_a                   11.28(5)
_cell_length_b                   7.92(3)
_cell_length_c                   13.45(5)
_cell_measurement_reflns_used    20
_cell_measurement_temperature    298
_cell_measurement_theta_max      14.3
_cell_measurement_theta_min      7.2
_cell_volume                     1160(8)
_diffrn_measurement_device       CAD-3
_diffrn_measurement_method       θ/2θ
_diffrn_radiation_type           MoK\a
_diffrn_radiation_wavelength     0.71069
_diffrn_reflns_av_R_equivalents  0.031
_diffrn_reflns_limit_h_max       15
_diffrn_reflns_limit_h_min       0
_diffrn_reflns_limit_k_max       17
_diffrn_reflns_limit_k_min       0
_diffrn_reflns_limit_l_max       18
_diffrn_reflns_limit_l_min       -18
_diffrn_reflns_number            2663
_diffrn_reflns_theta_max         42
_diffrn_standards_decay_%        0
_diffrn_standards_interval_count 60
_diffrn_standards_number         '1 (\=10,2,7)'
_exptl_absorpt_coefficient_mu    0.082
_exptl_absorpt_correction_type   none
_exptl_crystal_colour            orange-red
_exptl_crystal_density_diffrn    1.30
_exptl_crystal_description       prisme
_exptl_crystal_size_max          0.5
_exptl_crystal_size_mid          0.3
_exptl_crystal_size_min          0.3
_refine_diff_density_max         0.265
_refine_diff_density_min         -0.259
_refine_ls_extinction_method     none
_refine_ls_goodness_of_fit_obs   0.98
_refine_ls_hydrogen_treatment    noref
_refine_ls_number_parameters     154
_refine_ls_number_reflns         1570
_refine_ls_R_factor_obs          0.072
_refine_ls_shift/esd_max         0.025
_refine_ls_structure_factor_coef F
_refine_ls_weighting_scheme      unit
_refine_ls_wR_factor_obs         0.072
_reflns_number_observed          1565
_reflns_number_total             2227
_reflns_observed_criterion       I>2.5\s(I)
_cod_data_source_file            pa1059.cif
_cod_data_source_block           pa1059b
_cod_original_cell_volume        1158(2)
_cod_original_sg_symbol_H-M      'P 21/c'
_cod_original_formula_sum        'C14 H13 N1 O2'
_cod_database_code               2003835
loop_
_atom_site_label
_atom_site_fract_x
_atom_site_fract_y
_atom_site_fract_z
_atom_site_B_iso_or_equiv
C(1) .2122(3) .2577(5) .3460(3) 3.2(3)
C(2) .1989(3) .3674(5) .2610(3) 2.9(2)
C(3) .2948(4) .3724(5) .2104(3) 3.3(3)
C(4) .3981(4) .2734(6) .2438(3) 3.8(3)
C(5) .4110(4) .1657(6) .3279(3) 4.0(3)
C(6) .3193(4) .1572(4) .3790(3) 3.8(3)
C(7) .1168(4) .2497(5) .4001(3) 3.2(3)
C(8) -.0745(3) .3323(5) .4281(3) 2.9(2)
C(9) -.0599(4) .2513(6) .5221(3) 3.6(3)
C(10) -.1571(4) .2502(6) .5693(3) 3.5(3)
C(11) -.2679(4) .3304(5) .5250(3) 3.3(3)
C(12) -.2816(4) .4122(6) .4314(3) 3.7(3)
C(13) -.1862(4) .4142(6) .3831(3) 3.7(3)
C(14) -.3715(4) .3267(6) .5789(3) 4.2(3)
N .0181(3) .3399(4) .3732(2) 2.9(2)
O(2) .1027(2) .4701(4) .2261(2) 3.7(2)
O(3) .2830(3) .4792(4) .1274(2) 4.8(3)
H(2) .0429 .4590 .2612 ?
H(3) .2237 .5785 .1327 ?
H(4) .4661 .2813 .2098 ?
H(5) .4851 .0888 .3500 ?
H(6) .3229 .0765 .4388 ?
H(7) .1283 .1644 .4566 ?
H(9) .0193 .2018 .5567 ?
H(10) -.1387 .1994 .6398 ?
H(12) -.3641 .4728 .3975 ?
H(13) -.1957 .4754 .3167 ?
H(141) -.3469 .2725 .6415 ?
H(142) -.4197 .4362 .5651 ?
H(143) -.4365 .2534 .5403 ?
loop_
_geom_angle_atom_site_label_1
_geom_angle_atom_site_label_2
_geom_angle_atom_site_label_3
_geom_angle
_geom_angle_publ_flag
C(6) C(1) C(2) 120.3(3) no
C(7) C(1) C(2) 119.8(4) no
C(7) C(1) C(6) 120.1(4) no
C(3) C(2) C(1) 118.2(4) no
O(2) C(2) C(1) 124.2(3) no
O(2) C(2) C(3) 117.6(4) no
C(4) C(3) C(2) 120.8(4) no
O(3) C(3) C(2) 118.7(4) no
O(3) C(3) C(4) 120.5(3) no
C(5) C(4) C(3) 120.8(4) no
C(6) C(5) C(4) 120.0(4) no
C(5) C(6) C(1) 120.2(4) no
N C(7) C(1) 122.2(4) no
C(8) N C(7) 121.6(4) no
C(9) C(8) C(13) 119.0(3) no
C(9) C(8) N 124.2(3) no
C(13) C(8) N 116.8(3) no
C(8) C(9) C(10) 119.6(4) no
C(9) C(10) C(11) 121.6(4) no
C(10) C(11) C(12) 118.4(3) no
C(10) C(11) C(14) 120.1(4) no
C(12) C(11) C(14) 121.5(4) no
C(11) C(12) C(13) 119.6(7) no
loop_
_geom_bond_atom_site_label_1
_geom_bond_atom_site_label_2
_geom_bond_distance
_geom_bond_publ_flag
C(1) C(2) 1.412(5) no
C(2) C(3) 1.421(5) no
C(3) C(4) 1.378(6) no
C(4) C(5) 1.393(6) no
C(5) C(6) 1.385(5) no
C(6) C(1) 1.417(6) no
C(1) C(7) 1.450(5) no
C(7) N 1.292(5) no
N C(8) 1.430(4) no
C(8) C(9) 1.388(5) no
C(9) C(10) 1.403(5) no
C(10) C(11) 1.390(5) no
C(11) C(12) 1.388(6) no
C(12) C(13) 1.394(5) no
C(13) C(8) 1.406(5) no
C(11) C(14) 1.527(5) no
C(2) O(2) 1.338(4) no
O(2) H(2) 0.923(2) no
N H(N) 1.071(3) no
C(3) O(3) 1.378(5) no
O(3) H(3) 1.046(3) no
loop_
_geom_torsion_atom_site_label_1
_geom_torsion_atom_site_label_2
_geom_torsion_atom_site_label_3
_geom_torsion_atom_site_label_4
_geom_torsion
_geom_torsion_publ_flag
C(1) C(2) O(2) H(2) -3 no
C(2) C(3) O(3) H(3) 25 no
C(2) C(1) C(7) N 0 no
C(1) C(7) N C(8) -179 no
C(7) N C(8) C(9) 11 no
C(7) N C(8) C(13) -170 no
