#------------------------------------------------------------------------------
#$Date: 2016-02-19 16:29:56 +0200 (Fri, 19 Feb 2016) $
#$Revision: 176759 $
#$URL: svn://www.crystallography.net/cod/cif/2/00/43/2004335.cif $
#------------------------------------------------------------------------------
#
# This file is available in the Crystallography Open Database (COD),
# http://www.crystallography.net/. The original data for this entry
# were provided by IUCr Journals, http://journals.iucr.org/.
#
# The file may be used within the scientific community so long as
# proper attribution is given to the journal article from which the
# data were obtained.
#
data_2004335
loop_
_publ_author_name
'Laknifli, A.'
'Pierrot, M.'
'Chanon, F.'
'Chanon, M.'
_publ_section_title
;
 5-tert-Butylthiazolidine-2-thione and
 5-Phenylthiazolidine-2-thione
;
_journal_issue                   1
_journal_name_full               'Acta Crystallographica Section C'
_journal_page_first              215
_journal_page_last               218
_journal_paper_doi               10.1107/S0108270195010699
_journal_volume                  52
_journal_year                    1996
_chemical_formula_sum            'C9 H9 N S2'
_chemical_formula_weight         195.31
_space_group_IT_number           61
_symmetry_cell_setting           orthorhombic
_symmetry_space_group_name_Hall  '-P 2ac 2ab'
_symmetry_space_group_name_H-M   'P b c a'
_atom_type_scat_source           IntTabIV
_cell_angle_alpha                90
_cell_angle_beta                 90
_cell_angle_gamma                90
_cell_formula_units_Z            8
_cell_length_a                   10.480(3)
_cell_length_b                   8.926(3)
_cell_length_c                   19.503(6)
_cell_measurement_reflns_used    25
_cell_measurement_temperature    293
_cell_measurement_theta_max      16
_cell_measurement_theta_min      14
_cell_volume                     1824.4(10)
_diffrn_measurement_device       'Enraf-Nonius CAD-4'
_diffrn_measurement_method       'θ/2θ scans'
_diffrn_radiation_type           MoK\a
_diffrn_radiation_wavelength     0.71073
_diffrn_reflns_av_R_equivalents  0.032
_diffrn_reflns_limit_h_max       12
_diffrn_reflns_limit_h_min       0
_diffrn_reflns_limit_k_max       10
_diffrn_reflns_limit_k_min       0
_diffrn_reflns_limit_l_max       22
_diffrn_reflns_limit_l_min       0
_diffrn_reflns_number            1876
_diffrn_reflns_theta_max         25
_diffrn_standards_decay_%        1.8
_diffrn_standards_interval_time  3600
_diffrn_standards_number         3
_exptl_absorpt_coefficient_mu    0.502
_exptl_absorpt_correction_type   none
_exptl_crystal_colour            colourless
_exptl_crystal_density_diffrn    1.422
_exptl_crystal_density_method    none
_exptl_crystal_description       'pectangular prism'
_exptl_crystal_size_max          0.6
_exptl_crystal_size_mid          0.5
_exptl_crystal_size_min          0.3
_refine_diff_density_max         0.546
_refine_diff_density_min         -0.612
_refine_ls_extinction_method     none
_refine_ls_goodness_of_fit_obs   1.223
_refine_ls_hydrogen_treatment    noref
_refine_ls_number_parameters     109
_refine_ls_number_reflns         1118
_refine_ls_R_factor_obs          0.038
_refine_ls_shift/esd_max         0.03
_refine_ls_structure_factor_coef F
_refine_ls_weighting_details     w=1/σ²(F)
_refine_ls_weighting_scheme      calc
_refine_ls_wR_factor_obs         0.040
_reflns_number_observed          1118
_reflns_number_total             1636
_reflns_observed_criterion       I>3\s(I)
_cod_data_source_file            ab1284.cif
_cod_data_source_block           II
_cod_depositor_comments
;
The following automatic conversions were performed:

'_refine_ls_weighting_scheme' value ' w=1/\s^2^(F)' was changed to
'calc'. New tag '_refine_ls_weighting_details' was created. The value
of the new tag was set to 'w=1/\s^2^(F)'.

Automatic conversion script
Id: cif_fix_values 3143 2015-03-26 13:38:13Z robertas 
;
_cod_original_cell_volume        1824(2)
_cod_database_code               2004335
loop_
_symmetry_equiv_pos_as_xyz
x,y,z
1/2+x,y,1/2-z
x,1/2-y,1/2+z
1/2-x,1/2+y,z
-x,-y,-z
1/2-x,-y,1/2+z
-x,1/2+y,1/2-z
1/2+x,1/2-y,-z
loop_
_atom_site_label
_atom_site_fract_x
_atom_site_fract_y
_atom_site_fract_z
_atom_site_B_iso_or_equiv
S1 0.8876(1) 0.0725(1) 0.59895(5) 3.70(2)
S2 0.6969(1) -0.0363(1) 0.49656(6) 4.09(2)
C2 0.8217(3) -0.0666(4) 0.5470(2) 2.91(7)
N3 0.8877(3) -0.1924(3) 0.5525(1) 3.26(6)
C7 0.9961(4) -0.0639(4) 0.7733(2) 3.82(8)
C5 0.9884(4) -0.0607(4) 0.6452(2) 3.27(7)
C4 1.0034(4) -0.1891(4) 0.5940(2) 3.67(8)
C11 0.8253(4) -0.1928(5) 0.7189(2) 4.02(8)
C9 0.8432(4) -0.1988(5) 0.8412(2) 4.42(9)
C6 0.9341(3) -0.1049(4) 0.7138(2) 3.07(7)
C10 0.7809(4) -0.2391(5) 0.7823(2) 4.54(9)
C8 0.9508(4) -0.1100(5) 0.8369(2) 4.53(9)
H7 1.0733 -0.0032 0.7702 4
H8 0.9949 -0.0784 0.8782 4
H9 0.8123 -0.2317 0.8854 4
H10 0.7065 -0.3025 0.7857 4
H11 0.7796 -0.2244 0.6776 4
H41 1.0778 -0.1743 0.5654 4
H42 1.0155 -0.2827 0.6178 4
H52 1.0727 -0.0185 0.6534 4
H3 0.8601 -0.2827 0.5305 4
loop_
_geom_angle_atom_site_label_1
_geom_angle_atom_site_label_2
_geom_angle_atom_site_label_3
_geom_angle
_geom_angle_publ_flag
C2 S1 C5 93.0(2) no
S1 C2 S2 122.7(2) no
S2 C2 N3 126.8(3) no
C2 N3 C4 117.6(3) no
N3 C4 C5 107.0(3) no
C4 C5 S1 103.0(2) no
S1 C2 N3 110.5(3) no
C6 C7 C8 120.8(4) no
S1 C5 C6 113.0(3) no
C4 C5 C6 115.0(3) no
C6 C11 C10 120.7(4) no
C10 C9 C8 119.3(4) no
C7 C6 C5 120.0(3) no
C7 C6 C11 118.4(3) no
C5 C6 C11 121.5(3) no
C11 C10 C9 120.7(4) no
C7 C8 C9 120.2(4) no
loop_
_geom_bond_atom_site_label_1
_geom_bond_atom_site_label_2
_geom_bond_distance
_geom_bond_publ_flag
S1 C2 1.745(3) no
S1 C5 1.829(4) no
S2 C2 1.659(4) no
N3 C2 1.323(4) no
N3 C4 1.458(5) no
C4 C5 1.529(5) no
C7 C6 1.380(5) no
C7 C8 1.390(5) no
C5 C6 1.505(5) no
C11 C6 1.388(5) no
C11 C10 1.384(6) no
C9 C10 1.370(6) no
C9 C8 1.381(6) no
