#------------------------------------------------------------------------------
#$Date: 2016-02-14 16:26:36 +0200 (Sun, 14 Feb 2016) $
#$Revision: 176435 $
#$URL: svn://www.crystallography.net/cod/cif/2/00/98/2009837.cif $
#------------------------------------------------------------------------------
#
# This file is available in the Crystallography Open Database (COD),
# http://www.crystallography.net/. The original data for this entry
# were provided by IUCr Journals, http://journals.iucr.org/.
#
# The file may be used within the scientific community so long as
# proper attribution is given to the journal article from which the
# data were obtained.
#
data_2009837
loop_
_publ_author_name
'Fackler, J. P.'
'Staples, R. J.'
'Khan, M. N. I.'
'Winpenny, R. E. P.'
_publ_section_title
;
 Two crystalline polymorphs of
 chloro[tris(2-cyanoethyl)phosphine]gold(I), [AuCl(C₉H₁₂N₃P)]
;
_journal_issue                   7
_journal_name_full               'Acta Crystallographica Section C'
_journal_page_first              1020
_journal_page_last               1023
_journal_paper_doi               10.1107/S0108270193013472
_journal_volume                  50
_journal_year                    1994
_chemical_formula_sum            'C9 H12 Au Cl N3 P'
_chemical_formula_weight         425.44
_symmetry_cell_setting           monoclinic
_symmetry_space_group_name_Hall  '-P 2ybc'
_symmetry_space_group_name_H-M   'P 1 21/c 1'
_atom_type_scat_source           IntTabIV
_cell_angle_alpha                90.
_cell_angle_beta                 99.82(6)
_cell_angle_gamma                90.
_cell_formula_units_Z            4
_cell_length_a                   8.556(6)
_cell_length_b                   7.970(6)
_cell_length_c                   19.030(10)
_cell_measurement_reflns_used    25
_cell_measurement_temperature    298
_cell_measurement_theta_max      15
_cell_measurement_theta_min      10
_cell_volume                     1278.7(15)
_diffrn_measurement_device       R3m/E
_diffrn_measurement_method       Wyckoff
_diffrn_radiation_type           Mo
_diffrn_radiation_wavelength     0.71073
_diffrn_reflns_av_R_equivalents  .0284
_diffrn_reflns_limit_h_max       9
_diffrn_reflns_limit_h_min       -9
_diffrn_reflns_limit_k_max       9
_diffrn_reflns_limit_k_min       0
_diffrn_reflns_limit_l_max       20
_diffrn_reflns_limit_l_min       0
_diffrn_reflns_number            1953
_diffrn_reflns_theta_max         22.5
_diffrn_standards_decay_%        none
_diffrn_standards_interval_count 97
_diffrn_standards_number         3
_exptl_absorpt_coefficient_mu    11.79
_exptl_absorpt_correction_T_max  0.921
_exptl_absorpt_correction_T_min  0.461
_exptl_absorpt_correction_type   empirical
_exptl_crystal_colour            colorless
_exptl_crystal_density_diffrn    2.21
_refine_diff_density_max         0.72
_refine_diff_density_min         -1.37
_refine_ls_goodness_of_fit_obs   1.25
_refine_ls_hydrogen_treatment    noref
_refine_ls_number_parameters     136
_refine_ls_number_reflns         1299
_refine_ls_R_factor_obs          0.0314
_refine_ls_shift/esd_max         0.009
_refine_ls_structure_factor_coef F
_refine_ls_weighting_details     'w = 1/[σ²(Fₒ) + 0.00072Fₒ²]'
_refine_ls_weighting_scheme      calc
_refine_ls_wR_factor_obs         0.0324
_reflns_number_observed          1299
_reflns_number_total             1642
_reflns_observed_criterion       F~o~^2^>3\s(F~o~)^2^
_cod_data_source_file            bk1000.cif
_cod_data_source_block           bk1000_structure_2_of_2
_cod_depositor_comments
;
The following automatic conversions were performed:

'_refine_ls_weighting_scheme' value '1/[\s^2^(F~o~) +
0.00072F~o~^2^]' was changed to 'calc'. New tag
'_refine_ls_weighting_details' was created. The value of the new tag
was set to 'w = 1/[\s^2^(F~o~) + 0.00072F~o~^2^]'.

Automatic conversion script
Id: cif_fix_values 3143 2015-03-26 13:38:13Z robertas 
;
_cod_original_cell_volume        1278(2)
_cod_original_sg_symbol_H-M      'P 21/c'
_cod_original_formula_sum        'C9 H12 Au1 Cl1 N3 P1'
_cod_database_code               2009837
loop_
_atom_site_label
_atom_site_fract_x
_atom_site_fract_y
_atom_site_fract_z
_atom_site_U_iso_or_equiv
Au 1.04680(10) .25610(10) .40770(10) .0310(10)
Cl 1.3107(3) .3321(4) .43850(10) .0490(10)
P(1) .7947(3) .1721(3) .37460(10) .0300(10)
N(1) .9784(12) .2388(11) .5848(5) .065(4)
N(2) 1.1509(14) .0640(16) .2597(6) .089(5)
N(3) .4933(14) .7409(10) .3425(5) .065(4)
C(1) .7145(11) .0542(11) .4437(5) .041(4)
C(2) .7026(11) .1425(11) .5133(5) .038(3)
C(3) .8573(12) .1974(12) .5532(5) .040(3)
C(4) .7661(11) .0272(11) .2989(4) .038(3)
C(5) .8425(12) .0825(13) .2352(5) .046(4)
C(6) 1.0178(15) .0718(14) .2503(6) .055(4)
C(7) .6526(10) .3416(11) .3442(4) .033(3)
C(8) .6867(12) .5017(11) .3877(5) .044(4)
C(9) .5748(11) .6359(11) .3621(5) .038(2)
H(1a) .7810 -.0424 .4553 .052
H(1b) .6095 .0186 .4231 .052
H(2a) .6553 .0667 .5428 .043
H(2b) .6360 .2393 .5027 .043
H(4a) .6542 .0150 .2826 .047
H(4b) .8106 -.0793 .3152 .047
H(5a) .8127 .1966 .2236 .059
H(5b) .8039 .0115 .1953 .059
H(7a) .5478 .3036 .3479 .040
H(7b) .6576 .3665 .2952 .040
H(8a) .7921 .5390 .3848 .055
H(8b) .6795 .4778 .4365 .055
loop_
_geom_angle_atom_site_label_1
_geom_angle_atom_site_label_2
_geom_angle_atom_site_label_3
_geom_angle
_geom_angle_publ_flag
Cl Au P(1) 177.10(10) yes
Au P(1) C(4) 113.8(3) yes
Au P(1) C(7) 114.9(3) yes
C(4) P(1) C(7) 102.9(4) yes
C(1) C(2) C(3) 113.5(8) yes
P(1) C(4) C(5) 114.9(6) yes
N(2) C(6) C(5) 177.9(13) yes
C(7) C(8) C(9) 112.2(7) yes
Au P(1) C(1) 114.1(3) yes
C(1) P(1) C(4) 102.9(4) yes
C(1) P(1) C(7) 107.0(4) yes
P(1) C(1) C(2) 118.3(6) yes
N(1) C(3) C(2) 179.3(9) yes
C(4) C(5) C(6) 112.6(8) yes
P(1) C(7) C(8) 112.9(6) yes
N(3) C(9) C(8) 178.0(11) yes
loop_
_geom_bond_atom_site_label_1
_geom_bond_atom_site_label_2
_geom_bond_distance
_geom_bond_publ_flag
Au Cl 2.315(2) yes
P(1) C(1) 1.842(10) yes
P(1) C(7) 1.843(8) yes
N(2) C(6) 1.124(18) yes
C(1) C(2) 1.518(13) yes
C(4) C(5) 1.536(14) yes
C(7) C(8) 1.522(12) yes
Au P(1) 2.243(2) yes
P(1) C(4) 1.830(9) yes
N(1) C(3) 1.154(13) yes
N(3) C(9) 1.112(13) yes
C(2) C(3) 1.475(12) yes
C(5) C(6) 1.480(16) yes
C(8) C(9) 1.463(13) yes
