#------------------------------------------------------------------------------
#$Date: 2016-02-19 16:29:56 +0200 (Fri, 19 Feb 2016) $
#$Revision: 176759 $
#$URL: svn://www.crystallography.net/cod/cif/2/00/99/2009904.cif $
#------------------------------------------------------------------------------
#
# This file is available in the Crystallography Open Database (COD),
# http://www.crystallography.net/. The original data for this entry
# were provided by IUCr Journals, http://journals.iucr.org/.
#
# The file may be used within the scientific community so long as
# proper attribution is given to the journal article from which the
# data were obtained.
#
data_2009904
loop_
_publ_author_name
'Irngartinger, H.'
'Lichenthäler, J.'
_publ_section_title
;
 Three tetramethylketals of 2,5-distyryl-[1,4]benzoquinones
;
_journal_issue                   7
_journal_name_full               'Acta Crystallographica Section C'
_journal_page_first              1154
_journal_page_last               1156
_journal_paper_doi               10.1107/S0108270193011503
_journal_volume                  50
_journal_year                    1994
_chemical_formula_sum            'C26 H26 Cl2 O4'
_chemical_formula_weight         473.4
_symmetry_cell_setting           monoclinic
_symmetry_space_group_name_Hall  '-P 2ybc'
_symmetry_space_group_name_H-M   'P 1 21/c 1'
_atom_type_scat_source           IntTabIV
_cell_angle_alpha                90.
_cell_angle_beta                 94.52(4)
_cell_angle_gamma                90.
_cell_formula_units_Z            2
_cell_length_a                   12.732(2)
_cell_length_b                   10.3180(10)
_cell_length_c                   9.0140(10)
_cell_measurement_reflns_used    48
_cell_measurement_temperature    293
_cell_measurement_theta_max      18
_cell_measurement_theta_min      9
_cell_volume                     1180.5(3)
_diffrn_measurement_device       'Enraf-Nonius CAD-4'
_diffrn_measurement_method       ω/2θ
_diffrn_radiation_type           MoK\a
_diffrn_radiation_wavelength     0.7107
_diffrn_reflns_av_R_equivalents  0.076
_diffrn_reflns_limit_h_max       16
_diffrn_reflns_limit_h_min       0
_diffrn_reflns_limit_k_max       13
_diffrn_reflns_limit_k_min       0
_diffrn_reflns_limit_l_max       11
_diffrn_reflns_limit_l_min       -11
_diffrn_reflns_number            3105
_diffrn_reflns_theta_max         28
_diffrn_standards_decay_%        1.6
_diffrn_standards_interval_time  60
_diffrn_standards_number         3
_exptl_absorpt_coefficient_mu    0.303
_exptl_absorpt_correction_T_max  0.92
_exptl_absorpt_correction_T_min  0.90
_exptl_absorpt_correction_type   'analytical integration'
_exptl_crystal_colour            colourless
_exptl_crystal_density_diffrn    1.33
_exptl_crystal_description       platelets
_exptl_crystal_size_max          0.5
_exptl_crystal_size_mid          0.5
_exptl_crystal_size_min          0.4
_refine_diff_density_max         0.28
_refine_diff_density_min         -0.09
_refine_ls_extinction_method     none
_refine_ls_goodness_of_fit_obs   2.32
_refine_ls_hydrogen_treatment    refall
_refine_ls_number_parameters     197
_refine_ls_number_reflns         1774
_refine_ls_R_factor_obs          0.045
_refine_ls_shift/esd_max         0.03
_refine_ls_structure_factor_coef Fsqd
_refine_ls_weighting_details     'w = 1/[σ(Fₒ)²]'
_refine_ls_weighting_scheme      calc
_refine_ls_wR_factor_obs         0.056
_reflns_number_observed          1774
_reflns_number_total             2818
_reflns_observed_criterion       I>2.5\s(I)
_cod_data_source_file            se1044.cif
_cod_data_source_block           se1044_structure_2_of_3
_cod_depositor_comments
;
The following automatic conversions were performed:

'_refine_ls_weighting_scheme' value '1/[\s(F~o~)^2^]' was changed to
'calc'. New tag '_refine_ls_weighting_details' was created. The value
of the new tag was set to 'w = 1/[\s(F~o~)^2^]'.

Automatic conversion script
Id: cif_fix_values 3143 2015-03-26 13:38:13Z robertas 
;
_cod_original_cell_volume        1180.5(4)
_cod_original_sg_symbol_H-M      'P 21/c'
_cod_database_code               2009904
loop_
_atom_site_label
_atom_site_fract_x
_atom_site_fract_y
_atom_site_fract_z
_atom_site_U_iso_or_equiv
Cl .07270(10) .18760(10) .69470(10) .0821(4)
O1 -.50520(10) .41400(10) -.27800(10) .0495(7)
O2 -.62740(10) .33380(10) -.1512(2) .0490(7)
C1 -.4200(2) .4393(2) .1022(2) .0362(9)
C2 -.4605(2) .3756(2) -.0181(2) .0402(9)
C3 -.5425(2) .4235(2) -.1340(2) .0392(9)
C4 -.3390(2) .3769(2) .2037(2) .0406(10)
C5 -.2871(2) .4285(2) .3226(2) .0428(10)
C6 -.2034(2) .3641(2) .4177(2) .0405(10)
C7 -.1800(2) .2323(2) .4086(3) .0524(12)
C8 -.0971(2) .1773(2) .4948(3) .0580(12)
C9 -.0357(2) .2541(2) .5912(2) .0511(11)
C10 -.0575(2) .3830(2) .6061(3) .0600(13)
C11 -.1418(2) .4369(2) .5211(2) .0559(12)
C12 -.4242(2) .5021(3) -.3089(3) .0608(13)
C13 -.6876(2) .3191(3) -.0271(3) .0689(14)
H2 -.435(2) .284(2) -.038(2) .00060(10)
H4 -.323(2) .288(2) .175(2) .00050(10)
H5 -.301(2) .514(2) .350(2) .00060(10)
H7 -.221(2) .177(2) .338(3) .00080(10)
H8 -.085(2) .089(2) .486(3) .00080(10)
H10 -.020(2) .425(2) .674(3) .00070(10)
H11 -.161(2) .536(2) .532(3) .00080(10)
H12A -.361(2) .488(2) -.247(3) .00090(10)
H12B -.407(2) .482(2) -.404(3) .00070(10)
H12C -.448(2) .595(3) -.297(3) .00080(10)
H13A -.745(2) .259(3) -.060(3) .00090(10)
H13B -.726(2) .401(3) .002(3) .00090(10)
H13C -.648(2) .284(3) .058(3) .00090(10)
loop_
_geom_bond_atom_site_label_1
_geom_bond_atom_site_label_2
_geom_bond_distance
_geom_bond_publ_flag
C1 C2 1.336(3) yes
C1 C3' 1.528(3) yes
C2 C3 1.501(3) yes
C1 C4 1.472(3) yes
C4 C5 1.325(3) yes
C5 C6 1.472(3) yes
O1 C3 1.420(2) yes
O2 C3 1.422(2) yes
O1 C12 1.419(3) yes
O2 C13 1.413(3) yes
Cl C9 1.745(2) no
C6 C7 1.396(3) no
C6 C11 1.390(3) no
C7 C8 1.382(3) no
C8 C9 1.373(3) no
C9 C10 1.367(3) no
C10 C11 1.385(3) no
C2 H2 1.02(2) no
C4 H4 0.98(2) no
C5 H5 0.94(2) no
C7 H7 0.98(2) no
C8 H8 0.93(3) no
C10 H10 0.86(2) no
C11 H11 1.06(3) no
C12 H12A 0.95(3) no
C12 H12B 0.93(2) no
C12 H12C 1.02(3) no
C13 H13A 0.99(3) no
C13 H13B 1.02(3) no
C13 H13C 0.96(3) no
