#------------------------------------------------------------------------------
#$Date: 2017-10-13 03:48:21 +0300 (Fri, 13 Oct 2017) $
#$Revision: 201957 $
#$URL: file:///home/coder/svn-repositories/cod/cif/2/01/50/2015071.cif $
#------------------------------------------------------------------------------
#
# This file is available in the Crystallography Open Database (COD),
# http://www.crystallography.net/. The original data for this entry
# were provided by IUCr Journals, http://journals.iucr.org/.
#
# The file may be used within the scientific community so long as
# proper attribution is given to the journal article from which the
# data were obtained.
#
data_2015071
loop_
_publ_author_name
'Delgado, Paula'
'Quiroga, Jairo'
'Cobo, Justo'
'Low, John N.'
'Glidewell, Christopher'
_publ_section_title
;
 Supramolecular structures of four
 (Z)-5-arylmethylene-2-thioxothiazolidin-4-ones: hydrogen-bonded
 dimers, chains of rings and sheets
;
_journal_coeditor_code           SK1860
_journal_issue                   8
_journal_name_full               'Acta Crystallographica Section C'
_journal_page_first              o477
_journal_page_last               o482
_journal_paper_doi               10.1107/S0108270105021888
_journal_volume                  61
_journal_year                    2005
_chemical_formula_iupac          'C11 H9 N O2 S2'
_chemical_formula_moiety         'C11 H9 N O2 S2'
_chemical_formula_sum            'C11 H9 N O2 S2'
_chemical_formula_weight         251.31
_chemical_name_systematic
;
(Z)-5-(4-methoxybenzylidenene)-2-thioxothiazolidin-4-one
;
_space_group_IT_number           14
_symmetry_cell_setting           monoclinic
_symmetry_space_group_name_Hall  '-P 2ybc'
_symmetry_space_group_name_H-M   'P 1 21/c 1'
_atom_sites_solution_hydrogens   geom
_atom_sites_solution_primary     direct
_atom_sites_solution_secondary   difmap
_cell_angle_alpha                90.00
_cell_angle_beta                 91.702(2)
_cell_angle_gamma                90.00
_cell_formula_units_Z            4
_cell_length_a                   5.1314(2)
_cell_length_b                   10.4543(5)
_cell_length_c                   20.5324(9)
_cell_measurement_reflns_used    2515
_cell_measurement_temperature    120(2)
_cell_measurement_theta_max      27.49
_cell_measurement_theta_min      3.56
_cell_volume                     1100.98(8)
_computing_cell_refinement
'DENZO (Otwinowski & Minor, 1997) and COLLECT'
_computing_data_collection       'COLLECT (Hooft, 1999)'
_computing_data_reduction        'DENZO and COLLECT'
_computing_molecular_graphics    'PLATON (Spek, 2003)'
_computing_publication_material  'SHELXL97 and PRPKAPPA (Ferguson, 1999)'
_computing_structure_refinement  'OSCAIL and SHELXL97 (Sheldrick, 1997)'
_computing_structure_solution
'OSCAIL (McArdle, 2003) and SHELXS97 (Sheldrick, 1997)'
_diffrn_ambient_temperature      120(2)
_diffrn_detector_area_resol_mean 9.091
_diffrn_measured_fraction_theta_full 0.996
_diffrn_measured_fraction_theta_max 0.996
_diffrn_measurement_device_type  'Nonius KappaCCD'
_diffrn_measurement_method       'φ and ω scans'
_diffrn_radiation_monochromator  graphite
_diffrn_radiation_source         'Bruker-Nonius FR91 rotating anode'
_diffrn_radiation_type           'Mo K\a'
_diffrn_radiation_wavelength     0.71073
_diffrn_reflns_av_R_equivalents  0.0407
_diffrn_reflns_av_sigmaI/netI    0.0407
_diffrn_reflns_limit_h_max       6
_diffrn_reflns_limit_h_min       -6
_diffrn_reflns_limit_k_max       13
_diffrn_reflns_limit_k_min       -13
_diffrn_reflns_limit_l_max       26
_diffrn_reflns_limit_l_min       -26
_diffrn_reflns_number            11472
_diffrn_reflns_theta_full        27.49
_diffrn_reflns_theta_max         27.49
_diffrn_reflns_theta_min         3.56
_diffrn_standards_decay_%        nil
_exptl_absorpt_coefficient_mu    0.465
_exptl_absorpt_correction_T_max  0.963
_exptl_absorpt_correction_T_min  0.820
_exptl_absorpt_correction_type   multi-scan
_exptl_absorpt_process_details   '(SADABS; Sheldrick,  2003)'
_exptl_crystal_colour            orange
_exptl_crystal_density_diffrn    1.516
_exptl_crystal_density_method    'not measured'
_exptl_crystal_description       plate
_exptl_crystal_F_000             520
_exptl_crystal_size_max          0.44
_exptl_crystal_size_mid          0.18
_exptl_crystal_size_min          0.08
_refine_diff_density_max         0.325
_refine_diff_density_min         -0.396
_refine_ls_extinction_method     none
_refine_ls_goodness_of_fit_ref   1.044
_refine_ls_hydrogen_treatment    constr
_refine_ls_matrix_type           full
_refine_ls_number_parameters     146
_refine_ls_number_reflns         2515
_refine_ls_number_restraints     0
_refine_ls_restrained_S_all      1.044
_refine_ls_R_factor_all          0.0557
_refine_ls_R_factor_gt           0.0379
_refine_ls_shift/su_max          0.001
_refine_ls_shift/su_mean         0.000
_refine_ls_structure_factor_coef Fsqd
_refine_ls_weighting_details
'w=1/[σ²(Fo²)+(0.0494P)²+0.5614P] where P=(Fo²+2Fc²)/3'
_refine_ls_weighting_scheme      calc
_refine_ls_wR_factor_gt          0.0952
_refine_ls_wR_factor_ref         0.1030
_reflns_number_gt                1958
_reflns_number_total             2515
_reflns_threshold_expression     I>2σ(I)
_cod_data_source_file            sk1860.cif
_cod_data_source_block           IV
_cod_original_sg_symbol_H-M      'P 21/c'
_cod_database_code               2015071
_cod_database_fobs_code          2015071
loop_
_symmetry_equiv_pos_as_xyz
'x, y, z'
'-x, y+1/2, -z+1/2'
'-x, -y, -z'
'x, -y+1/2, z+1/2'
loop_
_atom_site_label
_atom_site_fract_x
_atom_site_fract_y
_atom_site_fract_z
_atom_site_U_iso_or_equiv
_atom_site_adp_type
_atom_site_calc_flag
_atom_site_refinement_flags
_atom_site_occupancy
_atom_site_disorder_assembly
_atom_site_disorder_group
_atom_site_type_symbol
S1 0.49040(10) 0.17896(5) 0.47167(2) 0.02484(16) Uani d . 1 . . S
S2 0.89918(11) 0.13208(6) 0.57546(3) 0.03460(18) Uani d . 1 . . S
O4 0.7371(3) 0.52015(13) 0.44266(6) 0.0243(3) Uani d . 1 . . O
O41 -0.4757(3) 0.13838(14) 0.23331(7) 0.0289(4) Uani d . 1 . . O
N3 0.8353(3) 0.34500(16) 0.50587(8) 0.0217(4) Uani d . 1 . . N
C2 0.7597(4) 0.2233(2) 0.52071(9) 0.0236(4) Uani d . 1 . . C
C4 0.6926(4) 0.4095(2) 0.45883(9) 0.0209(4) Uani d . 1 . . C
C5 0.4813(4) 0.32790(19) 0.43189(9) 0.0206(4) Uani d . 1 . . C
C6 0.3223(4) 0.3718(2) 0.38385(9) 0.0214(4) Uani d . 1 . . C
C61 0.1093(4) 0.31024(19) 0.34746(9) 0.0201(4) Uani d . 1 . . C
C62 0.0401(4) 0.1812(2) 0.35433(10) 0.0250(5) Uani d . 1 . . C
C63 -0.1566(4) 0.1284(2) 0.31633(10) 0.0259(5) Uani d . 1 . . C
C64 -0.2914(4) 0.2021(2) 0.26983(10) 0.0232(4) Uani d . 1 . . C
C41 -0.6230(4) 0.2108(2) 0.18543(10) 0.0285(5) Uani d . 1 . . C
C65 -0.2320(4) 0.3311(2) 0.26308(10) 0.0230(4) Uani d . 1 . . C
C66 -0.0328(4) 0.3832(2) 0.30149(9) 0.0215(4) Uani d . 1 . . C
H3 0.9755 0.3802 0.5266 0.026 Uiso d R 1 . . H
H6 0.3542 0.4578 0.3715 0.026 Uiso calc R 1 . . H
H41A -0.7233 0.2772 0.2072 0.043 Uiso calc R 1 . . H
H41B -0.7424 0.1537 0.1613 0.043 Uiso calc R 1 . . H
H41C -0.5035 0.2509 0.1552 0.043 Uiso calc R 1 . . H
H62 0.1306 0.1297 0.3857 0.030 Uiso calc R 1 . . H
H63 -0.2012 0.0410 0.3218 0.031 Uiso calc R 1 . . H
H65 -0.3268 0.3827 0.2326 0.028 Uiso calc R 1 . . H
H66 0.0089 0.4711 0.2965 0.026 Uiso calc R 1 . . H
loop_
_atom_site_aniso_label
_atom_site_aniso_U_11
_atom_site_aniso_U_22
_atom_site_aniso_U_33
_atom_site_aniso_U_12
_atom_site_aniso_U_13
_atom_site_aniso_U_23
S1 0.0261(3) 0.0233(3) 0.0248(3) -0.0072(2) -0.0057(2) 0.0024(2)
S2 0.0380(3) 0.0304(3) 0.0348(3) -0.0062(2) -0.0090(2) 0.0080(3)
O4 0.0291(8) 0.0212(8) 0.0223(7) -0.0057(6) -0.0054(6) 0.0014(6)
O41 0.0276(8) 0.0265(8) 0.0317(8) -0.0030(6) -0.0121(6) -0.0050(7)
N3 0.0216(8) 0.0225(9) 0.0206(8) -0.0059(7) -0.0047(7) 0.0002(7)
C2 0.0231(10) 0.0260(11) 0.0217(10) -0.0032(8) 0.0005(8) -0.0013(8)
C4 0.0206(10) 0.0241(11) 0.0181(9) -0.0012(8) 0.0005(8) -0.0034(8)
C5 0.0219(10) 0.0200(10) 0.0198(9) -0.0042(8) 0.0014(8) -0.0013(8)
C6 0.0223(10) 0.0199(10) 0.0220(10) -0.0020(8) 0.0011(8) -0.0033(8)
C61 0.0205(9) 0.0203(10) 0.0195(9) -0.0012(8) 0.0009(7) -0.0033(8)
C62 0.0269(10) 0.0243(11) 0.0234(10) -0.0002(9) -0.0060(8) -0.0004(8)
C63 0.0286(11) 0.0187(10) 0.0299(11) -0.0029(9) -0.0051(9) -0.0031(9)
C64 0.0205(10) 0.0262(11) 0.0226(10) -0.0014(8) -0.0018(8) -0.0072(8)
C41 0.0267(11) 0.0342(13) 0.0240(10) -0.0019(9) -0.0081(9) -0.0045(9)
C65 0.0218(10) 0.0264(11) 0.0206(10) 0.0022(8) -0.0017(8) -0.0001(8)
C66 0.0244(10) 0.0193(10) 0.0208(10) -0.0017(8) 0.0001(8) -0.0023(8)
loop_
_atom_type_symbol
_atom_type_description
_atom_type_scat_dispersion_real
_atom_type_scat_dispersion_imag
_atom_type_scat_source
C C 0.0033 0.0016 'International Tables Vol C Tables 4.2.6.8 and 6.1.1.4'
H H 0.0000 0.0000 'International Tables Vol C Tables 4.2.6.8 and 6.1.1.4'
N N 0.0061 0.0033 'International Tables Vol C Tables 4.2.6.8 and 6.1.1.4'
O O 0.0106 0.0060 'International Tables Vol C Tables 4.2.6.8 and 6.1.1.4'
S S 0.1246 0.1234 'International Tables Vol C Tables 4.2.6.8 and 6.1.1.4'
loop_
_geom_angle_atom_site_label_1
_geom_angle_atom_site_label_2
_geom_angle_atom_site_label_3
_geom_angle
_geom_angle_publ_flag
C2 S1 C5 92.42(10) no
N3 C2 S2 125.36(15) no
N3 C2 S1 110.07(14) no
S2 C2 S1 124.57(13) no
C2 N3 C4 117.73(16) no
C2 N3 H3 120.0 no
C4 N3 H3 122.2 no
O4 C4 N3 123.68(18) no
O4 C4 C5 125.78(18) no
N3 C4 C5 110.54(17) no
C6 C5 C4 120.14(18) no
C6 C5 S1 130.64(16) no
C4 C5 S1 109.21(14) no
C5 C6 C61 131.07(19) no
C5 C6 H6 114.5 no
C61 C6 H6 114.5 no
C66 C61 C62 117.57(18) no
C66 C61 C6 118.22(18) no
C62 C61 C6 124.19(18) no
C63 C62 C61 120.88(19) no
C63 C62 H62 119.6 no
C61 C62 H62 119.6 no
C62 C63 C64 120.6(2) no
C62 C63 H63 119.7 no
C64 C63 H63 119.7 no
O41 C64 C65 124.70(19) no
O41 C64 C63 115.42(18) no
C65 C64 C63 119.87(18) no
C64 O41 C41 117.45(16) no
O41 C41 H41A 109.5 no
O41 C41 H41B 109.5 no
H41A C41 H41B 109.5 no
O41 C41 H41C 109.5 no
H41A C41 H41C 109.5 no
H41B C41 H41C 109.5 no
C66 C65 C64 119.02(19) no
C66 C65 H65 120.5 no
C64 C65 H65 120.5 no
C65 C66 C61 122.03(19) no
C65 C66 H66 119.0 no
C61 C66 H66 119.0 no
loop_
_geom_bond_atom_site_label_1
_geom_bond_atom_site_label_2
_geom_bond_site_symmetry_2
_geom_bond_distance
_geom_bond_publ_flag
S1 C2 . 1.748(2) no
S1 C5 . 1.758(2) no
C2 N3 . 1.367(3) no
C2 S2 . 1.624(2) no
N3 C4 . 1.372(2) no
N3 H3 . 0.9034 no
C4 O4 . 1.227(2) no
C4 C5 . 1.474(3) no
C5 C6 . 1.342(3) no
C6 C61 . 1.455(3) no
C6 H6 . 0.95 no
C61 C66 . 1.401(3) no
C61 C62 . 1.403(3) no
C62 C63 . 1.373(3) no
C62 H62 . 0.95 no
C63 C64 . 1.394(3) no
C63 H63 . 0.95 no
C64 O41 . 1.363(2) no
C64 C65 . 1.391(3) no
O41 C41 . 1.438(2) no
C41 H41A . 0.98 no
C41 H41B . 0.98 no
C41 H41C . 0.98 no
C65 C66 . 1.384(3) no
C65 H65 . 0.95 no
C66 H66 . 0.95 no
loop_
_geom_hbond_atom_site_label_D
_geom_hbond_atom_site_label_H
_geom_hbond_atom_site_label_A
_geom_hbond_site_symmetry_A
_geom_hbond_distance_DH
_geom_hbond_distance_HA
_geom_hbond_distance_DA
_geom_hbond_angle_DHA
_geom_hbond_publ_flag
N3 H3 O4 3_766 0.90 1.90 2.789(2) 169 n
C62 H62 S1 . 0.95 2.57 3.288(2) 133 n
C62 H62 S2 3_656 0.95 2.86 3.588(2) 135 n
loop_
_geom_torsion_atom_site_label_1
_geom_torsion_atom_site_label_2
_geom_torsion_atom_site_label_3
_geom_torsion_atom_site_label_4
_geom_torsion
_geom_torsion_publ_flag
C5 S1 C2 N3 -0.60(15) no
C5 S1 C2 S2 179.75(14) no
S2 C2 N3 C4 -178.99(15) no
S1 C2 N3 C4 1.4(2) no
C2 N3 C4 O4 177.91(18) no
C2 N3 C4 C5 -1.5(2) no
O4 C4 C5 C6 2.3(3) no
N3 C4 C5 C6 -178.28(17) no
O4 C4 C5 S1 -178.47(16) no
N3 C4 C5 S1 1.0(2) no
C2 S1 C5 C6 178.9(2) no
C2 S1 C5 C4 -0.20(15) no
C4 C5 C6 C61 177.17(18) no
S1 C5 C6 C61 -1.9(3) no
C5 C6 C61 C66 176.8(2) no
C5 C6 C61 C62 -4.7(3) no
C66 C61 C62 C63 1.2(3) no
C6 C61 C62 C63 -177.29(19) no
C61 C62 C63 C64 0.2(3) no
C62 C63 C64 O41 177.61(19) no
C62 C63 C64 C65 -1.9(3) no
C65 C64 O41 C41 -1.5(3) no
C63 C64 O41 C41 178.99(17) no
O41 C64 C65 C66 -177.37(18) no
C63 C64 C65 C66 2.1(3) no
C64 C65 C66 C61 -0.7(3) no
C62 C61 C66 C65 -1.0(3) no
C6 C61 C66 C65 177.59(18) no
loop_
_cod_related_entry_id
_cod_related_entry_database
_cod_related_entry_code
1 ChemSpider 1042558
