#------------------------------------------------------------------------------
#$Date: 2017-10-13 03:48:21 +0300 (Fri, 13 Oct 2017) $
#$Revision: 201957 $
#$URL: file:///home/coder/svn-repositories/cod/cif/2/01/64/2016479.cif $
#------------------------------------------------------------------------------
#
# This file is available in the Crystallography Open Database (COD),
# http://www.crystallography.net/. The original data for this entry
# were provided by IUCr Journals, http://journals.iucr.org/.
#
# The file may be used within the scientific community so long as
# proper attribution is given to the journal article from which the
# data were obtained.
#
data_2016479
loop_
_publ_author_name
'Trilleras, Jorge'
'Low, John N.'
'Cobo, Justo'
'Marchal, Antonio'
'Glidewell, Christopher'
_publ_section_title
;
 Four products from the cyanoacetylation of pyrimidines:
 hydrogen-bonded dimers, π-stacked hydrogen-bonded chains and
 hydrogen-bonded chains of edge-fused rings
;
_journal_coeditor_code           GA3078
_journal_issue                   3
_journal_name_full               'Acta Crystallographica Section C'
_journal_page_first              o149
_journal_page_last               o154
_journal_paper_doi               10.1107/S0108270108003557
_journal_volume                  64
_journal_year                    2008
_chemical_formula_iupac          'C9 H10 N4 O3'
_chemical_formula_moiety         'C9 H10 N4 O3'
_chemical_formula_sum            'C9 H10 N4 O3'
_chemical_formula_weight         222.21
_chemical_name_systematic
;
2-(6-amino-1,3-dimethyl-2,4-dioxo-1,2,3,4-tetrahydropyrimidin-5-
ylcarbonyl)acetonitrile
;
_space_group_IT_number           15
_symmetry_cell_setting           monoclinic
_symmetry_space_group_name_Hall  '-C 2yc'
_symmetry_space_group_name_H-M   'C 1 2/c 1'
_atom_sites_solution_hydrogens   geom
_atom_sites_solution_primary     direct
_atom_sites_solution_secondary   difmap
_cell_angle_alpha                90.00
_cell_angle_beta                 116.956(7)
_cell_angle_gamma                90.00
_cell_formula_units_Z            8
_cell_length_a                   22.488(3)
_cell_length_b                   5.0709(5)
_cell_length_c                   18.6139(17)
_cell_measurement_reflns_used    2171
_cell_measurement_temperature    120(2)
_cell_measurement_theta_max      27.51
_cell_measurement_theta_min      3.83
_cell_volume                     1892.0(4)
_computing_cell_refinement       'DIRAX/LSQ (Duisenberg et al.,  2000)'
_computing_data_collection       'COLLECT (Nonius, 1999)'
_computing_data_reduction        'EVALCCD (Duisenberg et al.,  2003)'
_computing_molecular_graphics    'PLATON (Spek, 2003)'
_computing_publication_material
'SHELXL97 (Sheldrick, 2008) and PRPKAPPA (Ferguson, 1999)'
_computing_structure_refinement
'OSCAIL (McArdle, 2003) and SHELXL97 (Sheldrick, 2008)'
_computing_structure_solution    'SIR2004 (Burla et al.,  2005)'
_diffrn_ambient_temperature      120(2)
_diffrn_detector_area_resol_mean 9.091
_diffrn_measured_fraction_theta_full 0.998
_diffrn_measured_fraction_theta_max 0.998
_diffrn_measurement_device_type  'Bruker Nonius KappaCCD'
_diffrn_measurement_method       'φ and ω scans'
_diffrn_radiation_monochromator  graphite
_diffrn_radiation_source         'Bruker Nonius FR591 rotating anode'
_diffrn_radiation_type           'Mo K\a'
_diffrn_radiation_wavelength     0.71073
_diffrn_reflns_av_R_equivalents  0.0421
_diffrn_reflns_av_sigmaI/netI    0.0240
_diffrn_reflns_limit_h_max       28
_diffrn_reflns_limit_h_min       -28
_diffrn_reflns_limit_k_max       6
_diffrn_reflns_limit_k_min       -6
_diffrn_reflns_limit_l_max       24
_diffrn_reflns_limit_l_min       -24
_diffrn_reflns_number            20693
_diffrn_reflns_theta_full        27.51
_diffrn_reflns_theta_max         27.51
_diffrn_reflns_theta_min         3.83
_diffrn_standards_decay_%        0
_diffrn_standards_number         0
_exptl_absorpt_coefficient_mu    0.121
_exptl_absorpt_correction_T_max  0.990
_exptl_absorpt_correction_T_min  0.952
_exptl_absorpt_correction_type   multi-scan
_exptl_absorpt_process_details   '(SADABS; Sheldrick, 2003)'
_exptl_crystal_colour            yellow
_exptl_crystal_density_diffrn    1.560
_exptl_crystal_density_method    'not measured'
_exptl_crystal_description       plate
_exptl_crystal_F_000             928
_exptl_crystal_size_max          0.44
_exptl_crystal_size_mid          0.31
_exptl_crystal_size_min          0.08
_refine_diff_density_max         0.334
_refine_diff_density_min         -0.308
_refine_ls_extinction_method     none
_refine_ls_goodness_of_fit_ref   1.129
_refine_ls_hydrogen_treatment    constr
_refine_ls_matrix_type           full
_refine_ls_number_parameters     147
_refine_ls_number_reflns         2171
_refine_ls_number_restraints     0
_refine_ls_restrained_S_all      1.129
_refine_ls_R_factor_all          0.0733
_refine_ls_R_factor_gt           0.0482
_refine_ls_shift/su_max          0.000
_refine_ls_shift/su_mean         0.000
_refine_ls_structure_factor_coef Fsqd
_refine_ls_weighting_details
'w = 1/[σ²(Fo²)+(0.0634P)²+2.0582P] where P=(Fo²+2Fc²)/3'
_refine_ls_weighting_scheme      calc
_refine_ls_wR_factor_gt          0.1168
_refine_ls_wR_factor_ref         0.1363
_reflns_number_gt                1603
_reflns_number_total             2171
_reflns_threshold_expression     I>2σ(I)
_cod_data_source_file            ga3078.cif
_cod_data_source_block           II
_cod_original_sg_symbol_H-M      'C 2/c'
_cod_database_code               2016479
_cod_database_fobs_code          2016479
loop_
_symmetry_equiv_pos_as_xyz
'x, y, z'
'-x, y, -z+1/2'
'x+1/2, y+1/2, z'
'-x+1/2, y+1/2, -z+1/2'
'-x, -y, -z'
'x, -y, z-1/2'
'-x+1/2, -y+1/2, -z'
'x+1/2, -y+1/2, z-1/2'
loop_
_atom_site_type_symbol
_atom_site_label
_atom_site_fract_x
_atom_site_fract_y
_atom_site_fract_z
_atom_site_U_iso_or_equiv
_atom_site_adp_type
_atom_site_calc_flag
_atom_site_refinement_flags
_atom_site_occupancy
O O2 0.69274(7) 0.9978(3) 0.72376(8) 0.0280(3) Uani d . 1
O O4 0.71908(6) 0.5298(3) 0.53324(8) 0.0253(3) Uani d . 1
O O51 0.55262(7) 0.0760(3) 0.48546(8) 0.0298(3) Uani d . 1
N N1 0.61700(7) 0.6740(3) 0.65906(8) 0.0209(3) Uani d . 1
N N3 0.70333(7) 0.7731(3) 0.62494(8) 0.0196(3) Uani d . 1
N N6 0.54059(7) 0.3452(3) 0.59615(9) 0.0240(4) Uani d . 1
N N54 0.57387(8) -0.2473(3) 0.34920(10) 0.0299(4) Uani d . 1
C C2 0.67293(9) 0.8262(3) 0.67273(10) 0.0205(4) Uani d . 1
C C4 0.68496(9) 0.5683(3) 0.56851(10) 0.0193(4) Uani d . 1
C C5 0.62672(8) 0.4180(3) 0.55553(10) 0.0187(4) Uani d . 1
C C6 0.59369(8) 0.4762(3) 0.60310(10) 0.0192(4) Uani d . 1
C C11 0.58251(10) 0.7358(4) 0.70790(11) 0.0260(4) Uani d . 1
C C31 0.76370(9) 0.9255(4) 0.64153(11) 0.0232(4) Uani d . 1
C C51 0.60227(9) 0.2107(3) 0.49680(11) 0.0209(4) Uani d . 1
C C52 0.63546(9) 0.1489(4) 0.44328(10) 0.0217(4) Uani d . 1
C C53 0.60076(9) -0.0734(4) 0.39029(11) 0.0233(4) Uani d . 1
H H6A 0.5216 0.3723 0.6265 0.029 Uiso d R 1
H H6B 0.5257 0.2196 0.5614 0.029 Uiso d R 1
H H11A 0.5371 0.7958 0.6726 0.039 Uiso calc R 1
H H11B 0.6068 0.8753 0.7466 0.039 Uiso calc R 1
H H11C 0.5807 0.5776 0.7371 0.039 Uiso calc R 1
H H31A 0.7570 1.1098 0.6520 0.035 Uiso calc R 1
H H31B 0.7728 0.9165 0.5948 0.035 Uiso calc R 1
H H31C 0.8016 0.8519 0.6888 0.035 Uiso calc R 1
H H52A 0.6335 0.3054 0.4105 0.026 Uiso calc R 1
H H52B 0.6829 0.1033 0.4771 0.026 Uiso calc R 1
loop_
_atom_site_aniso_label
_atom_site_aniso_U_11
_atom_site_aniso_U_22
_atom_site_aniso_U_33
_atom_site_aniso_U_12
_atom_site_aniso_U_13
_atom_site_aniso_U_23
O2 0.0305(7) 0.0294(7) 0.0248(7) -0.0073(6) 0.0130(6) -0.0073(6)
O4 0.0249(7) 0.0286(7) 0.0276(7) -0.0052(5) 0.0164(6) -0.0041(5)
O51 0.0295(7) 0.0320(8) 0.0354(8) -0.0112(6) 0.0213(6) -0.0119(6)
N1 0.0213(8) 0.0244(8) 0.0185(7) -0.0014(6) 0.0105(6) -0.0022(6)
N3 0.0189(7) 0.0214(8) 0.0181(7) -0.0027(6) 0.0080(6) -0.0003(6)
N6 0.0238(8) 0.0265(8) 0.0262(8) -0.0058(6) 0.0154(7) -0.0054(6)
N54 0.0315(9) 0.0321(9) 0.0278(8) -0.0030(7) 0.0149(7) -0.0060(7)
C2 0.0213(9) 0.0199(8) 0.0181(8) 0.0003(7) 0.0071(7) 0.0016(7)
C4 0.0208(8) 0.0206(8) 0.0159(8) 0.0009(7) 0.0078(7) 0.0018(7)
C5 0.0189(8) 0.0198(8) 0.0187(8) -0.0001(7) 0.0097(7) 0.0006(7)
C6 0.0190(8) 0.0206(9) 0.0172(8) 0.0012(7) 0.0074(7) 0.0022(7)
C11 0.0285(10) 0.0298(10) 0.0246(9) -0.0038(8) 0.0164(8) -0.0050(8)
C31 0.0220(9) 0.0243(9) 0.0227(9) -0.0033(7) 0.0097(7) -0.0004(7)
C51 0.0202(9) 0.0224(9) 0.0211(8) -0.0008(7) 0.0103(7) 0.0014(7)
C52 0.0230(9) 0.0223(9) 0.0212(9) -0.0018(7) 0.0112(7) -0.0012(7)
C53 0.0253(9) 0.0276(10) 0.0219(9) 0.0016(8) 0.0149(8) 0.0016(8)
loop_
_atom_type_symbol
_atom_type_description
_atom_type_scat_dispersion_real
_atom_type_scat_dispersion_imag
_atom_type_scat_source
C C 0.0033 0.0016 'International Tables Vol C Tables 4.2.6.8 and 6.1.1.4'
H H 0.0000 0.0000 'International Tables Vol C Tables 4.2.6.8 and 6.1.1.4'
N N 0.0061 0.0033 'International Tables Vol C Tables 4.2.6.8 and 6.1.1.4'
O O 0.0106 0.0060 'International Tables Vol C Tables 4.2.6.8 and 6.1.1.4'
loop_
_geom_angle_atom_site_label_1
_geom_angle_atom_site_label_2
_geom_angle_atom_site_label_3
_geom_angle
_geom_angle_publ_flag
C6 N1 C2 123.13(14) no
C6 N1 C11 119.96(15) no
C2 N1 C11 116.92(14) no
C2 N3 C4 124.58(15) no
C2 N3 C31 116.46(14) no
C4 N3 C31 118.60(14) no
C6 N6 H6A 123.5 no
C6 N6 H6B 118.2 no
H6A N6 H6B 118.2 no
O2 C2 N3 122.26(16) no
O2 C2 N1 121.28(16) no
N3 C2 N1 116.46(15) no
O4 C4 N3 118.32(15) no
O4 C4 C5 124.55(16) no
N3 C4 C5 117.13(15) no
C6 C5 C51 119.95(15) no
C6 C5 C4 118.61(15) no
C51 C5 C4 121.44(15) no
N6 C6 N1 117.44(15) no
N6 C6 C5 122.65(16) no
N1 C6 C5 119.91(15) no
N1 C11 H11A 109.5 no
N1 C11 H11B 109.5 no
H11A C11 H11B 109.5 no
N1 C11 H11C 109.5 no
H11A C11 H11C 109.5 no
H11B C11 H11C 109.5 no
N3 C31 H31A 109.5 no
N3 C31 H31B 109.5 no
H31A C31 H31B 109.5 no
N3 C31 H31C 109.5 no
H31A C31 H31C 109.5 no
H31B C31 H31C 109.5 no
O51 C51 C5 122.46(16) no
O51 C51 C52 116.39(15) no
C5 C51 C52 121.14(15) no
C53 C52 C51 109.19(14) no
C53 C52 H52A 109.8 no
C51 C52 H52A 109.8 no
C53 C52 H52B 109.8 no
C51 C52 H52B 109.8 no
H52A C52 H52B 108.3 no
N54 C53 C52 179.7(3) no
loop_
_geom_bond_atom_site_label_1
_geom_bond_atom_site_label_2
_geom_bond_distance
_geom_bond_publ_flag
O2 C2 1.214(2) no
O4 C4 1.231(2) no
O51 C51 1.243(2) no
N1 C6 1.368(2) no
N1 C2 1.397(2) no
N1 C11 1.472(2) no
N3 C2 1.372(2) no
N3 C4 1.400(2) no
N3 C31 1.468(2) no
N6 C6 1.320(2) no
N6 H6A 0.86 no
N6 H6B 0.86 no
N54 C53 1.144(2) no
C4 C5 1.438(2) no
C5 C6 1.421(2) no
C5 C51 1.434(2) no
C11 H11A 0.98 no
C11 H11B 0.98 no
C11 H11C 0.98 no
C31 H31A 0.98 no
C31 H31B 0.98 no
C31 H31C 0.98 no
C51 C52 1.524(2) no
C52 C53 1.468(3) no
C52 H52A 0.99 no
C52 H52B 0.99 no
loop_
_geom_hbond_atom_site_label_D
_geom_hbond_atom_site_label_H
_geom_hbond_atom_site_label_A
_geom_hbond_site_symmetry_A
_geom_hbond_distance_DH
_geom_hbond_distance_HA
_geom_hbond_distance_DA
_geom_hbond_angle_DHA
_geom_hbond_publ_flag
N6 H6A N54 5_656 0.86 2.47 3.206(2) 144 no
N6 H6B O51 . 0.86 1.92 2.586(2) 134 no
N6 H6B O51 5_656 0.86 2.17 2.894(2) 141 no
C52 H52B O4 7_656 0.99 2.40 3.227(2) 141 no
loop_
_geom_torsion_atom_site_label_1
_geom_torsion_atom_site_label_2
_geom_torsion_atom_site_label_3
_geom_torsion_atom_site_label_4
_geom_torsion
_geom_torsion_publ_flag
C4 N3 C2 O2 176.18(16) no
C31 N3 C2 O2 3.2(2) no
C4 N3 C2 N1 -4.6(2) no
C31 N3 C2 N1 -177.55(14) no
C6 N1 C2 O2 -178.93(16) no
C11 N1 C2 O2 1.5(3) no
C6 N1 C2 N3 1.8(2) no
C11 N1 C2 N3 -177.79(15) no
C2 N3 C4 O4 -175.09(16) no
C31 N3 C4 O4 -2.3(2) no
C2 N3 C4 C5 5.3(2) no
C31 N3 C4 C5 178.16(15) no
O4 C4 C5 C6 177.22(16) no
N3 C4 C5 C6 -3.2(2) no
O4 C4 C5 C51 -2.0(3) no
N3 C4 C5 C51 177.57(15) no
C2 N1 C6 N6 179.59(16) no
C11 N1 C6 N6 -0.8(2) no
C2 N1 C6 C5 -0.1(3) no
C11 N1 C6 C5 179.50(15) no
C51 C5 C6 N6 0.4(3) no
C4 C5 C6 N6 -178.84(16) no
C51 C5 C6 N1 -179.95(15) no
C4 C5 C6 N1 0.8(2) no
C6 C5 C51 O51 -0.3(3) no
C4 C5 C51 O51 178.93(17) no
C6 C5 C51 C52 178.27(15) no
C4 C5 C51 C52 -2.5(3) no
O51 C51 C52 C53 -2.2(2) no
C5 C51 C52 C53 179.14(15) no
loop_
_cod_related_entry_id
_cod_related_entry_database
_cod_related_entry_code
1 ChemSpider 1765628
