#------------------------------------------------------------------------------
#$Date: 2017-10-13 08:28:26 +0300 (Fri, 13 Oct 2017) $
#$Revision: 201972 $
#$URL: file:///home/coder/svn-repositories/cod/cif/2/10/02/2100271.cif $
#------------------------------------------------------------------------------
#
# This file is available in the Crystallography Open Database (COD),
# http://www.crystallography.net/. The original data for this entry
# were provided by IUCr Journals, http://journals.iucr.org/.
#
# The file may be used within the scientific community so long as
# proper attribution is given to the journal article from which the
# data were obtained.
#
data_2100271
loop_
_publ_author_name
'Nichol, Gary S.'
'Clegg, William'
_publ_section_title
;
 A variable-temperature study of a phase transition in barbituric acid
 dihydrate
;
_journal_coeditor_code           WS5026
_journal_issue                   4
_journal_name_full               'Acta Crystallographica Section B'
_journal_page_first              464
_journal_page_last               472
_journal_paper_doi               10.1107/S0108768105017258
_journal_volume                  61
_journal_year                    2005
_chemical_formula_moiety         'C4 H4 N2 O3, 2 H2 O'
_chemical_formula_sum            'C4 H8 N2 O5'
_chemical_formula_weight         164.12
_chemical_name_systematic
;
 ?
;
_space_group_IT_number           14
_symmetry_cell_setting           monoclinic
_symmetry_space_group_name_Hall  '-P 2yn'
_symmetry_space_group_name_H-M   'P 1 21/n 1'
_atom_sites_solution_hydrogens   mixed
_atom_sites_solution_primary     direct
_atom_sites_solution_secondary   difmap
_audit_creation_method           SHELXL-97
_cell_angle_alpha                90.00
_cell_angle_beta                 93.437(2)
_cell_angle_gamma                90.00
_cell_formula_units_Z            4
_cell_length_a                   6.1130(8)
_cell_length_b                   12.7149(16)
_cell_length_c                   8.8564(11)
_cell_measurement_reflns_used    4632
_cell_measurement_temperature    150(2)
_cell_measurement_theta_max      28.2
_cell_measurement_theta_min      2.31
_cell_volume                     687.14(15)
_computing_cell_refinement       'Bruker SAINT'
_computing_data_collection       'Bruker SMART'
_computing_data_reduction        'Bruker SAINT'
_computing_molecular_graphics    'Bruker SHELXTL'
_computing_publication_material  'Bruker SHELXTL and local programs'
_computing_structure_refinement  'Bruker SHELXTL'
_computing_structure_solution    'Bruker SHELXTL'
_diffrn_ambient_temperature      150(2)
_diffrn_measured_fraction_theta_full 0.996
_diffrn_measured_fraction_theta_max 0.952
_diffrn_measurement_device_type  'Bruker SMART 1K CCD diffractometer'
_diffrn_measurement_method       'thin-slice ω scans'
_diffrn_radiation_monochromator  graphite
_diffrn_radiation_source         'sealed tube'
_diffrn_radiation_type           MoK\a
_diffrn_radiation_wavelength     0.71073
_diffrn_reflns_av_R_equivalents  0.0285
_diffrn_reflns_av_sigmaI/netI    0.0082
_diffrn_reflns_limit_h_max       7
_diffrn_reflns_limit_h_min       -7
_diffrn_reflns_limit_k_max       16
_diffrn_reflns_limit_k_min       -16
_diffrn_reflns_limit_l_max       11
_diffrn_reflns_limit_l_min       -11
_diffrn_reflns_number            8078
_diffrn_reflns_theta_full        26.00
_diffrn_reflns_theta_max         28.26
_diffrn_reflns_theta_min         2.81
_diffrn_standards_number         0
_exptl_absorpt_coefficient_mu    0.147
_exptl_absorpt_correction_T_max  0.9783
_exptl_absorpt_correction_T_min  0.8609
_exptl_absorpt_correction_type   multi-scan
_exptl_absorpt_process_details   'TWINABS; Sheldrick (2002)'
_exptl_crystal_colour            colourless
_exptl_crystal_density_diffrn    1.586
_exptl_crystal_density_method    'not measured'
_exptl_crystal_description       block
_exptl_crystal_F_000             344
_exptl_crystal_size_max          0.53
_exptl_crystal_size_mid          0.42
_exptl_crystal_size_min          0.15
_refine_diff_density_max         0.377
_refine_diff_density_min         -0.343
_refine_ls_extinction_method     none
_refine_ls_goodness_of_fit_ref   1.264
_refine_ls_hydrogen_treatment    mixed
_refine_ls_matrix_type           full
_refine_ls_number_parameters     120
_refine_ls_number_reflns         2212
_refine_ls_number_restraints     0
_refine_ls_restrained_S_all      1.264
_refine_ls_R_factor_all          0.0518
_refine_ls_R_factor_gt           0.0505
_refine_ls_shift/su_max          0.009
_refine_ls_shift/su_mean         0.000
_refine_ls_structure_factor_coef Fsqd
_refine_ls_weighting_details
'calc w=1/[σ²(Fo²)+(0.0334P)²+0.5782P] where P=(Fo²+2Fc²)/3'
_refine_ls_weighting_scheme      calc
_refine_ls_wR_factor_gt          0.1307
_refine_ls_wR_factor_ref         0.1315
_reflns_number_gt                2148
_reflns_number_total             2212
_reflns_threshold_expression     >2sigma(I)
_cod_data_source_file            ws5026.cif
_cod_data_source_block           150
_cod_original_sg_symbol_H-M      'P 21/n'
_cod_database_code               2100271
loop_
_symmetry_equiv_pos_as_xyz
'x, y, z'
'-x+1/2, y+1/2, -z+1/2'
'-x, -y, -z'
'x-1/2, -y-1/2, z-1/2'
loop_
_atom_site_label
_atom_site_fract_x
_atom_site_fract_y
_atom_site_fract_z
_atom_site_U_iso_or_equiv
_atom_site_adp_type
_atom_site_calc_flag
_atom_site_refinement_flags
_atom_site_occupancy
_atom_site_disorder_assembly
_atom_site_disorder_group
_atom_site_type_symbol
O1 0.2458(3) 0.55201(11) 0.47617(15) 0.0247(4) Uani d . 1 . . O
O2 0.2348(3) 0.44163(11) 0.95867(15) 0.0236(4) Uani d . 1 . . O
O3 0.2937(3) 0.79015(11) 0.88781(17) 0.0285(4) Uani d . 1 . . O
O4 0.2305(4) 0.88662(12) 0.23946(18) 0.0278(4) Uani d . 1 . . O
H1O 0.250(5) 0.916(2) 0.320(3) 0.033 Uiso d . 1 . . H
H2O 0.238(5) 0.929(2) 0.170(3) 0.033 Uiso d . 1 . . H
O5 0.2812(4) 0.67297(13) 0.21710(18) 0.0310(4) Uani d . 1 . . O
H3O 0.256(6) 0.733(3) 0.227(3) 0.037 Uiso d . 1 . . H
H4O 0.266(5) 0.648(2) 0.300(4) 0.037 Uiso d . 1 . . H
N1 0.2353(3) 0.49880(13) 0.71740(18) 0.0167(4) Uani d . 1 . . N
H1N 0.234(5) 0.437(2) 0.690(3) 0.020 Uiso d . 1 . . H
N2 0.2549(3) 0.61716(12) 0.92001(18) 0.0161(4) Uani d . 1 . . N
H2N 0.260(5) 0.6291(19) 1.014(3) 0.019 Uiso d . 1 . . H
C1 0.2440(4) 0.57482(15) 0.6094(2) 0.0157(4) Uani d . 1 . . C
C2 0.2408(4) 0.51528(14) 0.8709(2) 0.0157(4) Uani d . 1 . . C
C3 0.2682(4) 0.70428(15) 0.8303(2) 0.0167(4) Uani d . 1 . . C
C4 0.2468(4) 0.68739(14) 0.6622(2) 0.0166(4) Uani d . 1 . . C
H4A 0.3700 0.7238 0.6167 0.020 Uiso calc R 1 . . H
H4B 0.1097 0.7215 0.6223 0.020 Uiso calc R 1 . . H
loop_
_atom_site_aniso_label
_atom_site_aniso_U_11
_atom_site_aniso_U_22
_atom_site_aniso_U_33
_atom_site_aniso_U_12
_atom_site_aniso_U_13
_atom_site_aniso_U_23
O1 0.0445(11) 0.0176(7) 0.0121(6) 0.0012(8) 0.0034(7) -0.0008(5)
O2 0.0422(10) 0.0136(7) 0.0151(7) 0.0007(7) 0.0020(7) 0.0032(5)
O3 0.0556(12) 0.0113(7) 0.0181(7) -0.0019(8) -0.0027(8) -0.0009(5)
O4 0.0529(12) 0.0151(7) 0.0153(7) -0.0038(8) 0.0023(8) -0.0017(6)
O5 0.0626(13) 0.0177(7) 0.0133(7) 0.0002(9) 0.0072(8) 0.0008(6)
N1 0.0279(10) 0.0066(7) 0.0156(8) 0.0008(7) -0.0001(7) -0.0007(6)
N2 0.0265(10) 0.0122(7) 0.0097(7) 0.0006(7) 0.0018(7) -0.0015(6)
C1 0.0199(11) 0.0123(8) 0.0151(9) 0.0022(8) 0.0019(8) 0.0006(7)
C2 0.0202(11) 0.0121(8) 0.0147(9) 0.0012(8) 0.0005(8) -0.0010(7)
C3 0.0208(12) 0.0113(8) 0.0179(9) 0.0006(8) -0.0001(8) 0.0009(7)
C4 0.0272(12) 0.0091(8) 0.0133(9) -0.0003(8) -0.0004(8) 0.0021(6)
loop_
_atom_type_symbol
_atom_type_description
_atom_type_scat_dispersion_real
_atom_type_scat_dispersion_imag
_atom_type_scat_source
C C 0.0033 0.0016 'International Tables Vol C Tables 4.2.6.8 and 6.1.1.4'
H H 0.0000 0.0000 'International Tables Vol C Tables 4.2.6.8 and 6.1.1.4'
N N 0.0061 0.0033 'International Tables Vol C Tables 4.2.6.8 and 6.1.1.4'
O O 0.0106 0.0060 'International Tables Vol C Tables 4.2.6.8 and 6.1.1.4'
loop_
_geom_angle_atom_site_label_1
_geom_angle_atom_site_label_2
_geom_angle_atom_site_label_3
_geom_angle
H1O O4 H2O 110(3)
H3O O5 H4O 105(3)
H1N N1 C1 117.9(17)
H1N N1 C2 116.1(17)
C1 N1 C2 125.91(16)
H2N N2 C2 118.7(17)
H2N N2 C3 115.3(17)
C2 N2 C3 125.94(17)
O1 C1 N1 120.98(17)
O1 C1 C4 121.84(17)
N1 C1 C4 117.17(16)
O2 C2 N1 120.91(17)
O2 C2 N2 121.94(18)
N1 C2 N2 117.15(17)
O3 C3 N2 119.74(18)
O3 C3 C4 123.18(17)
N2 C3 C4 117.07(16)
C1 C4 C3 116.25(15)
C1 C4 H4A 108.2
C1 C4 H4B 108.2
C3 C4 H4A 108.2
C3 C4 H4B 108.2
H4A C4 H4B 107.4
loop_
_geom_bond_atom_site_label_1
_geom_bond_atom_site_label_2
_geom_bond_site_symmetry_2
_geom_bond_distance
_geom_bond_publ_flag
O1 C1 . 1.216(2) ?
O2 C2 . 1.219(2) ?
O3 C3 . 1.211(2) ?
O4 H1O . 0.81(3) ?
O4 H2O . 0.83(3) ?
O5 H3O . 0.79(3) ?
O5 H4O . 0.81(3) ?
N1 H1N . 0.82(3) ?
N1 C1 . 1.363(2) ?
N1 C2 . 1.374(2) ?
N2 H2N . 0.85(3) ?
N2 C2 . 1.367(2) ?
N2 C3 . 1.369(2) ?
C1 C4 . 1.505(3) ?
C3 C4 . 1.502(3) ?
C4 H4A . 0.9900 ?
C4 H4B . 0.9900 ?
loop_
_geom_hbond_atom_site_label_D
_geom_hbond_atom_site_label_H
_geom_hbond_atom_site_label_A
_geom_hbond_site_symmetry_A
_geom_hbond_distance_DH
_geom_hbond_distance_HA
_geom_hbond_distance_DA
_geom_hbond_angle_DHA
O4 H1O O2 2_556 0.81(3) 1.98(3) 2.759(2) 161(3)
O4 H2O O1 2 0.83(3) 2.03(3) 2.850(2) 171(3)
O5 H3O O4 . 0.79(3) 1.96(3) 2.743(2) 173(4)
O5 H4O O1 . 0.81(3) 1.99(3) 2.781(2) 165(3)
N1 H1N O3 2_546 0.82(3) 2.00(3) 2.814(2) 175(3)
N2 H2N O5 1_556 0.85(3) 1.88(3) 2.721(2) 173(2)
loop_
_geom_torsion_atom_site_label_1
_geom_torsion_atom_site_label_2
_geom_torsion_atom_site_label_3
_geom_torsion_atom_site_label_4
_geom_torsion
C2 N1 C1 O1 177.4(2)
C2 N1 C1 C4 -3.8(3)
C3 N2 C2 O2 178.2(2)
C3 N2 C2 N1 -1.3(4)
C1 N1 C2 O2 -179.1(2)
C1 N1 C2 N2 0.5(4)
C2 N2 C3 O3 -175.4(2)
C2 N2 C3 C4 5.4(4)
O3 C3 C4 C1 172.7(2)
N2 C3 C4 C1 -8.2(3)
O1 C1 C4 C3 -173.7(2)
N1 C1 C4 C3 7.4(3)
loop_
_cod_related_entry_id
_cod_related_entry_database
_cod_related_entry_code
1 ChemSpider 21140097
