#------------------------------------------------------------------------------
#$Date: 2017-10-13 08:28:26 +0300 (Fri, 13 Oct 2017) $
#$Revision: 201972 $
#$URL: file:///home/coder/svn-repositories/cod/cif/2/10/07/2100711.cif $
#------------------------------------------------------------------------------
#
# This file is available in the Crystallography Open Database (COD),
# http://www.crystallography.net/. The original data for this entry
# were provided by IUCr Journals, http://journals.iucr.org/.
#
# The file may be used within the scientific community so long as
# proper attribution is given to the journal article from which the
# data were obtained.
#
data_2100711
loop_
_publ_author_name
'P. A. Wood'
'R. S. Forgan'
'D. Henderson'
'S. Parsons'
'E. Pidcock'
'P. A. Tasker'
'J. E. Warren'
_publ_contact_author_email       P.A.Wood@sms.ed.ac.uk
_publ_contact_author_name        'Peter A. Wood'
_publ_section_title
;
 Effect of pressure on the crystal structure of salicylaldoxime-I, and
 the structure of salicylaldoxime-II at 5.93GPa
;
_journal_coeditor_code           SO5004
_journal_date_accepted           2006-08-11
_journal_date_recd_electronic    2006-06-03
_journal_issue                   6
_journal_name_full               'Acta Crystallographica Section B'
_journal_page_first              1099
_journal_page_last               1111
_journal_paper_category          FA
_journal_paper_doi               10.1107/S0108768106031752
_journal_volume                  62
_journal_year                    2006
_chemical_formula_moiety         'C7 H7 N1 O2'
_chemical_formula_sum            'C7 H7 N O2'
_chemical_formula_weight         137.14
_chemical_melting_point          60.0(10)
_chemical_name_common            salicylaldoxime
_chemical_name_systematic        '2-hydroxybenzaldehyde oxime'
_space_group_IT_number           14
_symmetry_cell_setting           monoclinic
_symmetry_space_group_name_Hall  '-P 2yn'
_symmetry_space_group_name_H-M   'P 1 21/n 1'
_atom_sites_solution_hydrogens   geom
_atom_sites_solution_primary     direct
_audit_creation_method           CRYSTALS_ver_12.80
_cell_angle_alpha                90
_cell_angle_beta                 110.064(10)
_cell_angle_gamma                90
_cell_formula_units_Z            4
_cell_length_a                   9.5728(15)
_cell_length_b                   4.9342(3)
_cell_length_c                   11.7537(15)
_cell_measurement_reflns_used    286
_cell_measurement_temperature    293
_cell_measurement_theta_max      22
_cell_measurement_theta_min      3
_cell_volume                     521.48(11)
_computing_cell_refinement       SAINT
_computing_data_collection       'APEX-II (Bruker-Nonius, 2000)'
_computing_data_reduction        'SAINT (Bruker-Nonius, 2003)'
_computing_molecular_graphics    'CAMERON (Watkin et al., 1996)'
_computing_publication_material  'CRYSTALS (Betteridge et al., 2003)'
_computing_structure_refinement  'CRYSTALS (Betteridge et al., 2003)'
_computing_structure_solution    'SIR92 (Altomare et al., 1994)'
_diffrn_ambient_temperature      293
_diffrn_measured_fraction_theta_full 0.374
_diffrn_measured_fraction_theta_max 0.370
_diffrn_measurement_device_type  'Bruker-Nonius Apex II CCD'
_diffrn_measurement_method       ω
_diffrn_radiation_monochromator  silicon
_diffrn_radiation_type           synchrotron
_diffrn_radiation_wavelength     0.6889
_diffrn_reflns_av_R_equivalents  0.069
_diffrn_reflns_limit_h_max       5
_diffrn_reflns_limit_h_min       -5
_diffrn_reflns_limit_k_max       6
_diffrn_reflns_limit_k_min       -6
_diffrn_reflns_limit_l_max       13
_diffrn_reflns_limit_l_min       -13
_diffrn_reflns_number            1793
_diffrn_reflns_theta_full        25.066
_diffrn_reflns_theta_max         26.385
_diffrn_reflns_theta_min         3.377
_diffrn_standards_number         0
_exptl_absorpt_coefficient_mu    0.130
_exptl_absorpt_correction_T_max  0.99
_exptl_absorpt_correction_T_min  0.38
_exptl_absorpt_correction_type   multi-scan
_exptl_absorpt_process_details   'SADABS version 2004/1'
_exptl_crystal_colour            colourless
_exptl_crystal_density_diffrn    1.747
_exptl_crystal_description       block
_exptl_crystal_F_000             288
_exptl_crystal_size_max          0.18
_exptl_crystal_size_mid          0.15
_exptl_crystal_size_min          0.10
_refine_diff_density_max         0.14
_refine_diff_density_min         -0.12
_refine_ls_extinction_method     None
_refine_ls_goodness_of_fit_ref   0.9074
_refine_ls_hydrogen_treatment    mixed
_refine_ls_matrix_type           full
_refine_ls_number_parameters     97
_refine_ls_number_reflns         394
_refine_ls_number_restraints     84
_refine_ls_R_factor_all          0.0634
_refine_ls_R_factor_gt           0.0442
_refine_ls_shift/su_max          0.000088
_refine_ls_structure_factor_coef Fsqd
_refine_ls_weighting_details
;
 Method, part 1, Chebychev polynomial, (Watkin, 1994, Prince, 1982)
 [weight] = 1.0/[A₀*T₀(x)+A₁*T₁(x) ... +Aₙ₋₁]*Tₙ₋₁(x)]
 where Ai are the Chebychev coefficients listed below and x= Fcalc/Fmax
 Method = Robust Weighting (Prince, 1982)
 W = [weight] * [1-(deltaF/6*sigmaF)²]²
 Ai are:
 528. 733. 450. 146. 1.48
;
_refine_ls_weighting_scheme      calc
_refine_ls_wR_factor_all         0.1117
_refine_ls_wR_factor_gt          0.0910
_refine_ls_wR_factor_ref         0.1117
_reflns_number_gt                285
_reflns_number_total             417
_reflns_threshold_expression     I>2.00u(I)
_cod_data_source_file            so5004.cif
_cod_data_source_block           4_55GPa
_cod_depositor_comments
;
The following automatic conversions were performed:
'_symmetry_cell_setting' value 'Monoclinic' changed to 'monoclinic'
according to '/home/saulius/struct/CIF-dictionaries/cif_core.dic'
dictionary named 'cif_core.dic' version 2.4.1 from 2010-06-29.

Automatic conversion script
Id: cif_fix_enum 1527 2010-12-29 10:47:43Z saulius 

The following automatic conversions were performed:

'_chemical_melting_point' value '59-61' was changed to '60.0(10)' -
the average value was taken and precision was estimated.

Automatic conversion script
Id: cif_fix_values 1646 2011-03-28 12:23:43Z adriana 

The following automatic conversions were performed:

'_chemical_melting_point' value '59-61' was changed to '60.0(10)' -
the average value was taken and precision was
estimated.

'_symmetry_cell_setting' value 'Monoclinic' changed to
'monoclinic' according to
/home/saulius/struct/CIF-dictionaries/cif_core.dic dictionary named
'cif_core.dic' version 2.4.1 from 2010-06-29.

Automatic conversion script
Id: cif_fix_values 1715 2011-07-08 13:25:40Z adriana 
;
_cod_original_sg_symbol_H-M      'P 1 21/n 1 '
_cod_original_formula_sum        'C7 H7 N1 O2'
_cod_database_code               2100711
_cod_database_fobs_code          2100711
loop_
_symmetry_equiv_pos_as_xyz
x,y,z
-x,-y,-z
-x+1/2,y+1/2,-z+1/2
x+1/2,-y+1/2,z+1/2
loop_
_atom_site_type_symbol
_atom_site_label
_atom_site_fract_x
_atom_site_fract_y
_atom_site_fract_z
_atom_site_U_iso_or_equiv
_atom_site_adp_type
_atom_site_occupancy
O O1 0.7469(6) 1.0513(5) 0.6888(3) 0.0363 Uani 1.0000
N N2 0.6923(8) 0.8809(5) 0.5888(3) 0.0296 Uani 1.0000
C C3 0.7866(9) 0.7063(6) 0.5858(3) 0.0291 Uani 1.0000
C C4 0.7525(9) 0.5051(7) 0.4888(4) 0.0290 Uani 1.0000
C C5 0.6100(9) 0.4930(6) 0.3999(4) 0.0272 Uani 1.0000
O O5 0.5029(6) 0.6744(5) 0.3970(2) 0.0353 Uani 1.0000
C C6 0.5758(9) 0.2858(7) 0.3135(3) 0.0212 Uani 1.0000
C C7 0.6822(10) 0.1055(6) 0.3132(4) 0.0289 Uani 1.0000
C C8 0.8250(9) 0.1191(6) 0.3983(3) 0.0246 Uani 1.0000
C C9 0.8552(9) 0.3181(6) 0.4875(4) 0.0309 Uani 1.0000
H H3 0.8802 0.7002 0.6479 0.0420 Uiso 1.0000
H H6 0.4815 0.2781 0.2551 0.0416 Uiso 1.0000
H H7 0.6591 -0.0290 0.2548 0.0614 Uiso 1.0000
H H8 0.8972 -0.0077 0.3976 0.0479 Uiso 1.0000
H H9 0.9493 0.3181 0.5480 0.0535 Uiso 1.0000
H H1 0.685(5) 1.173(9) 0.673(5) 0.0586 Uiso 1.0000
H H5 0.536(11) 0.805(6) 0.441(4) 0.0644 Uiso 1.0000
loop_
_atom_site_aniso_label
_atom_site_aniso_U_11
_atom_site_aniso_U_22
_atom_site_aniso_U_33
_atom_site_aniso_U_12
_atom_site_aniso_U_13
_atom_site_aniso_U_23
O1 0.043(8) 0.0279(12) 0.0229(14) 0.0043(17) -0.008(3) -0.0064(10)
N2 0.039(7) 0.0227(14) 0.0207(16) -0.001(2) 0.002(3) -0.0035(11)
C3 0.038(7) 0.0235(17) 0.0199(19) 0.001(2) 0.002(3) 0.0028(12)
C4 0.037(6) 0.0205(14) 0.024(2) 0.0000(19) 0.003(3) 0.0015(12)
C5 0.035(5) 0.0202(15) 0.023(2) 0.001(2) 0.006(3) 0.0019(12)
O5 0.040(5) 0.0249(12) 0.0297(16) 0.0071(17) -0.003(3) -0.0048(10)
C6 0.023(6) 0.0283(16) 0.0161(19) -0.007(2) 0.012(3) -0.0003(12)
C7 0.038(6) 0.0185(14) 0.029(2) 0.001(2) 0.009(3) -0.0007(13)
C8 0.031(6) 0.0215(15) 0.027(2) 0.002(2) 0.017(3) 0.0072(12)
C9 0.040(6) 0.0253(15) 0.0222(19) 0.005(2) 0.004(3) 0.0057(12)
loop_
_atom_type_symbol
_atom_type_scat_dispersion_real
_atom_type_scat_dispersion_imag
_atom_type_scat_source
C 0.0033 0.0016 'International Tables Vol C 4.2.6.8 and 6.1.1.4'
H 0.0000 0.0000 'International Tables Vol C 4.2.6.8 and 6.1.1.4'
N 0.0061 0.0033 'International Tables Vol C 4.2.6.8 and 6.1.1.4'
O 0.0106 0.0060 'International Tables Vol C 4.2.6.8 and 6.1.1.4'
loop_
_geom_angle_atom_site_label_1
_geom_angle_atom_site_label_2
_geom_angle_atom_site_label_3
_geom_angle
_geom_angle_publ_flag
N2 O1 H1 103(4) no
O1 N2 C3 111.8(4) yes
N2 C3 C4 121.1(5) yes
N2 C3 H3 120.1 no
C4 C3 H3 118.8 no
C3 C4 C5 120.6(7) yes
C3 C4 C9 120.2(5) yes
C5 C4 C9 119.1(4) yes
C4 C5 O5 121.6(4) yes
C4 C5 C6 119.8(6) yes
O5 C5 C6 118.6(5) yes
C5 O5 H5 112(7) no
C5 C6 C7 119.6(5) yes
C5 C6 H6 119.5 no
C7 C6 H6 120.9 no
C6 C7 C8 121.4(4) yes
C6 C7 H7 119.0 no
C8 C7 H7 119.6 no
C7 C8 C9 118.3(7) yes
C7 C8 H8 120.5 no
C9 C8 H8 121.1 no
C8 C9 C4 121.7(5) yes
C8 C9 H9 117.9 no
C4 C9 H9 120.4 no
loop_
_geom_bond_atom_site_label_1
_geom_bond_atom_site_label_2
_geom_bond_distance
_geom_bond_publ_flag
O1 N2 1.393(3) yes
O1 H1 0.8200(9) no
N2 C3 1.257(10) yes
C3 C4 1.462(5) yes
C3 H3 0.943 no
C4 C5 1.406(9) yes
C4 C9 1.352(11) yes
C5 O5 1.353(9) yes
C5 C6 1.399(5) yes
O5 H5 0.8200(9) no
C6 C7 1.353(11) yes
C6 H6 0.928 no
C7 C8 1.392(9) yes
C7 H7 0.926 no
C8 C9 1.392(5) yes
C8 H8 0.934 no
C9 H9 0.937 no
loop_
_cod_related_entry_id
_cod_related_entry_database
_cod_related_entry_code
1 ChemSpider 10229769
