#------------------------------------------------------------------------------
#$Date: 2016-02-14 16:26:36 +0200 (Sun, 14 Feb 2016) $
#$Revision: 176435 $
#$URL: svn://www.crystallography.net/cod/cif/2/10/15/2101562.cif $
#------------------------------------------------------------------------------
#
# This file is available in the Crystallography Open Database (COD),
# http://www.crystallography.net/. The original data for this entry
# were provided by IUCr Journals, http://journals.iucr.org/.
#
# The file may be used within the scientific community so long as
# proper attribution is given to the journal article from which the
# data were obtained.
#
data_2101562
loop_
_publ_author_name
'Antolić, A.'
'Kojić-Prodić, B.'
'Tomić, S.'
'Nigović, B.'
'Magnus, V.'
'Cohen, J. D.'
_publ_section_title
;
 Structural studies on monofluorinated derivatives of the phytohormone
 indole-3-acetic acid (auxin)
;
_journal_issue                   4
_journal_name_full               'Acta Crystallographica Section B'
_journal_page_first              651
_journal_page_last               661
_journal_paper_doi               10.1107/S0108768195016302
_journal_volume                  52
_journal_year                    1996
_chemical_formula_sum            'C10 H8 F N O2'
_chemical_formula_weight         193.18
_space_group_IT_number           14
_symmetry_cell_setting           monoclinic
_symmetry_space_group_name_Hall  '-P 2ybc'
_symmetry_space_group_name_H-M   'P 1 21/c 1'
_atom_type_scat_source           'SHELX76 (Sheldrick, 1976)'
_cell_angle_alpha                90.0
_cell_angle_beta                 117.28(6)
_cell_angle_gamma                90.0
_cell_formula_units_Z            4
_cell_length_a                   19.284(5)
_cell_length_b                   5.083(4)
_cell_length_c                   9.939(4)
_cell_measurement_reflns_used    25
_cell_measurement_temperature    297
_cell_measurement_theta_max      17
_cell_measurement_theta_min      6
_cell_volume                     865.9(9)
_diffrn_measurement_device       'Enraf-Nonius CAD-4'
_diffrn_measurement_method       ω-2θ
_diffrn_radiation_type           MoK\a
_diffrn_radiation_wavelength     0.71073
_diffrn_reflns_av_R_equivalents  0.0596
_diffrn_reflns_limit_h_max       11
_diffrn_reflns_limit_h_min       0
_diffrn_reflns_limit_k_max       6
_diffrn_reflns_limit_k_min       0
_diffrn_reflns_limit_l_max       20
_diffrn_reflns_limit_l_min       -20
_diffrn_reflns_number            1806
_diffrn_reflns_theta_max         25
_diffrn_standards_decay_%        1.5
_diffrn_standards_interval_count 100
_diffrn_standards_number         2
_exptl_absorpt_coefficient_mu    0.11
_exptl_absorpt_correction_type   none
_exptl_crystal_colour            colourless
_exptl_crystal_density_diffrn    1.482
_exptl_crystal_description       prismatic
_exptl_crystal_size_max          0.60
_exptl_crystal_size_mid          0.45
_exptl_crystal_size_min          0.15
_refine_diff_density_max         0.19
_refine_diff_density_min         -0.28
_refine_ls_extinction_method     none
_refine_ls_goodness_of_fit_obs   0.91
_refine_ls_hydrogen_treatment    refall
_refine_ls_number_parameters     159
_refine_ls_number_reflns         729
_refine_ls_R_factor_obs          0.062
_refine_ls_shift/esd_max         0.092
_refine_ls_structure_factor_coef F
_refine_ls_weighting_details
'w = k/[σ²(Fₒ) + gFₒ²] where g = 0.000100'
_refine_ls_weighting_scheme      calc
_refine_ls_wR_factor_obs         0.057
_reflns_number_observed          729
_reflns_number_total             1302
_reflns_observed_criterion       I>3\s(I)
_cod_data_source_file            se0185.cif
_cod_data_source_block           se0185b
_cod_depositor_comments
;
The following automatic conversions were performed:

'_refine_ls_weighting_scheme' value 'w = k/[\s^2^(F~o~) + gF~o~^2^]
where g = 0.000100' was changed to 'calc'. New tag
'_refine_ls_weighting_details' was created. The value of the new tag
was set to 'w = k/[\s^2^(F~o~) + gF~o~^2^] where g = 0.000100'.

Automatic conversion script
Id: cif_fix_values 3143 2015-03-26 13:38:13Z robertas 
;
_cod_original_cell_volume        865.90(10)
_cod_original_formula_sum        'C10 H8 F1 N1 O2'
_cod_database_code               2101562
loop_
_symmetry_equiv_pos_as_xyz
x,y,z
x,1/2-y,1/2+z
-x,-y,-z
-x,1/2+y,1/2-z
loop_
_atom_site_label
_atom_site_fract_x
_atom_site_fract_y
_atom_site_fract_z
_atom_site_U_iso_or_equiv
F .5816(2) .7443(8) -.3973(4) 0.0910(10)
O1 .9838(2) .7992(8) .0875(5) .0710(10)
O2 .9183(2) .4317(9) .0051(5) .0670(10)
N1 .7399(2) .2615(9) .1427(5) .0580(10)
C2 .8092(3) .3970(10) .1994(7) .051(2)
C3 .8068(3) .5820(10) .0994(6) .040(2)
C31 .7315(3) .5610(10) -.0289(6) .0400(10)
C4 .6939(3) .6960(10) -.1665(7) .048(2)
C5 .6192(3) .6180(10) -.2624(7) .059(2)
C6 .5807(3) .4120(10) -.2350(7) .065(2)
C7 .6163(3) .2780(10) -.1015(7) .064(2)
C71 .6923(3) .3580(10) .0014(6) .047(2)
C8 .8729(3) .7570(10) .1196(7) .049(2)
C9 .9255(3) .6460(10) .0659(6) .044(2)
H1 .730(2) .166(4) .208(3) .070(4)
H2 .846(2) .375(4) .306(3) .043(4)
H4 .720(2) .830(4) -.199(3) .030(4)
H6 .524(2) .349(4) -.316(3) .068(4)
H7 .593(2) .172(4) -.070(3) .055(4)
H11 1.013(2) .715(4) .041(3) .031(4)
H81 .851(2) .896(4) .059(3) .055(4)
H82 .904(2) .770(4) .222(3) .042(4)
loop_
_geom_angle_atom_site_label_1
_geom_angle_atom_site_label_2
_geom_angle_atom_site_label_3
_geom_angle
_geom_angle_publ_flag
C2 N1 C71 108.0(5) yes
N1 C2 C3 110.4(5) yes
C2 C3 C8 125.1(5) yes
C2 C3 C31 106.4(5) yes
C31 C3 C8 128.4(5) yes
C3 C31 C4 133.8(5) yes
C3 C31 C71 107.0(5) yes
C4 C31 C71 119.1(5) yes
C31 C4 C5 116.4(6) yes
C4 C5 C6 124.8(6) yes
C5 C6 C7 119.6(6) yes
C6 C7 C71 117.1(6) yes
C31 C71 C7 122.9(5) yes
N1 C71 C7 128.9(5) yes
N1 C71 C31 108.2(5) yes
C3 C8 C9 114.7(5) yes
C8 C9 O1 113.8(5) yes
C8 C9 O2 125.6(6) yes
O1 C9 O2 120.5(6) yes
C4 C5 F 117.7(5) yes
C6 C5 F 117.5(6) yes
loop_
_geom_bond_atom_site_label_1
_geom_bond_atom_site_label_2
_geom_bond_distance
_geom_bond_publ_flag
N1 C2 1.376(8) yes
N1 C71 1.368(7) yes
C2 C3 1.354(8) yes
C3 C31 1.431(8) yes
C4 C31 1.401(8) yes
C4 C5 1.372(9) yes
C5 C6 1.382(9) yes
C6 C7 1.363(9) yes
C7 C71 1.408(9) yes
C31 C71 1.391(8) yes
C3 C8 1.490(9) yes
C8 C9 1.457(9) yes
O1 C9 1.301(7) yes
O2 C9 1.224(7) yes
F C5 1.358(7) yes
