#------------------------------------------------------------------------------
#$Date: 2017-10-13 08:28:26 +0300 (Fri, 13 Oct 2017) $
#$Revision: 201972 $
#$URL: file:///home/coder/svn-repositories/cod/cif/2/10/21/2102140.cif $
#------------------------------------------------------------------------------
#
# This file is available in the Crystallography Open Database (COD),
# http://www.crystallography.net/. The original data for this entry
# were provided by IUCr Journals, http://journals.iucr.org/.
#
# The file may be used within the scientific community so long as
# proper attribution is given to the journal article from which the
# data were obtained.
#
data_2102140
loop_
_publ_author_name
'Katrusiak, A.'
_publ_section_title
;
 Conformational transformation coupled with the order--disorder phase
 transition in 2-methyl-1,3-cyclohexanedione crystals
;
_journal_issue                   5
_journal_name_full               'Acta Crystallographica Section B'
_journal_page_first              872
_journal_page_last               881
_journal_paper_doi               10.1107/S0108768100005905
_journal_volume                  56
_journal_year                    2000
_chemical_formula_sum            'C7 H10 O2'
_chemical_formula_weight         126.15
_chemical_name_common            2-methyl-1,3-cyclohexanedione
_chemical_name_systematic
;
 ?
;
_space_group_IT_number           56
_symmetry_cell_setting           orthorhombic
_symmetry_space_group_name_Hall  '-P 2ab 2ac'
_symmetry_space_group_name_H-M   'P c c n'
_audit_creation_method           SHELXL
_cell_angle_alpha                90.00
_cell_angle_beta                 90.00
_cell_angle_gamma                90.00
_cell_formula_units_Z            8
_cell_length_a                   13.472(4)
_cell_length_b                   13.692(4)
_cell_length_c                   7.090(2)
_cell_measurement_temperature    239(2)
_cell_volume                     1307.8(7)
_computing_structure_refinement  'SHELXL-93 (Sheldrick, 1993)'
_computing_structure_solution    'SHELXS-86 (Sheldrick, 1990)'
_diffrn_ambient_temperature      293(2)
_diffrn_measurement_device       KUMA-4-CCD
_diffrn_radiation_monochromator  graphite
_diffrn_radiation_source         'fine-focus sealed tube'
_diffrn_radiation_type           MoK\a
_diffrn_radiation_wavelength     .71073
_diffrn_reflns_av_R_equivalents  .0350
_diffrn_reflns_av_sigmaI/netI    .0345
_diffrn_reflns_limit_h_max       16
_diffrn_reflns_limit_h_min       -18
_diffrn_reflns_limit_k_max       18
_diffrn_reflns_limit_k_min       -18
_diffrn_reflns_limit_l_max       9
_diffrn_reflns_limit_l_min       -7
_diffrn_reflns_number            8221
_diffrn_reflns_theta_max         29.64
_diffrn_reflns_theta_min         2.98
_exptl_absorpt_coefficient_mu    .093
_exptl_crystal_colour            colourless
_exptl_crystal_density_diffrn    1.281
_exptl_crystal_description       plate
_exptl_crystal_F_000             544
_exptl_crystal_size_max          .4
_exptl_crystal_size_mid          .3
_exptl_crystal_size_min          .2
_refine_diff_density_max         .496
_refine_diff_density_min         -.211
_refine_ls_extinction_method     none
_refine_ls_goodness_of_fit_all   1.258
_refine_ls_goodness_of_fit_obs   1.346
_refine_ls_matrix_type           full
_refine_ls_number_parameters     117
_refine_ls_number_reflns         1758
_refine_ls_number_restraints     0
_refine_ls_restrained_S_all      1.258
_refine_ls_restrained_S_obs      1.346
_refine_ls_R_factor_all          .1721
_refine_ls_R_factor_obs          .1069
_refine_ls_shift/esd_max         .045
_refine_ls_shift/esd_mean        .007
_refine_ls_structure_factor_coef Fsqd
_refine_ls_weighting_details
'w=1/[σ²(Fo²)+(0.1617P)²+0.0000P] where P=(Fo²+2Fc²)/3'
_refine_ls_weighting_scheme      calc
_refine_ls_wR_factor_all         .3291
_refine_ls_wR_factor_obs         .2769
_reflns_number_observed          1073
_reflns_number_total             1758
_reflns_observed_criterion       >2sigma(I)
_cod_data_source_file            hr0044.cif
_cod_data_source_block           239
_cod_depositor_comments
;
The following automatic conversions were performed:

'_cell_measurement_temperature' value '239.0(2)K' was changed to
'239(2)' - the value should be numeric and without a unit designator.

Automatic conversion script
Id: cif_fix_values 1646 2011-03-28 12:23:43Z adriana 

The following automatic conversions were performed:

'_cell_measurement_temperature' value '239.0(2)K' was changed to
'239(2)' - the value should be numeric and without a unit designator.

Automatic conversion script
Id: cif_fix_values 1715 2011-07-08 13:25:40Z adriana 

The following automatic conversions were performed:

'_refine_ls_weighting_scheme' value 'calc
w=1/[\s^2^(Fo^2^)+(0.1617P)^2^+0.0000P] where P=(Fo^2^+2Fc^2^)/3' was
changed to 'calc'. New tag '_refine_ls_weighting_details' was
created. The value of the new tag was set to
'w=1/[\s^2^(Fo^2^)+(0.1617P)^2^+0.0000P] where P=(Fo^2^+2Fc^2^)/3'.

Automatic conversion script
Id: cif_fix_values 3143 2015-03-26 13:38:13Z robertas 
;
_cod_original_sg_symbol_H-M      'P ccn'
_cod_database_code               2102140
_cod_database_fobs_code          2102140
loop_
_symmetry_equiv_pos_as_xyz
'x, y, z'
'-x+1/2, -y+1/2, z'
'-x, y+1/2, -z+1/2'
'x+1/2, -y, -z+1/2'
'-x, -y, -z'
'x-1/2, y-1/2, -z'
'x, -y-1/2, z-1/2'
'-x-1/2, y, z-1/2'
loop_
_atom_site_aniso_label
_atom_site_aniso_U_11
_atom_site_aniso_U_22
_atom_site_aniso_U_33
_atom_site_aniso_U_12
_atom_site_aniso_U_13
_atom_site_aniso_U_23
O1 .0353(12) .0262(12) .082(2) .0019(8) .0007(10) -.0010(9)
O2 .053(2) .0261(12) .104(2) -.0004(10) -.0012(12) -.0007(10)
C1 .0316(14) .0275(15) .047(2) .0018(10) -.0015(11) -.0010(11)
C2 .0293(14) .0287(15) .057(2) .0019(11) -.0031(12) .0004(12)
C7 .028(2) .038(2) .108(3) -.0045(12) -.002(2) .003(2)
C3 .037(2) .028(2) .065(2) .0018(11) .0001(13) -.0006(12)
C4 .035(2) .037(2) .123(4) .0083(14) .005(2) -.003(2)
C5 .030(2) .039(2) .139(4) .0022(13) .001(2) .005(2)
C6 .0309(15) .033(2) .063(2) -.0046(11) .0006(14) .0012(14)
loop_
_atom_site_label
_atom_site_fract_x
_atom_site_fract_y
_atom_site_fract_z
_atom_site_U_iso_or_equiv
_atom_site_thermal_displace_type
_atom_site_calc_flag
_atom_site_occupancy
_atom_site_type_symbol
O1 .5686(2) .4513(2) .2380(3) .0479(8) Uani d 1 O
H1 .533(4) .390(4) .241(4) .072(14) Uiso d 1 H
O2 .5241(2) .7868(2) .2690(4) .0610(9) Uani d 1 O
C1 .5091(2) .5294(2) .2478(4) .0353(7) Uani d 1 C
C2 .5510(2) .6196(2) .2494(4) .0383(8) Uani d 1 C
C7 .6600(2) .6358(3) .2352(7) .0579(12) Uani d 1 C
H7A .674(4) .681(5) .109(8) .148(16) Uiso d 1 H
H7B .685(6) .588(6) .224(8) .148(16) Uiso d 1 H
H7C .685(5) .676(5) .349(8) .148(16) Uiso d 1 H
C3 .4884(2) .7033(2) .2692(4) .0433(9) Uani d 1 C
C4 .3787(3) .6888(3) .3012(7) .0650(13) Uani d 1 C
H4A .337(4) .749(5) .276(6) .101(11) Uiso d 1 H
H4B .371(3) .663(3) .466(6) .101(11) Uiso d 1 H
C5 .3400(3) .5993(3) .2186(7) .0692(14) Uani d 1 C
H5A .355(3) .632(3) .054(7) .103(11) Uiso d 1 H
H5B .266(5) .582(5) .253(5) .103(11) Uiso d 1 H
C6 .3998(2) .5100(2) .2588(5) .0423(8) Uani d 1 C
H6A .395(4) .477(3) .382(6) .088(11) Uiso d 1 H
H6B .390(4) .464(4) .176(6) .088(11) Uiso d 1 H
loop_
_atom_type_symbol
_atom_type_description
_atom_type_scat_dispersion_real
_atom_type_scat_dispersion_imag
_atom_type_scat_source
C C .0033 .0016 'International Tables Vol C Tables 4.2.6.8 and 6.1.1.4'
H H .0000 .0000 'International Tables Vol C Tables 4.2.6.8 and 6.1.1.4'
O O .0106 .0060 'International Tables Vol C Tables 4.2.6.8 and 6.1.1.4'
loop_
_geom_angle_atom_site_label_1
_geom_angle_atom_site_label_2
_geom_angle_atom_site_label_3
_geom_angle
C1 O1 H1 113(3)
O1 C1 C2 118.6(3)
O1 C1 C6 116.7(2)
C2 C1 C6 124.7(3)
C1 C2 C3 119.1(3)
C1 C2 C7 123.0(3)
C3 C2 C7 117.9(3)
C2 C7 H7A 108(3)
C2 C7 H7B 109(6)
H7A C7 H7B 109(6)
C2 C7 H7C 111(3)
H7A C7 H7C 106(5)
H7B C7 H7C 114(6)
O2 C3 C2 120.7(3)
O2 C3 C4 120.1(3)
C2 C3 C4 119.1(3)
C5 C4 C3 113.7(3)
C5 C4 H4A 114(3)
C3 C4 H4A 114(3)
C5 C4 H4B 96(2)
C3 C4 H4B 105(2)
H4A C4 H4B 111(3)
C4 C5 C6 114.8(3)
C4 C5 H5A 91(2)
C6 C5 H5A 112(2)
C4 C5 H5B 116(3)
C6 C5 H5B 107(4)
H5A C5 H5B 116(3)
C5 C6 C1 112.0(3)
C5 C6 H6A 120(3)
C1 C6 H6A 101(3)
C5 C6 H6B 112(3)
C1 C6 H6B 104(4)
H6A C6 H6B 105(4)
loop_
_geom_bond_atom_site_label_1
_geom_bond_atom_site_label_2
_geom_bond_distance
O1 C1 1.337(3)
O1 H1 .98(5)
O2 C3 1.240(4)
C1 C2 1.357(4)
C1 C6 1.499(4)
C2 C3 1.430(4)
C2 C7 1.489(4)
C7 H7A 1.10(6)
C7 H7B .74(8)
C7 H7C 1.03(6)
C3 C4 1.508(5)
C4 C5 1.454(6)
C4 H4A 1.01(6)
C4 H4B 1.22(4)
C5 C6 1.493(5)
C5 H5A 1.27(5)
C5 H5B 1.05(7)
C6 H6A .98(4)
C6 H6B .87(5)
loop_
_geom_torsion_atom_site_label_1
_geom_torsion_atom_site_label_2
_geom_torsion_atom_site_label_3
_geom_torsion_atom_site_label_4
_geom_torsion
O1 C1 C2 C3 -176.9(2)
C6 C1 C2 C3 2.2(4)
O1 C1 C2 C7 1.9(5)
C6 C1 C2 C7 -179.0(3)
C1 C2 C3 O2 -179.1(3)
C7 C2 C3 O2 2.0(5)
C1 C2 C3 C4 4.2(4)
C7 C2 C3 C4 -174.6(4)
O2 C3 C4 C5 154.2(4)
C2 C3 C4 C5 -29.1(5)
C3 C4 C5 C6 47.5(6)
C4 C5 C6 C1 -40.6(5)
O1 C1 C6 C5 -165.1(3)
C2 C1 C6 C5 15.8(5)
loop_
_cod_related_entry_id
_cod_related_entry_database
_cod_related_entry_code
1 ChemSpider 5414347
