#------------------------------------------------------------------------------
#$Date: 2017-10-13 08:28:26 +0300 (Fri, 13 Oct 2017) $
#$Revision: 201972 $
#$URL: file:///home/coder/svn-repositories/cod/cif/2/10/27/2102797.cif $
#------------------------------------------------------------------------------
#
# This file is available in the Crystallography Open Database (COD),
# http://www.crystallography.net/. The original data for this entry
# were provided by IUCr Journals, http://journals.iucr.org/.
#
# The file may be used within the scientific community so long as
# proper attribution is given to the journal article from which the
# data were obtained.
#
data_2102797
loop_
_publ_author_name
'Strzhemechny, Mikhail A.'
'Baumer, Vyacheslav N.'
'Avdeenko, Anatoli A.'
'Pyshkin, Oleg S.'
'Romashkin, Roman V.'
'Buravtseva, Lyubov M.'
_publ_section_title
;
 Polymorphism of 4-bromobenzophenone
;
_journal_coeditor_code           RY5005
_journal_issue                   2
_journal_name_full               'Acta Crystallographica Section B'
_journal_page_first              296
_journal_page_last               302
_journal_paper_doi               10.1107/S0108768106054334
_journal_volume                  63
_journal_year                    2007
_chemical_formula_sum            'C13 H9 Br O'
_chemical_formula_weight         261.11
_chemical_name_common            4-bromobenzophenone
_chemical_name_systematic
;
(4-bromophenyl)(phenyl)methanone
;
_space_group_IT_number           14
_symmetry_cell_setting           monoclinic
_symmetry_space_group_name_Hall  '-P 2ybc'
_symmetry_space_group_name_H-M   'P 1 21/c 1'
_atom_sites_solution_hydrogens   geom
_atom_sites_solution_primary     direct
_atom_sites_solution_secondary   difmap
_audit_creation_method           SHELXL-97
_cell_angle_alpha                90.00
_cell_angle_beta                 97.26(3)
_cell_angle_gamma                90.00
_cell_formula_units_Z            4
_cell_length_a                   12.092(2)
_cell_length_b                   14.343(3)
_cell_length_c                   6.1243(12)
_cell_measurement_reflns_used    700
_cell_measurement_temperature    100(2)
_cell_measurement_theta_max      11
_cell_measurement_theta_min      10
_cell_volume                     1053.7(4)
_computing_cell_refinement       'Oxford Diffraction CrysAlis'
_computing_data_collection       'Oxford Diffraction CrysAlis'
_computing_data_reduction        'Oxford Diffraction CrysAlis'
_computing_molecular_graphics    'WinGX (Farrugia, 1999)'
_computing_publication_material  'WinGX (Farrugia, 1999)'
_computing_structure_refinement  'SHELXL-97 (Sheldrick, 1997)'
_computing_structure_solution    'SHELXS-97 (Sheldrick, 1990)'
_diffrn_ambient_temperature      100(2)
_diffrn_measured_fraction_theta_full 0.985
_diffrn_measured_fraction_theta_max 0.938
_diffrn_measurement_device_type  'XCalibur-3 (Oxford Diffraction Ltd.)'
_diffrn_measurement_method       'ο scans'
_diffrn_radiation_monochromator  graphite
_diffrn_radiation_source         'fine-focus sealed tube'
_diffrn_radiation_type           MoK\a
_diffrn_radiation_wavelength     0.71073
_diffrn_reflns_av_R_equivalents  0.1205
_diffrn_reflns_av_sigmaI/netI    0.0671
_diffrn_reflns_limit_h_max       17
_diffrn_reflns_limit_h_min       -17
_diffrn_reflns_limit_k_max       20
_diffrn_reflns_limit_k_min       -21
_diffrn_reflns_limit_l_max       8
_diffrn_reflns_limit_l_min       -9
_diffrn_reflns_number            12546
_diffrn_reflns_theta_full        25.50
_diffrn_reflns_theta_max         32.07
_diffrn_reflns_theta_min         2.84
_exptl_absorpt_coefficient_mu    3.868
_exptl_absorpt_correction_T_max  0.734
_exptl_absorpt_correction_T_min  0.235
_exptl_absorpt_correction_type   empirical
_exptl_crystal_colour            colourless
_exptl_crystal_density_diffrn    1.646
_exptl_crystal_density_method    'not measured'
_exptl_crystal_description       plate
_exptl_crystal_F_000             520
_exptl_crystal_size_max          0.4
_exptl_crystal_size_mid          0.2
_exptl_crystal_size_min          0.04
_refine_diff_density_max         0.982
_refine_diff_density_min         -0.907
_refine_ls_extinction_method     none
_refine_ls_goodness_of_fit_ref   1.000
_refine_ls_hydrogen_treatment    constr
_refine_ls_matrix_type           full
_refine_ls_number_parameters     136
_refine_ls_number_reflns         3444
_refine_ls_number_restraints     0
_refine_ls_restrained_S_all      1.000
_refine_ls_R_factor_all          0.1088
_refine_ls_R_factor_gt           0.0853
_refine_ls_shift/su_max          0.000
_refine_ls_shift/su_mean         0.000
_refine_ls_structure_factor_coef Fsqd
_refine_ls_weighting_details
'calc w=1/[σ²(Fo²)+(0.1840P)²+0.7463P] where P=(Fo²+2Fc²)/3'
_refine_ls_weighting_scheme      calc
_refine_ls_wR_factor_gt          0.2491
_refine_ls_wR_factor_ref         0.2941
_reflns_number_gt                2253
_reflns_number_total             3444
_reflns_threshold_expression     >2sigma(I)
_cod_data_source_file            ry5005.cif
_cod_data_source_block           4bmlt
_cod_depositor_comments
;
The following automatic conversions were performed:
'_symmetry_cell_setting' value 'Monoclinic' changed to 'monoclinic'
according to '/home/saulius/struct/CIF-dictionaries/cif_core.dic'
dictionary named 'cif_core.dic' version 2.4.1 from 2010-06-29.

Automatic conversion script
Id: cif_fix_enum 1527 2010-12-29 10:47:43Z saulius 

The following automatic conversions were performed:

'_symmetry_cell_setting' value 'Monoclinic' changed to 'monoclinic'
according to /home/saulius/struct/CIF-dictionaries/cif_core.dic
dictionary named 'cif_core.dic' version 2.4.1 from 2010-06-29.

Automatic conversion script
Id: cif_fix_values 1715 2011-07-08 13:25:40Z adriana 
;
_cod_database_code               2102797
loop_
_symmetry_equiv_pos_as_xyz
'x, y, z'
'-x, y+1/2, -z+1/2'
'-x, -y, -z'
'x, -y-1/2, z-1/2'
loop_
_atom_site_type_symbol
_atom_site_label
_atom_site_fract_x
_atom_site_fract_y
_atom_site_fract_z
_atom_site_U_iso_or_equiv
_atom_site_adp_type
_atom_site_calc_flag
_atom_site_refinement_flags
_atom_site_occupancy
Br Br1 0.46547(5) 0.63531(5) 1.14501(10) 0.0610(3) Uani d . 1
O O1 0.0247(3) 0.6129(3) 0.3383(6) 0.0538(8) Uani d . 1
C C1 0.0201(5) 0.6177(4) 0.5344(8) 0.0487(10) Uani d . 1
C C1A 0.1249(5) 0.6205(4) 0.6928(9) 0.0479(9) Uani d . 1
C C2A 0.1317(5) 0.6596(4) 0.9010(9) 0.0499(10) Uani d . 1
H H2A 0.0663 0.6829 0.9531 0.060 Uiso calc R 1
C C3A 0.2342(5) 0.6649(4) 1.0351(9) 0.0515(10) Uani d . 1
H H3A 0.2388 0.6923 1.1771 0.062 Uiso calc R 1
C C4A 0.3296(4) 0.6295(4) 0.9583(9) 0.0484(10) Uani d . 1
C C5A 0.3248(5) 0.5909(4) 0.7506(9) 0.0529(11) Uani d . 1
H H5A 0.3905 0.5677 0.6995 0.063 Uiso calc R 1
C C6A 0.2226(4) 0.5861(3) 0.6165(9) 0.0490(9) Uani d . 1
H H6A 0.2187 0.5597 0.4735 0.059 Uiso calc R 1
C C1B -0.0920(5) 0.6235(3) 0.6145(9) 0.0486(10) Uani d . 1
C C2B -0.1132(5) 0.5862(4) 0.8171(9) 0.0503(10) Uani d . 1
H H2B -0.0541 0.5604 0.9157 0.060 Uiso calc R 1
C C3B -0.2215(5) 0.5871(4) 0.8728(9) 0.0547(11) Uani d . 1
H H3B -0.2358 0.5610 1.0090 0.066 Uiso calc R 1
C C4B -0.3077(5) 0.6252(4) 0.7345(10) 0.0543(11) Uani d . 1
H H4B -0.3814 0.6246 0.7733 0.065 Uiso calc R 1
C C5B -0.2858(5) 0.6654(4) 0.5338(10) 0.0553(11) Uani d . 1
H H5B -0.3447 0.6933 0.4385 0.066 Uiso calc R 1
C C6B -0.1785(5) 0.6641(4) 0.4754(9) 0.0531(11) Uani d . 1
H H6B -0.1641 0.6910 0.3401 0.064 Uiso calc R 1
loop_
_atom_site_aniso_label
_atom_site_aniso_U_11
_atom_site_aniso_U_22
_atom_site_aniso_U_33
_atom_site_aniso_U_12
_atom_site_aniso_U_13
_atom_site_aniso_U_23
Br1 0.0525(4) 0.0737(5) 0.0558(4) -0.0014(2) 0.0029(2) -0.0046(2)
O1 0.052(2) 0.066(2) 0.0431(18) 0.0008(16) 0.0066(15) -0.0014(15)
C1 0.054(3) 0.049(2) 0.042(2) -0.0014(18) 0.0025(18) 0.0007(17)
C1A 0.051(2) 0.048(2) 0.044(2) 0.0013(17) 0.0070(18) 0.0009(17)
C2A 0.055(3) 0.047(2) 0.050(2) 0.0018(18) 0.0118(19) 0.0007(18)
C3A 0.056(3) 0.053(2) 0.045(2) -0.002(2) 0.0077(19) -0.0031(19)
C4A 0.044(2) 0.055(3) 0.045(2) 0.0008(17) 0.0005(18) 0.0015(17)
C5A 0.056(3) 0.052(3) 0.052(2) 0.003(2) 0.013(2) -0.002(2)
C6A 0.051(2) 0.047(2) 0.049(2) 0.0009(17) 0.0077(18) -0.0011(18)
C1B 0.049(2) 0.047(2) 0.049(2) -0.0002(17) 0.0050(19) -0.0001(17)
C2B 0.054(2) 0.048(2) 0.049(2) 0.0005(18) 0.0082(19) 0.0027(18)
C3B 0.063(3) 0.049(2) 0.054(3) -0.005(2) 0.012(2) -0.004(2)
C4B 0.052(3) 0.059(3) 0.053(3) -0.007(2) 0.010(2) -0.001(2)
C5B 0.055(3) 0.053(3) 0.056(3) 0.001(2) 0.001(2) -0.004(2)
C6B 0.056(3) 0.051(2) 0.053(3) -0.006(2) 0.011(2) -0.002(2)
loop_
_atom_type_symbol
_atom_type_description
_atom_type_scat_dispersion_real
_atom_type_scat_dispersion_imag
_atom_type_scat_source
C C 0.0033 0.0016 'International Tables Vol C Tables 4.2.6.8 and 6.1.1.4'
H H 0.0000 0.0000 'International Tables Vol C Tables 4.2.6.8 and 6.1.1.4'
O O 0.0106 0.0060 'International Tables Vol C Tables 4.2.6.8 and 6.1.1.4'
Br Br -0.2901 2.4595 'International Tables Vol C Tables 4.2.6.8 and 6.1.1.4'
loop_
_geom_angle_atom_site_label_1
_geom_angle_atom_site_label_2
_geom_angle_atom_site_label_3
_geom_angle
O1 C1 C1A 120.2(5)
O1 C1 C1B 119.0(5)
C1A C1 C1B 120.9(5)
C2A C1A C6A 119.4(5)
C2A C1A C1 123.6(5)
C6A C1A C1 116.8(5)
C1A C2A C3A 120.4(5)
C1A C2A H2A 119.8
C3A C2A H2A 119.8
C4A C3A C2A 119.4(5)
C4A C3A H3A 120.3
C2A C3A H3A 120.3
C5A C4A C3A 121.1(5)
C5A C4A Br1 120.6(4)
C3A C4A Br1 118.4(4)
C4A C5A C6A 119.5(5)
C4A C5A H5A 120.3
C6A C5A H5A 120.3
C5A C6A C1A 120.2(5)
C5A C6A H6A 119.9
C1A C6A H6A 119.9
C6B C1B C2B 119.6(5)
C6B C1B C1 117.6(5)
C2B C1B C1 122.7(5)
C3B C2B C1B 119.6(5)
C3B C2B H2B 120.2
C1B C2B H2B 120.2
C4B C3B C2B 121.2(5)
C4B C3B H3B 119.4
C2B C3B H3B 119.4
C3B C4B C5B 119.2(6)
C3B C4B H4B 120.4
C5B C4B H4B 120.4
C6B C5B C4B 120.2(5)
C6B C5B H5B 119.9
C4B C5B H5B 119.9
C5B C6B C1B 120.2(5)
C5B C6B H6B 119.9
C1B C6B H6B 119.9
loop_
_geom_bond_atom_site_label_1
_geom_bond_atom_site_label_2
_geom_bond_distance
Br1 C4A 1.881(5)
O1 C1 1.212(6)
C1 C1A 1.496(8)
C1 C1B 1.501(8)
C1A C2A 1.386(7)
C1A C6A 1.412(7)
C2A C3A 1.399(8)
C2A H2A 0.9500
C3A C4A 1.395(8)
C3A H3A 0.9500
C4A C5A 1.382(7)
C5A C6A 1.397(8)
C5A H5A 0.9500
C6A H6A 0.9500
C1B C6B 1.390(8)
C1B C2B 1.405(7)
C2B C3B 1.394(8)
C2B H2B 0.9500
C3B C4B 1.371(9)
C3B H3B 0.9500
C4B C5B 1.412(8)
C4B H4B 0.9500
C5B C6B 1.390(8)
C5B H5B 0.9500
C6B H6B 0.9500
loop_
_cod_related_entry_id
_cod_related_entry_database
_cod_related_entry_code
1 ChemSpider 6763
