#------------------------------------------------------------------------------
#$Date: 2016-02-20 02:53:41 +0200 (Sat, 20 Feb 2016) $
#$Revision: 176768 $
#$URL: svn://www.crystallography.net/cod/cif/2/10/28/2102859.cif $
#------------------------------------------------------------------------------
#
# This file is available in the Crystallography Open Database (COD),
# http://www.crystallography.net/. The original data for this entry
# were provided by IUCr Journals, http://journals.iucr.org/.
#
# The file may be used within the scientific community so long as
# proper attribution is given to the journal article from which the
# data were obtained.
#
data_2102859
loop_
_publ_author_name
'Lloyd, Michael A.'
'Patterson, Garth E.'
'Simpson, Greg H.'
'Duncan, Laura L.'
'King, Daniel P.'
'Fu, Yigang'
'Patrick, Brian O.'
'Parkin, Sean'
'Brock, Carolyn Pratt'
_publ_section_title
;
 Solid-state compounds of stereoisomers: cis and trans
 isomers of 1,2-cyclohexanediol and 2,3-tetralindiol
;
_journal_coeditor_code           WS5054
_journal_issue                   3
_journal_name_full               'Acta Crystallographica Section B'
_journal_page_first              433
_journal_page_last               447
_journal_paper_doi               10.1107/S0108768107010579
_journal_volume                  63
_journal_year                    2007
_chemical_formula_moiety         'C6 H12 O2'
_chemical_formula_sum            'C6 H12 O2'
_chemical_formula_weight         116.16
_chemical_melting_point          .376E-305
_chemical_name_systematic
;
rac-trans-1,2-cyclohexanediol
;
_space_group_IT_number           15
_symmetry_cell_setting           monoclinic
_symmetry_space_group_name_Hall  '-C 2yc'
_symmetry_space_group_name_H-M   'C 1 2/c 1'
_atom_sites_solution_hydrogens   geom
_atom_sites_solution_primary     direct
_atom_sites_solution_secondary   difmap
_cell_angle_alpha                90.00
_cell_angle_beta                 95.28(2)
_cell_angle_gamma                90.00
_cell_formula_units_Z            8
_cell_length_a                   18.321(3)
_cell_length_b                   10.015(2)
_cell_length_c                   7.201(2)
_cell_measurement_temperature    173(2)
_cell_volume                     1315.7(5)
_computing_cell_refinement       'SCALEPACK (Otwinowski & Minor, 1997)'
_computing_data_collection       'COLLECT (Nonius, 1999)'
_computing_data_reduction        'DENZO-SMN (Otwinowski & Minor, 1997)'
_computing_molecular_graphics
;
Mercury (Macrae et al., 2006)
;
_computing_publication_material
;
SHELXL-97 (Sheldrick, 1997) and local procedures
;
_computing_structure_refinement  'SHELXL-97 (Sheldrick, 1997b)'
_computing_structure_solution    'SHELXS-97 (Sheldrick, 1997a)'
_diffrn_ambient_temperature      173(2)
_diffrn_detector_area_resol_mean 18
_diffrn_measured_fraction_theta_full 0.992
_diffrn_measured_fraction_theta_max 0.992
_diffrn_measurement_device_type  'Nonius KappaCCD diffractometer'
_diffrn_measurement_method       'φ and ω scans with 1.0° steps'
_diffrn_radiation_monochromator  graphite
_diffrn_radiation_source         'fine-focus sealed tube'
_diffrn_radiation_type           MoK\a
_diffrn_radiation_wavelength     0.71073
_diffrn_reflns_av_R_equivalents  0.0133
_diffrn_reflns_av_sigmaI/netI    0.0323
_diffrn_reflns_limit_h_max       21
_diffrn_reflns_limit_h_min       -21
_diffrn_reflns_limit_k_max       11
_diffrn_reflns_limit_k_min       -11
_diffrn_reflns_limit_l_max       8
_diffrn_reflns_limit_l_min       -8
_diffrn_reflns_number            2102
_diffrn_reflns_theta_full        24.99
_diffrn_reflns_theta_max         24.99
_diffrn_reflns_theta_min         2.32
_diffrn_standards_decay_%        <2.
_diffrn_standards_number         0
_exptl_absorpt_coefficient_mu    0.086
_exptl_absorpt_correction_T_max  0.99
_exptl_absorpt_correction_T_min  0.97
_exptl_absorpt_correction_type   multi-scan
_exptl_absorpt_process_details   'DENZO-SMN (Otwinowski & Minor, 1997)'
_exptl_crystal_colour            colorless
_exptl_crystal_density_diffrn    1.173
_exptl_crystal_density_method    'not measured'
_exptl_crystal_description
;
Lozenge.  Largest face is {100};  others are {110} and {111}.
;
_exptl_crystal_F_000             512
_exptl_crystal_size_max          0.50
_exptl_crystal_size_mid          0.33
_exptl_crystal_size_min          0.17
_refine_diff_density_max         0.120
_refine_diff_density_min         -0.133
_refine_ls_extinction_method     none
_refine_ls_goodness_of_fit_ref   1.054
_refine_ls_hydrogen_treatment    constr
_refine_ls_matrix_type           full
_refine_ls_number_parameters     90
_refine_ls_number_reflns         1159
_refine_ls_number_restraints     0
_refine_ls_restrained_S_all      1.054
_refine_ls_R_factor_all          0.0504
_refine_ls_R_factor_gt           0.0389
_refine_ls_shift/su_max          0.000
_refine_ls_shift/su_mean         0.000
_refine_ls_structure_factor_coef Fsqd
_refine_ls_weighting_details
'calc w=1/[σ²(Fo²)+(0.042P)²+0.40P] where P=(Fo²+2Fc²)/3'
_refine_ls_weighting_scheme      calc
_refine_ls_wR_factor_gt          0.0945
_refine_ls_wR_factor_ref         0.1018
_reflns_number_gt                950
_reflns_number_total             1159
_reflns_threshold_expression     >2sigma(I)
_cod_data_source_file            ws5054.cif
_cod_data_source_block           trans-1,2-CHD_2
_cod_database_code               2102859
loop_
_symmetry_equiv_pos_as_xyz
'x, y, z'
'-x, y, -z+1/2'
'x+1/2, y+1/2, z'
'-x+1/2, y+1/2, -z+1/2'
'-x, -y, -z'
'x, -y, z-1/2'
'-x+1/2, -y+1/2, -z'
'x+1/2, -y+1/2, z-1/2'
loop_
_atom_site_type_symbol
_atom_site_label
_atom_site_fract_x
_atom_site_fract_y
_atom_site_fract_z
_atom_site_U_iso_or_equiv
_atom_site_adp_type
_atom_site_calc_flag
_atom_site_refinement_flags
_atom_site_occupancy
_atom_site_disorder_assembly
_atom_site_disorder_group
O O1 0.20979(8) 0.38598(11) 0.35850(18) 0.0450(4) Uani d P 0.938(2) A 1
H H01 0.2278 0.4592 0.3290 0.067 Uiso calc R 1 A 1
O O2 0.24125(8) 0.1181(2) 0.2722(2) 0.0493(6) Uani d P 0.938(2) A 1
H H02 0.2570 0.1333 0.3834 0.074 Uiso calc R 1 A 1
C C1 0.17524(7) 0.32265(13) 0.19511(16) 0.0358(4) Uani d P 0.938(2) A 1
H H1A 0.2068 0.3354 0.0904 0.043 Uiso calc PR 0.938(2) A 1
C C2 0.17010(7) 0.17555(13) 0.23531(17) 0.0386(4) Uani d P 0.938(2) A 1
H H2A 0.1421 0.1627 0.3468 0.046 Uiso calc PR 0.938(2) A 1
C C3 0.13133(9) 0.10168(16) 0.0708(2) 0.0468(4) Uani d P 0.938(2) A 1
H H3E 0.1251 0.0069 0.1052 0.056 Uiso calc PR 0.938(2) A 1
H H3A 0.1622 0.1045 -0.0351 0.056 Uiso calc PR 0.938(2) A 1
C C4 0.05679(8) 0.16137(17) 0.0100(2) 0.0559(5) Uani d P 0.938(2) A 1
H H4A 0.0236 0.1473 0.1091 0.067 Uiso calc PR 0.938(2) A 1
H H4E 0.0354 0.1153 -0.1040 0.067 Uiso calc PR 0.938(2) A 1
C C5 0.06269(10) 0.30995(18) -0.0291(3) 0.0558(5) Uani d P 0.938(2) A 1
H H5E 0.0130 0.3477 -0.0590 0.067 Uiso calc PR 0.938(2) A 1
H H5A 0.0909 0.3237 -0.1384 0.067 Uiso calc PR 0.938(2) A 1
C C6 0.10057(13) 0.38214(17) 0.1392(3) 0.0480(9) Uani d P 0.938(2) A 1
H H6E 0.1060 0.4778 0.1089 0.058 Uiso calc PR 0.938(2) A 1
H H6A 0.0699 0.3756 0.2451 0.058 Uiso calc PR 0.938(2) A 1
O O1X 0.1916(7) 0.3768(13) 0.4050(15) 0.028(5) Uiso d PG 0.062(2) A 2
O O2X 0.2458(8) 0.1386(16) 0.259(2) 0.045(11) Uiso d PG 0.062(2) A 2
C C1X 0.1470(5) 0.2955(10) 0.2762(11) 0.025(5) Uiso d PG 0.062(2) A 2
H H1AX 0.1213 0.2312 0.3429 0.030 Uiso d PG 0.062(2) A 2
C C2X 0.1950(4) 0.2216(11) 0.1489(13) 0.025(4) Uiso d PG 0.062(2) A 2
H H2AX 0.2207 0.2859 0.0823 0.029 Uiso d PG 0.062(2) A 2
C C3X 0.1470(7) 0.1340(10) 0.0104(15) 0.018(5) Uiso d PG 0.062(2) A 2
H H3AX 0.1215 0.0690 0.0764 0.021 Uiso d PG 0.062(2) A 2
H H3EX 0.1767 0.0870 -0.0684 0.021 Uiso d PG 0.062(2) A 2
C C4X 0.0923(6) 0.2234(13) -0.1080(12) 0.032(5) Uiso d PG 0.062(2) A 2
H H4AX 0.1179 0.2873 -0.1758 0.038 Uiso d PG 0.062(2) A 2
H H4EX 0.0626 0.1694 -0.1955 0.038 Uiso d PG 0.062(2) A 2
C C5X 0.0443(5) 0.2973(16) 0.0193(19) 0.031(7) Uiso d PG 0.062(2) A 2
H H5AX 0.0181 0.2334 0.0854 0.038 Uiso d PG 0.062(2) A 2
H H5EX 0.0098 0.3524 -0.0540 0.038 Uiso d PG 0.062(2) A 2
C C6X 0.0923(7) 0.3849(12) 0.1579(18) 0.023(10) Uiso d PG 0.062(2) A 2
H H6AX 0.1178 0.4499 0.0919 0.028 Uiso d PG 0.062(2) A 2
H H6EX 0.0626 0.4319 0.2367 0.028 Uiso d PG 0.062(2) A 2
loop_
_atom_site_aniso_label
_atom_site_aniso_U_11
_atom_site_aniso_U_22
_atom_site_aniso_U_33
_atom_site_aniso_U_12
_atom_site_aniso_U_13
_atom_site_aniso_U_23
O1 0.0569(8) 0.0408(7) 0.0338(6) -0.0107(5) -0.0144(6) 0.0010(4)
O2 0.0596(10) 0.0477(8) 0.0371(8) 0.0134(5) -0.0144(5) -0.0028(5)
C1 0.0397(7) 0.0394(8) 0.0262(6) -0.0052(6) -0.0079(6) 0.0008(5)
C2 0.0426(8) 0.0404(8) 0.0313(7) -0.0013(6) -0.0044(6) 0.0011(6)
C3 0.0571(10) 0.0437(9) 0.0381(8) -0.0088(7) -0.0033(7) -0.0041(7)
C4 0.0481(9) 0.0703(11) 0.0467(9) -0.0157(8) -0.0095(7) -0.0101(7)
C5 0.0472(9) 0.0670(12) 0.0490(9) 0.0037(9) -0.0186(9) -0.0005(9)
C6 0.0476(11) 0.0499(14) 0.0439(10) 0.0051(7) -0.0107(8) -0.0021(6)
loop_
_atom_type_symbol
_atom_type_description
_atom_type_scat_dispersion_real
_atom_type_scat_dispersion_imag
_atom_type_scat_source
C C 0.0033 0.0016 'International Tables Vol C Tables 4.2.6.8 and 6.1.1.4'
H H 0.0000 0.0000 'International Tables Vol C Tables 4.2.6.8 and 6.1.1.4'
O O 0.0106 0.0060 'International Tables Vol C Tables 4.2.6.8 and 6.1.1.4'
loop_
_geom_angle_atom_site_label_1
_geom_angle_atom_site_label_2
_geom_angle_atom_site_label_3
_geom_angle
_geom_angle_publ_flag
O1 C1 C2 107.83(10) no
O1 C1 C6 111.40(13) no
C2 C1 C6 111.44(13) no
O1 C1 H1A 108.7 no
C2 C1 H1A 108.7 no
C6 C1 H1A 108.7 no
O2 C2 C1 110.97(14) no
O2 C2 C3 107.63(11) no
C1 C2 C3 111.11(11) no
O2 C2 H2A 109.0 no
C1 C2 H2A 109.0 no
C3 C2 H2A 109.0 no
C2 C3 C4 112.18(12) no
C2 C3 H3E 109.2 no
C4 C3 H3E 109.2 no
C2 C3 H3A 109.2 no
C4 C3 H3A 109.2 no
H3E C3 H3A 107.9 no
C3 C4 C5 111.20(13) no
C3 C4 H4A 109.4 no
C5 C4 H4A 109.4 no
C3 C4 H4E 109.4 no
C5 C4 H4E 109.4 no
H4A C4 H4E 108.0 no
C4 C5 C6 110.63(14) no
C4 C5 H5E 109.5 no
C6 C5 H5E 109.5 no
C4 C5 H5A 109.5 no
C6 C5 H5A 109.5 no
H5E C5 H5A 108.1 no
C1 C6 C5 111.08(17) no
C1 C6 H6E 109.4 no
C5 C6 H6E 109.4 no
C1 C6 H6A 109.4 no
C5 C6 H6A 109.4 no
H6E C6 H6A 108.0 no
O1X C1X C2X 109.9 no
O1X C1X C6X 109.3 no
C2X C1X C6X 109.4 no
O1X C1X H1AX 109.7 no
C2X C1X H1AX 108.4 no
C6X C1X H1AX 110.1 no
O2X C2X C1X 109.4 no
O2X C2X C3X 109.3 no
C1X C2X C3X 109.9 no
O2X C2X H2AX 110.1 no
C1X C2X H2AX 108.4 no
C3X C2X H2AX 109.7 no
C4X C3X C2X 109.3 no
C4X C3X H3AX 110.4 no
C2X C3X H3AX 110.0 no
C4X C3X H3EX 109.7 no
C2X C3X H3EX 110.2 no
H3AX C3X H3EX 107.1 no
C5X C4X C3X 109.4 no
C5X C4X H4AX 108.7 no
C3X C4X H4AX 110.4 no
C5X C4X H4EX 110.2 no
C3X C4X H4EX 109.6 no
H4AX C4X H4EX 108.5 no
C4X C5X C6X 109.9 no
C4X C5X H5AX 108.7 no
C6X C5X H5AX 110.0 no
C4X C5X H5EX 109.7 no
C6X C5X H5EX 109.6 no
H5AX C5X H5EX 108.9 no
C1X C6X C5X 109.3 no
C1X C6X H6AX 110.4 no
C5X C6X H6AX 110.0 no
C1X C6X H6EX 109.7 no
C5X C6X H6EX 110.2 no
H6AX C6X H6EX 107.2 no
loop_
_geom_bond_atom_site_label_1
_geom_bond_atom_site_label_2
_geom_bond_distance
_geom_bond_publ_flag
O1 C1 1.4319(15) no
O1 H01 0.8400 no
O2 C2 1.4272(17) no
O2 H02 0.8400 no
C1 C2 1.506(2) no
C1 C6 1.512(2) no
C1 H1A 1.0000 no
C2 C3 1.5166(18) no
C2 H2A 1.0000 no
C3 C4 1.518(2) no
C3 H3E 0.9900 no
C3 H3A 0.9900 no
C4 C5 1.520(3) no
C4 H4A 0.9900 no
C4 H4E 0.9900 no
C5 C6 1.523(2) no
C5 H5E 0.9900 no
C5 H5A 0.9900 no
C6 H6E 0.9900 no
C6 H6A 0.9900 no
O1X C1X 1.4324 no
O2X C2X 1.4312 no
C1X C2X 1.5196 no
C1X C6X 1.5409 no
C1X H1AX 0.9530 no
C2X C3X 1.5420 no
C2X H2AX 0.9530 no
C3X C4X 1.5408 no
C3X H3AX 0.9531 no
C3X H3EX 0.9473 no
C4X C5X 1.5194 no
C4X H4AX 0.9529 no
C4X H4EX 0.9611 no
C5X C6X 1.5420 no
C5X H5AX 0.9529 no
C5X H5EX 0.9606 no
C6X H6AX 0.9531 no
C6X H6EX 0.9471 no
loop_
_geom_hbond_atom_site_label_D
_geom_hbond_atom_site_label_H
_geom_hbond_atom_site_label_A
_geom_hbond_site_symmetry_A
_geom_hbond_distance_DH
_geom_hbond_distance_HA
_geom_hbond_distance_DA
_geom_hbond_angle_DHA
O1 H01 O2 4 0.84 1.86 2.6928(19) 170.9
O2 H02 O1 7_556 0.84 1.91 2.7274(18) 163.7
O1 H01 O2X 4 0.84 1.98 2.81(3) 170.7
O2 H02 O1X 7_556 0.84 1.72 2.528(10) 161.3
loop_
_geom_torsion_atom_site_label_1
_geom_torsion_atom_site_label_2
_geom_torsion_atom_site_label_3
_geom_torsion_atom_site_label_4
_geom_torsion
_geom_torsion_publ_flag
O1 C1 C2 O2 -62.45(15) no
C6 C1 C2 O2 175.00(13) no
O1 C1 C2 C3 177.84(11) no
C6 C1 C2 C3 55.29(18) no
O2 C2 C3 C4 -175.81(16) no
C1 C2 C3 C4 -54.13(17) no
C2 C3 C4 C5 54.16(18) no
C3 C4 C5 C6 -54.9(2) no
O1 C1 C6 C5 -177.32(16) no
C2 C1 C6 C5 -56.8(2) no
C4 C5 C6 C1 56.4(3) no
O1X C1X C2X O2X 60.0 no
C6X C1X C2X O2X 180.0 no
O1X C1X C2X C3X 180.0 no
C6X C1X C2X C3X -60.0 no
O2X C2X C3X C4X 180.0 no
C1X C2X C3X C4X 60.0 no
C2X C3X C4X C5X -59.7 no
C3X C4X C5X C6X 60.0 no
O1X C1X C6X C5X -180.0 no
C2X C1X C6X C5X 59.7 no
C4X C5X C6X C1X -60.0 no
