#------------------------------------------------------------------------------
#$Date: 2017-10-13 08:28:26 +0300 (Fri, 13 Oct 2017) $
#$Revision: 201972 $
#$URL: file:///home/coder/svn-repositories/cod/cif/2/10/28/2102862.cif $
#------------------------------------------------------------------------------
#
# This file is available in the Crystallography Open Database (COD),
# http://www.crystallography.net/. The original data for this entry
# were provided by IUCr Journals, http://journals.iucr.org/.
#
# The file may be used within the scientific community so long as
# proper attribution is given to the journal article from which the
# data were obtained.
#
data_2102862
loop_
_publ_author_name
'Lloyd, Michael A.'
'Patterson, Garth E.'
'Simpson, Greg H.'
'Duncan, Laura L.'
'King, Daniel P.'
'Fu, Yigang'
'Patrick, Brian O.'
'Parkin, Sean'
'Brock, Carolyn Pratt'
_publ_section_title
;
 Solid-state compounds of stereoisomers: cis and trans
 isomers of 1,2-cyclohexanediol and 2,3-tetralindiol
;
_journal_coeditor_code           WS5054
_journal_issue                   3
_journal_name_full               'Acta Crystallographica Section B'
_journal_page_first              433
_journal_page_last               447
_journal_paper_doi               10.1107/S0108768107010579
_journal_volume                  63
_journal_year                    2007
_chemical_formula_moiety         'C6 H12 O2'
_chemical_formula_sum            'C6 H12 O2'
_chemical_formula_weight         116.16
_chemical_melting_point          .38E-305
_chemical_name_systematic
;
R,R-1,2-cyclohexanediol
;
_space_group_IT_number           154
_symmetry_cell_setting           trigonal
_symmetry_space_group_name_Hall  'P 32 2"'
_symmetry_space_group_name_H-M   'P 32 2 1'
_atom_sites_solution_hydrogens   geom
_atom_sites_solution_primary     direct
_atom_sites_solution_secondary   difmap
_cell_angle_alpha                90.00
_cell_angle_beta                 90.00
_cell_angle_gamma                120.00
_cell_formula_units_Z            6
_cell_length_a                   10.2290(10)
_cell_length_b                   10.2290(10)
_cell_length_c                   10.9090(10)
_cell_measurement_temperature    293(2)
_cell_volume                     988.51(16)
_computing_cell_refinement       'SCALEPACK (Otwinowski & Minor, 1997)'
_computing_data_collection       'COLLECT (Nonius, 1999)'
_computing_data_reduction        'DENZO-SMN (Otwinowski & Minor, 1997)'
_computing_molecular_graphics
;
Mercury (Macrae et al., 2006)
;
_computing_publication_material
;
SHELXL-97 (Sheldrick, 1997) and local procedures
;
_computing_structure_refinement  'SHELXL-97 (Sheldrick, 1997b)'
_computing_structure_solution    'SHELXS-97 (Sheldrick, 1997a)'
_diffrn_ambient_temperature      293(2)
_diffrn_detector_area_resol_mean 18
_diffrn_measured_fraction_theta_full 1.000
_diffrn_measured_fraction_theta_max 1.000
_diffrn_measurement_device_type  'Nonius KappaCCD diffractometer'
_diffrn_measurement_method       'φ and ω scans with 2.0° steps'
_diffrn_radiation_monochromator  graphite
_diffrn_radiation_source         'fine-focus sealed tube'
_diffrn_radiation_type           MoK\a
_diffrn_radiation_wavelength     0.71073
_diffrn_reflns_av_R_equivalents  0.0196
_diffrn_reflns_av_sigmaI/netI    0.0198
_diffrn_reflns_limit_h_max       12
_diffrn_reflns_limit_h_min       -12
_diffrn_reflns_limit_k_max       9
_diffrn_reflns_limit_k_min       -9
_diffrn_reflns_limit_l_max       12
_diffrn_reflns_limit_l_min       -12
_diffrn_reflns_number            2294
_diffrn_reflns_theta_full        25.00
_diffrn_reflns_theta_max         25.00
_diffrn_reflns_theta_min         2.30
_diffrn_standards_decay_%        16.
_diffrn_standards_number         0
_exptl_absorpt_coefficient_mu    0.086
_exptl_absorpt_correction_T_max  0.98
_exptl_absorpt_correction_T_min  0.98
_exptl_absorpt_correction_type   multi-scan
_exptl_absorpt_process_details   'DENZO-SMN (Otwinowski & Minor, 1997)'
_exptl_crystal_colour            colorless
_exptl_crystal_density_diffrn    1.171
_exptl_crystal_density_method    'not measured'
_exptl_crystal_description
;
Block
;
_exptl_crystal_F_000             384
_exptl_crystal_size_max          0.22
_exptl_crystal_size_mid          0.20
_exptl_crystal_size_min          0.19
_refine_diff_density_max         0.076
_refine_diff_density_min         -0.086
_refine_ls_extinction_coef       0.042(7)
_refine_ls_extinction_expression Fc^*^=kFc[1+0.001xFc²λ³/sin(2θ)]^-1/4^
_refine_ls_extinction_method     SHELXL
_refine_ls_goodness_of_fit_ref   1.061
_refine_ls_hydrogen_treatment    constr
_refine_ls_matrix_type           full
_refine_ls_number_parameters     88
_refine_ls_number_reflns         686
_refine_ls_number_restraints     0
_refine_ls_restrained_S_all      1.061
_refine_ls_R_factor_all          0.0383
_refine_ls_R_factor_gt           0.0307
_refine_ls_shift/su_max          0.000
_refine_ls_shift/su_mean         0.000
_refine_ls_structure_factor_coef Fsqd
_refine_ls_weighting_details
'calc w=1/[σ²(Fo²)+(0.048P)²+0.029P] where P=(Fo²+2Fc²)/3'
_refine_ls_weighting_scheme      calc
_refine_ls_wR_factor_gt          0.0762
_refine_ls_wR_factor_ref         0.0796
_reflns_number_gt                601
_reflns_number_total             686
_reflns_threshold_expression     >2sigma(I)
_cod_data_source_file            ws5054.cif
_cod_data_source_block           k99094
_cod_database_code               2102862
loop_
_symmetry_equiv_pos_as_xyz
'x, y, z'
'-y, x-y, z+2/3'
'-x+y, -x, z+1/3'
'x-y, -y, -z+1/3'
'-x, -x+y, -z+2/3'
'y, x, -z'
loop_
_atom_site_type_symbol
_atom_site_label
_atom_site_fract_x
_atom_site_fract_y
_atom_site_fract_z
_atom_site_U_iso_or_equiv
_atom_site_adp_type
_atom_site_calc_flag
_atom_site_refinement_flags
_atom_site_occupancy
O O1 0.41912(17) -0.14589(17) 0.26670(11) 0.0594(4) Uani d . 1
H H01 0.4537 -0.2004 0.2851 0.086(8) Uiso calc R 1
O O2 0.46423(18) 0.14606(14) 0.30693(13) 0.0678(5) Uani d . 1
H H02 0.4946 0.1311 0.2418 0.089(9) Uiso calc R 1
C C1 0.3602(2) -0.1135(2) 0.37374(15) 0.0462(5) Uani d . 1
H H1A 0.4371 -0.0784 0.4382 0.056(5) Uiso calc R 1
C C2 0.3300(2) 0.01262(19) 0.34293(14) 0.0459(5) Uani d . 1
H H2A 0.2574 -0.0200 0.2752 0.045(5) Uiso calc R 1
C C3 0.2645(3) 0.0517(2) 0.45181(19) 0.0633(6) Uani d . 1
H H3E 0.2405 0.1286 0.4281 0.083(8) Uiso calc R 1
H H3A 0.3393 0.0927 0.5167 0.066(6) Uiso calc R 1
C C4 0.1234(3) -0.0852(3) 0.4995(2) 0.0745(7) Uani d . 1
H H4E 0.0875 -0.0574 0.5718 0.089(8) Uiso calc R 1
H H4A 0.0448 -0.1204 0.4376 0.112(10) Uiso calc R 1
C C5 0.1550(3) -0.2106(3) 0.5314(3) 0.0896(9) Uani d . 1
H H5E 0.0623 -0.2991 0.5576 0.109(9) Uiso calc R 1
H H5A 0.2265 -0.1789 0.5986 0.140(14) Uiso calc R 1
C C6 0.2192(3) -0.2500(2) 0.4203(2) 0.0696(7) Uani d . 1
H H6E 0.2423 -0.3280 0.4427 0.102(8) Uiso calc R 1
H H6A 0.1441 -0.2895 0.3557 0.066(6) Uiso calc R 1
loop_
_atom_site_aniso_label
_atom_site_aniso_U_11
_atom_site_aniso_U_22
_atom_site_aniso_U_33
_atom_site_aniso_U_12
_atom_site_aniso_U_13
_atom_site_aniso_U_23
O1 0.0783(9) 0.0697(10) 0.0560(8) 0.0563(9) 0.0063(7) 0.0061(7)
O2 0.0799(11) 0.0403(7) 0.0669(9) 0.0179(7) 0.0200(7) -0.0044(6)
C1 0.0527(11) 0.0485(10) 0.0436(9) 0.0299(9) -0.0029(8) -0.0017(8)
C2 0.0503(10) 0.0395(10) 0.0473(9) 0.0219(9) 0.0008(8) -0.0019(8)
C3 0.0827(16) 0.0535(12) 0.0590(10) 0.0380(11) 0.0128(11) -0.0028(10)
C4 0.0758(16) 0.0722(15) 0.0746(14) 0.0363(12) 0.0277(14) -0.0026(12)
C5 0.105(2) 0.0635(15) 0.0958(17) 0.0389(16) 0.0463(18) 0.0205(14)
C6 0.0805(16) 0.0475(12) 0.0802(14) 0.0316(12) 0.0168(13) 0.0074(11)
loop_
_atom_type_symbol
_atom_type_description
_atom_type_scat_dispersion_real
_atom_type_scat_dispersion_imag
_atom_type_scat_source
C C 0.0033 0.0016 'International Tables Vol C Tables 4.2.6.8 and 6.1.1.4'
H H 0.0000 0.0000 'International Tables Vol C Tables 4.2.6.8 and 6.1.1.4'
O O 0.0106 0.0060 'International Tables Vol C Tables 4.2.6.8 and 6.1.1.4'
loop_
_geom_angle_atom_site_label_1
_geom_angle_atom_site_label_2
_geom_angle_atom_site_label_3
_geom_angle
_geom_angle_publ_flag
C1 O1 H01 109.5 no
C2 O2 H02 109.5 no
O1 C1 C2 107.90(13) no
O1 C1 C6 112.35(16) no
C2 C1 C6 110.91(17) no
O1 C1 H1A 108.5 no
C2 C1 H1A 108.5 no
C6 C1 H1A 108.5 no
O2 C2 C1 111.71(16) no
O2 C2 C3 107.78(15) no
C1 C2 C3 111.00(15) no
O2 C2 H2A 108.8 no
C1 C2 H2A 108.8 no
C3 C2 H2A 108.8 no
C2 C3 C4 111.66(18) no
C2 C3 H3E 109.3 no
C4 C3 H3E 109.3 no
C2 C3 H3A 109.3 no
C4 C3 H3A 109.3 no
H3E C3 H3A 107.9 no
C5 C4 C3 110.7(2) no
C5 C4 H4E 109.5 no
C3 C4 H4E 109.5 no
C5 C4 H4A 109.5 no
C3 C4 H4A 109.5 no
H4E C4 H4A 108.1 no
C4 C5 C6 110.1(2) no
C4 C5 H5E 109.6 no
C6 C5 H5E 109.6 no
C4 C5 H5A 109.6 no
C6 C5 H5A 109.6 no
H5E C5 H5A 108.1 no
C1 C6 C5 111.22(18) no
C1 C6 H6E 109.4 no
C5 C6 H6E 109.4 no
C1 C6 H6A 109.4 no
C5 C6 H6A 109.4 no
H6E C6 H6A 108.0 no
loop_
_geom_bond_atom_site_label_1
_geom_bond_atom_site_label_2
_geom_bond_distance
_geom_bond_publ_flag
O1 C1 1.427(2) no
O1 H01 0.8200 no
O2 C2 1.424(2) no
O2 H02 0.8200 no
C1 C2 1.507(2) no
C1 C6 1.509(3) no
C1 H1A 0.9800 no
C2 C3 1.512(3) no
C2 H2A 0.9800 no
C3 C4 1.515(3) no
C3 H3E 0.9700 no
C3 H3A 0.9700 no
C4 C5 1.512(3) no
C4 H4E 0.9700 no
C4 H4A 0.9700 no
C5 C6 1.525(3) no
C5 H5E 0.9700 no
C5 H5A 0.9700 no
C6 H6E 0.9700 no
C6 H6A 0.9700 no
loop_
_geom_hbond_atom_site_label_D
_geom_hbond_atom_site_label_H
_geom_hbond_atom_site_label_A
_geom_hbond_site_symmetry_A
_geom_hbond_distance_DH
_geom_hbond_distance_HA
_geom_hbond_distance_DA
_geom_hbond_angle_DHA
O1 H01 O2 5_655 0.82 1.96 2.7681(17) 169.5
O2 H02 O1 4 0.82 2.02 2.8171(19) 163.6
loop_
_cod_related_entry_id
_cod_related_entry_database
_cod_related_entry_code
1 ChemSpider 83850
