#------------------------------------------------------------------------------
#$Date: 2017-10-13 08:28:26 +0300 (Fri, 13 Oct 2017) $
#$Revision: 201972 $
#$URL: file:///home/coder/svn-repositories/cod/cif/2/10/30/2103062.cif $
#------------------------------------------------------------------------------
#
# This file is available in the Crystallography Open Database (COD),
# http://www.crystallography.net/. The original data for this entry
# were provided by IUCr Journals, http://journals.iucr.org/.
#
# The file may be used within the scientific community so long as
# proper attribution is given to the journal article from which the
# data were obtained.
#
data_2103062
loop_
_publ_author_name
'Wardell, Solange M. S. V.'
'de Souza, Marcus V. N.'
'Vasconcelos, Thatyana R. A.'
'Ferreira, Marcelle de L.'
'Wardell, James L.'
'Low, John N.'
'Glidewell, Christopher'
_publ_section_title
;
 Patterns of hydrogen bonding in mono- and di-substituted
 N-arylpyrazinecarboxamides
;
_journal_coeditor_code           BM5049
_journal_issue                   1
_journal_name_full               'Acta Crystallographica Section B'
_journal_page_first              84
_journal_page_last               100
_journal_paper_doi               10.1107/S0108768107051804
_journal_volume                  64
_journal_year                    2008
_chemical_formula_moiety         'C12 H11 N3 O2'
_chemical_formula_sum            'C12 H11 N3 O2'
_chemical_formula_weight         229.24
_chemical_name_systematic
;
N-(2-methoxyphenyl)pyrazinecarboxamide
;
_space_group_IT_number           61
_symmetry_cell_setting           orthorhombic
_symmetry_space_group_name_Hall  '-P 2ac 2ab'
_symmetry_space_group_name_H-M   'P b c a'
_atom_sites_solution_hydrogens   geom
_atom_sites_solution_primary     direct
_atom_sites_solution_secondary   difmap
_cell_angle_alpha                90.00
_cell_angle_beta                 90.00
_cell_angle_gamma                90.00
_cell_formula_units_Z            8
_cell_length_a                   14.1667(4)
_cell_length_b                   20.7513(6)
_cell_length_c                   7.4516(3)
_cell_measurement_reflns_used    2861
_cell_measurement_temperature    120(2)
_cell_measurement_theta_max      27.48
_cell_measurement_theta_min      2.91
_cell_volume                     2190.60(12)
_computing_cell_refinement       'DENZO (Otwinowski & Minor, 1997) & COLLECT'
_computing_data_collection       'COLLECT (Hooft, 1999)'
_computing_data_reduction        'DENZO & COLLECT'
_computing_molecular_graphics    'PLATON (Spek, 2003)'
_computing_publication_material  'SHELXL-97 & PRPKAPPA (Ferguson, 1999)'
_computing_structure_refinement  'OSCAIL and SHELXL-97 (Sheldrick, 1997)'
_computing_structure_solution
'OSCAIL (McArdle, 2003) & SHELXS-97 (Sheldrick, 1997)'
_diffrn_ambient_temperature      120(2)
_diffrn_detector_area_resol_mean 9.091
_diffrn_measured_fraction_theta_full 0.998
_diffrn_measured_fraction_theta_max 0.998
_diffrn_measurement_device_type  'Bruker-Nonius KappaCCD'
_diffrn_measurement_method       'φ & ω scans'
_diffrn_radiation_monochromator  graphite
_diffrn_radiation_source         'Bruker-Nonius FR591 rotating anode'
_diffrn_radiation_type           'Mo K\a'
_diffrn_radiation_wavelength     0.71073
_diffrn_reflns_av_R_equivalents  0.0462
_diffrn_reflns_av_sigmaI/netI    0.0375
_diffrn_reflns_limit_h_max       18
_diffrn_reflns_limit_h_min       -16
_diffrn_reflns_limit_k_max       26
_diffrn_reflns_limit_k_min       -23
_diffrn_reflns_limit_l_max       9
_diffrn_reflns_limit_l_min       -9
_diffrn_reflns_number            16739
_diffrn_reflns_theta_full        27.49
_diffrn_reflns_theta_max         27.49
_diffrn_reflns_theta_min         3.24
_diffrn_standards_decay_%        0
_diffrn_standards_number         0
_exptl_absorpt_coefficient_mu    0.098
_exptl_absorpt_correction_T_max  0.990
_exptl_absorpt_correction_T_min  0.984
_exptl_absorpt_correction_type   multi-scan
_exptl_absorpt_process_details   'SADABS 2.10 (Sheldrick, 2003)'
_exptl_crystal_colour            colourless
_exptl_crystal_density_diffrn    1.390
_exptl_crystal_density_method    'not measured'
_exptl_crystal_description       lath
_exptl_crystal_F_000             960
_exptl_crystal_size_max          0.38
_exptl_crystal_size_mid          0.36
_exptl_crystal_size_min          0.10
_refine_diff_density_max         0.170
_refine_diff_density_min         -0.236
_refine_ls_extinction_method     none
_refine_ls_goodness_of_fit_ref   1.046
_refine_ls_hydrogen_treatment    constr
_refine_ls_matrix_type           full
_refine_ls_number_parameters     155
_refine_ls_number_reflns         2509
_refine_ls_number_restraints     0
_refine_ls_restrained_S_all      1.046
_refine_ls_R_factor_all          0.0622
_refine_ls_R_factor_gt           0.0383
_refine_ls_shift/su_max          0.000
_refine_ls_shift/su_mean         0.000
_refine_ls_structure_factor_coef Fsqd
_refine_ls_weighting_details
'w=1/[σ²(Fo²)+(0.0506P)²+0.1850P] where P=(Fo²+2Fc²)/3'
_refine_ls_weighting_scheme      calc
_refine_ls_wR_factor_gt          0.0884
_refine_ls_wR_factor_ref         0.0987
_reflns_number_gt                1862
_reflns_number_total             2509
_reflns_threshold_expression     I>2σ(I)
_cod_data_source_file            bm5049.cif
_cod_data_source_block           XIV
_cod_depositor_comments
;
The following automatic conversions were performed:
'_exptl_absorpt_correction_type' value 'Multi-scan' changed to
'multi-scan' according to
'/home/saulius/struct/CIF-dictionaries/cif_core.dic' dictionary named
'cif_core.dic' version 2.4.1 from 2010-06-29.

Automatic conversion script
Id: cif_fix_enum 1527 2010-12-29 10:47:43Z saulius 

The following automatic conversions were performed:

'_exptl_absorpt_correction_type' value 'Multi-scan' changed to
'multi-scan' according to
/home/saulius/struct/CIF-dictionaries/cif_core.dic dictionary named
'cif_core.dic' version 2.4.1 from 2010-06-29.

Automatic conversion script
Id: cif_fix_values 1715 2011-07-08 13:25:40Z adriana 
;
_cod_database_code               2103062
loop_
_symmetry_equiv_pos_as_xyz
'x, y, z'
'-x+1/2, -y, z+1/2'
'x+1/2, -y+1/2, -z'
'-x, y+1/2, -z+1/2'
'-x, -y, -z'
'x+1/2, y, -z+1/2'
'-x+1/2, y+1/2, z'
'x, -y+1/2, z+1/2'
loop_
_atom_site_type_symbol
_atom_site_label
_atom_site_fract_x
_atom_site_fract_y
_atom_site_fract_z
_atom_site_U_iso_or_equiv
_atom_site_adp_type
_atom_site_calc_flag
_atom_site_refinement_flags
_atom_site_occupancy
N N1 0.69003(7) 0.41030(5) 0.65765(14) 0.0228(3) Uani d . 1
C C2 0.60024(8) 0.42957(6) 0.67454(17) 0.0195(3) Uani d . 1
C C3 0.56874(9) 0.46232(6) 0.82543(17) 0.0234(3) Uani d . 1
N N4 0.62604(8) 0.47597(5) 0.96319(15) 0.0267(3) Uani d . 1
C C5 0.71533(9) 0.45650(6) 0.94503(18) 0.0263(3) Uani d . 1
C C6 0.74751(9) 0.42445(6) 0.79433(18) 0.0253(3) Uani d . 1
C C7 0.53344(8) 0.41405(6) 0.52352(17) 0.0206(3) Uani d . 1
O O7 0.44927(6) 0.42775(4) 0.53183(12) 0.0288(2) Uani d . 1
N N17 0.57611(7) 0.38381(5) 0.38501(14) 0.0221(3) Uani d . 1
C C11 0.53633(8) 0.35940(6) 0.22667(17) 0.0198(3) Uani d . 1
C C12 0.59737(8) 0.32344(6) 0.11608(17) 0.0205(3) Uani d . 1
O O12 0.68797(6) 0.31795(4) 0.18028(12) 0.0248(2) Uani d . 1
C C121 0.75182(9) 0.27901(7) 0.08006(19) 0.0320(4) Uani d . 1
C C13 0.56525(9) 0.29700(6) -0.04278(18) 0.0244(3) Uani d . 1
C C14 0.47168(9) 0.30661(6) -0.09400(19) 0.0272(3) Uani d . 1
C C15 0.41162(9) 0.34185(6) 0.01372(18) 0.0264(3) Uani d . 1
C C16 0.44337(8) 0.36814(6) 0.17428(18) 0.0228(3) Uani d . 1
H H3 0.5046 0.4755 0.8312 0.028 Uiso calc R 1
H H5 0.7586 0.4650 1.0396 0.032 Uiso calc R 1
H H6 0.8120 0.4122 0.7877 0.030 Uiso calc R 1
H H17 0.6366 0.3768 0.4035 0.026 Uiso d R 1
H H12A 0.7598 0.2973 -0.0402 0.048 Uiso calc R 1
H H12B 0.7265 0.2352 0.0703 0.048 Uiso calc R 1
H H12C 0.8130 0.2778 0.1412 0.048 Uiso calc R 1
H H13 0.6066 0.2725 -0.1164 0.029 Uiso calc R 1
H H14 0.4492 0.2888 -0.2034 0.033 Uiso calc R 1
H H15 0.3480 0.3482 -0.0222 0.032 Uiso calc R 1
H H16 0.4014 0.3921 0.2480 0.027 Uiso calc R 1
loop_
_atom_site_aniso_label
_atom_site_aniso_U_11
_atom_site_aniso_U_22
_atom_site_aniso_U_33
_atom_site_aniso_U_12
_atom_site_aniso_U_13
_atom_site_aniso_U_23
N1 0.0168(6) 0.0272(6) 0.0244(6) 0.0004(4) 0.0002(4) -0.0004(5)
C2 0.0177(6) 0.0188(6) 0.0220(7) -0.0008(5) 0.0020(5) 0.0021(5)
C3 0.0225(7) 0.0221(6) 0.0255(7) 0.0015(5) 0.0024(5) -0.0003(6)
N4 0.0283(7) 0.0257(6) 0.0262(7) 0.0015(5) 0.0001(5) -0.0030(5)
C5 0.0275(7) 0.0253(7) 0.0261(7) -0.0013(6) -0.0030(6) -0.0020(6)
C6 0.0191(7) 0.0292(7) 0.0276(8) 0.0004(5) -0.0016(5) 0.0002(6)
C7 0.0183(6) 0.0198(6) 0.0237(7) 0.0000(5) 0.0032(5) 0.0021(5)
O7 0.0159(5) 0.0403(6) 0.0300(6) 0.0032(4) 0.0015(4) -0.0032(4)
N17 0.0150(5) 0.0279(6) 0.0233(6) 0.0029(4) -0.0018(4) -0.0034(5)
C11 0.0213(6) 0.0184(6) 0.0198(7) -0.0021(5) -0.0013(5) 0.0021(5)
C12 0.0180(6) 0.0191(6) 0.0245(7) -0.0004(5) -0.0018(5) 0.0034(5)
O12 0.0181(5) 0.0309(5) 0.0254(5) 0.0065(4) -0.0013(4) -0.0052(4)
C121 0.0254(8) 0.0360(8) 0.0345(8) 0.0085(6) 0.0012(6) -0.0079(7)
C13 0.0270(7) 0.0218(6) 0.0245(7) -0.0016(5) 0.0014(6) -0.0017(6)
C14 0.0295(8) 0.0276(7) 0.0246(7) -0.0073(6) -0.0058(6) 0.0002(6)
C15 0.0207(7) 0.0268(7) 0.0316(8) -0.0040(5) -0.0069(6) 0.0050(6)
C16 0.0197(7) 0.0215(6) 0.0273(7) -0.0008(5) -0.0002(5) 0.0018(6)
loop_
_atom_type_symbol
_atom_type_description
_atom_type_scat_dispersion_real
_atom_type_scat_dispersion_imag
_atom_type_scat_source
C C 0.0033 0.0016 'International Tables Vol C Tables 4.2.6.8 and 6.1.1.4'
H H 0.0000 0.0000 'International Tables Vol C Tables 4.2.6.8 and 6.1.1.4'
N N 0.0061 0.0033 'International Tables Vol C Tables 4.2.6.8 and 6.1.1.4'
O O 0.0106 0.0060 'International Tables Vol C Tables 4.2.6.8 and 6.1.1.4'
loop_
_geom_angle_atom_site_label_1
_geom_angle_atom_site_label_2
_geom_angle_atom_site_label_3
_geom_angle
_geom_angle_publ_flag
C6 N1 C2 116.19(11) no
N1 C2 C3 121.86(12) no
N1 C2 C7 117.58(11) no
C3 C2 C7 120.56(11) no
N4 C3 C2 121.99(12) no
N4 C3 H3 119.0 no
C2 C3 H3 119.0 no
C5 N4 C3 115.65(11) no
N4 C5 C6 122.71(12) no
N4 C5 H5 118.6 no
C6 C5 H5 118.6 no
N1 C6 C5 121.59(12) no
N1 C6 H6 119.2 no
C5 C6 H6 119.2 no
O7 C7 N17 125.52(12) no
O7 C7 C2 121.57(11) no
N17 C7 C2 112.91(10) no
C7 N17 C11 129.12(11) no
C7 N17 H17 113.1 no
C11 N17 H17 117.6 no
C16 C11 N17 124.87(11) no
C16 C11 C12 119.22(12) no
N17 C11 C12 115.91(11) no
O12 C12 C13 124.94(11) no
O12 C12 C11 114.43(11) no
C13 C12 C11 120.62(11) no
C12 O12 C121 117.23(10) no
O12 C121 H12A 109.5 no
O12 C121 H12B 109.5 no
H12A C121 H12B 109.5 no
O12 C121 H12C 109.5 no
H12A C121 H12C 109.5 no
H12B C121 H12C 109.5 no
C12 C13 C14 119.40(12) no
C12 C13 H13 120.3 no
C14 C13 H13 120.3 no
C15 C14 C13 120.21(12) no
C15 C14 H14 119.9 no
C13 C14 H14 119.9 no
C14 C15 C16 120.63(12) no
C14 C15 H15 119.7 no
C16 C15 H15 119.7 no
C11 C16 C15 119.92(12) no
C11 C16 H16 120.0 no
C15 C16 H16 120.0 no
loop_
_geom_bond_atom_site_label_1
_geom_bond_atom_site_label_2
_geom_bond_distance
_geom_bond_publ_flag
N1 C6 1.3366(16) no
N1 C2 1.3393(15) no
C2 C3 1.3875(18) no
C2 C7 1.5052(17) no
C3 N4 1.3390(16) no
C3 H3 0.95 no
N4 C5 1.3348(17) no
C5 C6 1.3824(18) no
C5 H5 0.95 no
C6 H6 0.95 no
C7 O7 1.2274(14) no
C7 N17 1.3507(16) no
N17 C11 1.4023(16) no
N17 H17 0.8799 no
C11 C16 1.3856(17) no
C11 C12 1.4083(17) no
C12 O12 1.3745(14) no
C12 C13 1.3818(18) no
O12 C121 1.4244(15) no
C121 H12A 0.98 no
C121 H12B 0.98 no
C121 H12C 0.98 no
C13 C14 1.3937(18) no
C13 H13 0.95 no
C14 C15 1.3794(19) no
C14 H14 0.95 no
C15 C16 1.3897(19) no
C15 H15 0.95 no
C16 H16 0.95 no
loop_
_geom_hbond_atom_site_label_D
_geom_hbond_atom_site_label_H
_geom_hbond_atom_site_label_A
_geom_hbond_site_symmetry_A
_geom_hbond_distance_DH
_geom_hbond_distance_HA
_geom_hbond_distance_DA
_geom_hbond_angle_DHA
_geom_hbond_publ_flag
N17 H17 N1 . 0.88 2.15 2.6522(15) 115 no
C6 H6 O7 6_556 0.95 2.39 3.1389(16) 136 no
loop_
_geom_torsion_atom_site_label_1
_geom_torsion_atom_site_label_2
_geom_torsion_atom_site_label_3
_geom_torsion_atom_site_label_4
_geom_torsion
_geom_torsion_publ_flag
C6 N1 C2 C3 -0.04(17) no
C6 N1 C2 C7 -179.63(10) no
N1 C2 C3 N4 -0.62(19) no
C7 C2 C3 N4 178.96(11) no
C2 C3 N4 C5 0.53(18) no
C3 N4 C5 C6 0.18(18) no
C2 N1 C6 C5 0.74(18) no
N4 C5 C6 N1 -0.8(2) no
N1 C2 C7 O7 177.05(11) no
C3 C2 C7 O7 -2.55(18) no
N1 C2 C7 N17 -2.27(15) no
C3 C2 C7 N17 178.14(11) no
O7 C7 N17 C11 -2.7(2) no
C2 C7 N17 C11 176.63(11) no
C7 N17 C11 C16 7.1(2) no
C7 N17 C11 C12 -172.77(12) no
C16 C11 C12 O12 179.77(10) no
N17 C11 C12 O12 -0.36(15) no
C16 C11 C12 C13 -0.11(18) no
N17 C11 C12 C13 179.76(10) no
C13 C12 O12 C121 -3.71(17) no
C11 C12 O12 C121 176.42(11) no
O12 C12 C13 C14 -179.35(11) no
C11 C12 C13 C14 0.52(18) no
C12 C13 C14 C15 -0.44(19) no
C13 C14 C15 C16 -0.04(19) no
N17 C11 C16 C15 179.77(11) no
C12 C11 C16 C15 -0.37(18) no
C14 C15 C16 C11 0.45(19) no
loop_
_cod_related_entry_id
_cod_related_entry_database
_cod_related_entry_code
1 ChemSpider 703182
