#------------------------------------------------------------------------------
#$Date: 2017-10-13 08:28:26 +0300 (Fri, 13 Oct 2017) $
#$Revision: 201972 $
#$URL: file:///home/coder/svn-repositories/cod/cif/2/10/33/2103331.cif $
#------------------------------------------------------------------------------
#
# This file is available in the Crystallography Open Database (COD),
# http://www.crystallography.net/. The original data for this entry
# were provided by IUCr Journals, http://journals.iucr.org/.
#
# The file may be used within the scientific community so long as
# proper attribution is given to the journal article from which the
# data were obtained.
#
data_2103331
loop_
_publ_author_name
'Wójcik, Grażyna'
'Holband, Jolanta'
_publ_section_title
;
 Variable-temperature studies of the 4-isopropylphenol crystal
 structure from X-ray diffraction. Comparison of thermal expansion and
 molecular dynamics with spectroscopic results
;
_journal_issue                   4
_journal_name_full               'Acta Crystallographica Section B'
_journal_page_first              684
_journal_page_last               689
_journal_paper_doi               10.1107/S0108768102004573
_journal_volume                  58
_journal_year                    2002
_chemical_formula_sum            'C9 H12 O'
_chemical_formula_weight         136.19
_chemical_name_systematic        4-Isopropyl-phenol
_space_group_IT_number           76
_symmetry_cell_setting           tetragonal
_symmetry_space_group_name_Hall  'P 4w'
_symmetry_space_group_name_H-M   'P 41'
_atom_sites_solution_hydrogens   geom
_atom_sites_solution_primary     direct
_atom_sites_solution_secondary   difmap
_audit_creation_method           SHELXL-97
_cell_angle_alpha                90.00
_cell_angle_beta                 90.00
_cell_angle_gamma                90.00
_cell_formula_units_Z            4
_cell_length_a                   9.9280(10)
_cell_length_b                   9.9340(10)
_cell_length_c                   8.3160(10)
_cell_measurement_temperature    293(2)
_cell_volume                     820.16(15)
_computing_cell_refinement       'Kuma KM4CCD Software, 1999'
_computing_data_collection       'Kuma KM4CCD Software, 1999'
_computing_data_reduction        'Kuma KM4CCD Software, 1999'
_computing_molecular_graphics    'ORTEP-3 (Farrugia, 1997)'
_computing_publication_material  'SHELXL97 (Sheldrick, 1997b)'
_computing_structure_refinement  'SHELXL97 (Sheldrick, 1997b)'
_computing_structure_solution    'SHELXS97 (Sheldrick, 1997a)'
_diffrn_ambient_temperature      293(2)
_diffrn_measured_fraction_theta_full 0.854
_diffrn_measured_fraction_theta_max 0.854
_diffrn_measurement_method       'ω scans'
_diffrn_radiation_monochromator  graphite
_diffrn_radiation_source         'fine-focus sealed tube'
_diffrn_radiation_type           MoK\a
_diffrn_radiation_wavelength     0.71073
_diffrn_reflns_av_R_equivalents  0.0447
_diffrn_reflns_av_sigmaI/netI    0.0325
_diffrn_reflns_limit_h_max       14
_diffrn_reflns_limit_h_min       -14
_diffrn_reflns_limit_k_max       14
_diffrn_reflns_limit_k_min       -14
_diffrn_reflns_limit_l_max       8
_diffrn_reflns_limit_l_min       -12
_diffrn_reflns_number            4448
_diffrn_reflns_theta_full        31.29
_diffrn_reflns_theta_max         31.29
_diffrn_reflns_theta_min         3.80
_diffrn_standards_decay_%        0
_diffrn_standards_interval_count 0
_diffrn_standards_number         0
_exptl_absorpt_coefficient_mu    0.070
_exptl_absorpt_correction_type   none
_exptl_crystal_colour            Colourless
_exptl_crystal_density_diffrn    1.103
_exptl_crystal_density_method    'not measured'
_exptl_crystal_description       Prism
_exptl_crystal_F_000             296
_exptl_crystal_size_max          1.02
_exptl_crystal_size_mid          0.51
_exptl_crystal_size_min          0.36
_refine_diff_density_max         0.218
_refine_diff_density_min         -0.193
_refine_ls_abs_structure_details 'Flack H D (1983), Acta Cryst. A39, 876-881'
_refine_ls_abs_structure_Flack   2(2)
_refine_ls_extinction_coef       0.34(5)
_refine_ls_extinction_expression Fc^*^=kFc[1+0.001xFc²λ³/sin(2θ)]^-1/4^
_refine_ls_extinction_method     SHELXL
_refine_ls_goodness_of_fit_ref   1.104
_refine_ls_hydrogen_treatment    mixed
_refine_ls_matrix_type           full
_refine_ls_number_parameters     90
_refine_ls_number_reflns         1519
_refine_ls_number_restraints     1
_refine_ls_restrained_S_all      1.104
_refine_ls_R_factor_all          0.0838
_refine_ls_R_factor_gt           0.0603
_refine_ls_shift/su_max          0.001
_refine_ls_shift/su_mean         0.000
_refine_ls_structure_factor_coef Fsqd
_refine_ls_weighting_details
'w=1/[σ²(Fo²)+(0.1050P)²+0.0244P] where P=(Fo²+2Fc²)/3'
_refine_ls_weighting_scheme      calc
_refine_ls_wR_factor_gt          0.1655
_refine_ls_wR_factor_ref         0.1844
_reflns_number_gt                1049
_reflns_number_total             1519
_reflns_threshold_expression     >2sigma(I)
_cod_data_source_file            ns0008.cif
_cod_data_source_block           4ip300
_cod_depositor_comments
;
The following automatic conversions were performed:

'_refine_ls_weighting_scheme' value 'calc
w=1/[\s^2^(Fo^2^)+(0.1050P)^2^+0.0244P] where P=(Fo^2^+2Fc^2^)/3' was
changed to 'calc'. New tag '_refine_ls_weighting_details' was
created. The value of the new tag was set to
'w=1/[\s^2^(Fo^2^)+(0.1050P)^2^+0.0244P] where P=(Fo^2^+2Fc^2^)/3'.

Automatic conversion script
Id: cif_fix_values 3143 2015-03-26 13:38:13Z robertas 
;
_cod_original_sg_symbol_H-M      P4~1~
_cod_database_code               2103331
_cod_database_fobs_code          2103331
loop_
_symmetry_equiv_pos_as_xyz
'x, y, z'
'-x, -y, z+1/2'
'-y, x, z+1/4'
'y, -x, z+3/4'
loop_
_atom_site_label
_atom_site_fract_x
_atom_site_fract_y
_atom_site_fract_z
_atom_site_U_iso_or_equiv
_atom_site_adp_type
_atom_site_calc_flag
_atom_site_refinement_flags
_atom_site_occupancy
_atom_site_type_symbol
O1 0.86515(18) 0.01214(18) 0.0786(2) 0.0575(5) Uani d . 1 O
H1 0.9021 0.0447 -0.0005 0.086 Uiso calc R 1 H
C1 0.7387(2) 0.0668(2) 0.0953(3) 0.0478(5) Uani d . 1 C
C2 0.6590(3) 0.0192(3) 0.2194(3) 0.0557(6) Uani d . 1 C
H2 0.6908 -0.0487 0.2864 0.067 Uiso calc R 1 H
C3 0.5325(3) 0.0726(3) 0.2436(3) 0.0586(7) Uani d . 1 C
H3 0.4807 0.0415 0.3290 0.070 Uiso calc R 1 H
C4 0.4805(3) 0.1717(3) 0.1435(3) 0.0533(6) Uani d . 1 C
C5 0.5615(3) 0.2172(3) 0.0196(3) 0.0546(6) Uani d . 1 C
H5 0.5293 0.2839 -0.0489 0.066 Uiso calc R 1 H
C6 0.6898(3) 0.1657(2) -0.0047(3) 0.0518(6) Uani d . 1 C
H6 0.7427 0.1980 -0.0885 0.062 Uiso calc R 1 H
C7 0.3422(3) 0.2295(3) 0.1716(4) 0.0668(8) Uani d . 1 C
H7 0.3203 0.2869 0.0795 0.080 Uiso calc R 1 H
C8 0.3406(3) 0.3181(4) 0.3223(5) 0.1138(17) Uani d . 1 C
H8A 0.2519 0.3543 0.3377 0.171 Uiso calc R 1 H
H8B 0.4038 0.3905 0.3096 0.171 Uiso calc R 1 H
H8C 0.3652 0.2650 0.4143 0.171 Uiso calc R 1 H
C9 0.2355(3) 0.1205(4) 0.1817(5) 0.0939(12) Uani d R 1 C
H9A 0.1489 0.1611 0.1990 0.141 Uiso calc R 1 H
H9B 0.2559 0.0611 0.2695 0.141 Uiso calc R 1 H
H9C 0.2341 0.0703 0.0831 0.141 Uiso calc R 1 H
loop_
_atom_site_aniso_label
_atom_site_aniso_U_11
_atom_site_aniso_U_22
_atom_site_aniso_U_33
_atom_site_aniso_U_12
_atom_site_aniso_U_13
_atom_site_aniso_U_23
O1 0.0513(10) 0.0594(10) 0.0619(11) 0.0041(7) 0.0054(8) 0.0110(8)
C1 0.0499(12) 0.0472(11) 0.0462(11) -0.0018(9) -0.0008(9) 0.0011(9)
C2 0.0562(13) 0.0546(13) 0.0564(13) 0.0018(10) 0.0014(11) 0.0138(11)
C3 0.0563(13) 0.0664(16) 0.0533(13) 0.0009(11) 0.0079(11) 0.0169(12)
C4 0.0516(12) 0.0564(13) 0.0519(13) 0.0033(10) 0.0002(10) 0.0050(11)
C5 0.0575(14) 0.0562(13) 0.0501(12) 0.0020(10) -0.0016(10) 0.0123(10)
C6 0.0548(13) 0.0550(13) 0.0455(11) -0.0027(9) 0.0039(10) 0.0081(10)
C7 0.0576(14) 0.0823(19) 0.0603(15) 0.0151(13) 0.0055(12) 0.0165(14)
C8 0.108(3) 0.135(4) 0.098(3) 0.050(3) 0.004(3) -0.024(3)
C9 0.0555(17) 0.122(3) 0.104(3) 0.0084(19) 0.0066(18) 0.037(2)
loop_
_atom_type_symbol
_atom_type_description
_atom_type_scat_dispersion_real
_atom_type_scat_dispersion_imag
_atom_type_scat_source
C C 0.0033 0.0016 'International Tables Vol C Tables 4.2.6.8 and 6.1.1.4'
H H 0.0000 0.0000 'International Tables Vol C Tables 4.2.6.8 and 6.1.1.4'
O O 0.0106 0.0060 'International Tables Vol C Tables 4.2.6.8 and 6.1.1.4'
loop_
_geom_angle_atom_site_label_1
_geom_angle_atom_site_label_2
_geom_angle_atom_site_label_3
_geom_angle
O1 C1 C6 122.9(2)
O1 C1 C2 117.5(2)
C6 C1 C2 119.5(2)
C3 C2 C1 119.9(2)
C2 C3 C4 121.6(2)
C5 C4 C3 117.5(2)
C5 C4 C7 121.4(2)
C3 C4 C7 121.1(2)
C4 C5 C6 121.4(2)
C1 C6 C5 120.0(2)
C4 C7 C9 111.9(3)
C4 C7 C8 110.8(3)
C9 C7 C8 111.0(3)
loop_
_geom_bond_atom_site_label_1
_geom_bond_atom_site_label_2
_geom_bond_distance
O1 C1 1.375(3)
C1 C6 1.375(3)
C1 C2 1.384(3)
C2 C3 1.378(4)
C3 C4 1.388(3)
C4 C5 1.383(4)
C4 C7 1.506(4)
C5 C6 1.387(4)
C7 C9 1.517(5)
C7 C8 1.532(5)
loop_
_geom_torsion_atom_site_label_1
_geom_torsion_atom_site_label_2
_geom_torsion_atom_site_label_3
_geom_torsion_atom_site_label_4
_geom_torsion
O1 C1 C2 C3 178.6(3)
C6 C1 C2 C3 -1.1(4)
C1 C2 C3 C4 1.6(5)
C2 C3 C4 C5 -1.2(4)
C2 C3 C4 C7 -179.8(3)
C3 C4 C5 C6 0.3(4)
C7 C4 C5 C6 178.9(3)
O1 C1 C6 C5 -179.5(2)
C2 C1 C6 C5 0.2(4)
C4 C5 C6 C1 0.2(4)
C5 C4 C7 C9 127.9(3)
C3 C4 C7 C9 -53.6(4)
C5 C4 C7 C8 -107.7(3)
C3 C4 C7 C8 70.9(4)
loop_
_cod_related_entry_id
_cod_related_entry_database
_cod_related_entry_code
1 ChemSpider 7185
