#------------------------------------------------------------------------------
#$Date: 2016-02-14 16:26:36 +0200 (Sun, 14 Feb 2016) $
#$Revision: 176435 $
#$URL: svn://www.crystallography.net/cod/cif/2/10/35/2103586.cif $
#------------------------------------------------------------------------------
#
# This file is available in the Crystallography Open Database (COD),
# http://www.crystallography.net/. The original data for this entry
# were provided by IUCr Journals, http://journals.iucr.org/.
#
# The file may be used within the scientific community so long as
# proper attribution is given to the journal article from which the
# data were obtained.
#
data_2103586
loop_
_publ_author_name
'Krogh Andersen, Anne Marie'
'Carlson, Stefan'
_publ_section_title
;
 High-pressure structures of α- and δ-ZrMo₂O₈
;
_journal_issue                   1
_journal_name_full               'Acta Crystallographica Section B'
_journal_page_first              20
_journal_page_last               26
_journal_paper_doi               10.1107/S0108768100013215
_journal_volume                  57
_journal_year                    2001
_chemical_formula_structural     Zr(Mo4)2
_chemical_formula_sum            'Mo2 O8 Zr'
_chemical_formula_weight         411.10
_chemical_name_systematic        'Zirconium molybdate'
_space_group_IT_number           12
_symmetry_cell_setting           monoclinic
_symmetry_space_group_name_Hall  '-C 2y'
_symmetry_space_group_name_H-M   'C 1 2/m 1'
_cell_angle_alpha                90.0
_cell_angle_beta                 93.004(2)
_cell_angle_gamma                90.0
_cell_formula_units_Z            2
_cell_length_a                   9.8358(3)
_cell_length_b                   5.98562(18)
_cell_length_c                   5.32344(19)
_cell_measurement_pressure       1480000
_cell_measurement_temperature    298
_cell_volume                     312.978(17)
_computing_structure_refinement  GSAS
_diffrn_ambient_temperature      298
_diffrn_measurement_device_type  synchrotron
_diffrn_radiation_type           synchrotron
_diffrn_radiation_wavelength     .42496
_diffrn_reflns_number            106
_refine_ls_goodness_of_fit_all   1.85
_refine_ls_number_parameters     53
_refine_ls_number_reflns         108
_refine_ls_shift/su_max          .01
_refine_ls_shift/su_mean         .01
_refine_ls_structure_factor_coef Fsqd
_reflns_number_gt                106
_reflns_number_total             106
_cod_data_source_file            sn0004.cif
_cod_data_source_block           1.48GPa
_cod_original_cell_volume        312.98(2)
_cod_original_sg_symbol_H-M      'C 2/m'
_cod_original_formula_sum        'Mo2 O8 Zr1'
_cod_database_code               2103586
_cod_database_fobs_code          2103586
loop_
_symmetry_equiv_pos_as_xyz
+x,+y,+z
-x,+y,-z
-x,-y,-z
+x,-y,+z
+x+1/2,+y+1/2,+z
-x+1/2,+y+1/2,-z
-x+1/2,-y+1/2,-z
+x+1/2,-y+1/2,+z
loop_
_atom_site_label
_atom_site_fract_x
_atom_site_fract_y
_atom_site_fract_z
_atom_site_U_iso_or_equiv
_atom_site_thermal_displace_type
_atom_site_occupancy
Zr1 .0 .0 .0 .023(3) Uiso 1.0
Mo1 .3305(5) .0 .3111(7) .0070(16) Uiso 1.0
O1 .1125(13) -.247(3) .853(2) .009(3) Uiso 1.0
O2 .1312(13) .0 .254(2) .009(3) Uiso 1.0
O3 .3735(13) .0 .601(3) .009(3) Uiso 1.0
loop_
_atom_type_symbol
_atom_type_description
_atom_type_scat_dispersion_real
_atom_type_scat_dispersion_imag
_atom_type_scat_source
O O .0056 .0036 'International Tables Vol C Tables 4.2.6.8 and 6.1.1.4'
Mo Mo -1.2703 3.0978 'International Tables Vol C Tables 4.2.6.8 and 6.1.1.4'
Zr Zr -.5364 2.6141 'International Tables Vol C Tables 4.2.6.8 and 6.1.1.4'
loop_
_geom_angle_atom_site_label_1
_geom_angle_atom_site_label_2
_geom_angle_atom_site_label_3
_geom_angle
O1 Zr O1 86.1(5)
O1 Zr O1 86.1(5)
O1 Zr O1 93.9(5)
O1 Zr O1 93.9(5)
O1 Zr O1 180(2)
O1 Zr O1 180(2)
O1 Zr O2 84.8(4)
O1 Zr O2 84.8(4)
O1 Zr O2 84.8(4)
O1 Zr O2 84.8(4)
O1 Zr O2 95.2(4)
O1 Zr O2 95.2(4)
O1 Zr O2 95.2(4)
O1 Zr O2 95.2(4)
O2 Zr O2 180(3)
O1 Mo O1 109.7(5)
O1 Mo O2 104.8(4)
O1 Mo O2 104.8(4)
O1 Mo O3 112.8(4)
O1 Mo O3 112.8(4)
O2 Mo O3 111.5(6)
loop_
_geom_bond_atom_site_label_1
_geom_bond_atom_site_label_2
_geom_bond_distance
Zr O1 2.024(11)
Zr O1 2.024(11)
Zr O1 2.024(11)
Zr O1 2.024(11)
Zr O2 1.820(12)
Zr O2 1.820(12)
Mo O1 1.852(12)
Mo O1 1.852(12)
Mo O2 1.967(14)
Mo O3 1.586(16)
