#------------------------------------------------------------------------------
#$Date: 2018-08-09 11:08:46 +0300 (Thu, 09 Aug 2018) $
#$Revision: 209498 $
#$URL: file:///home/coder/svn-repositories/cod/cif/2/10/36/2103622.cif $
#------------------------------------------------------------------------------
#
# This file is available in the Crystallography Open Database (COD),
# http://www.crystallography.net/. The original data for this entry
# were provided by IUCr Journals, http://journals.iucr.org/.
#
# The file may be used within the scientific community so long as
# proper attribution is given to the journal article from which the
# data were obtained.
#
data_2103622
loop_
_publ_author_name
'Wilson, Chick C.'
_publ_section_title
;
 Migration of the proton in the strong O---H···O
 hydrogen bond in urea--phosphoric acid (1/1)
;
_journal_issue                   3
_journal_name_full               'Acta Crystallographica Section B'
_journal_page_first              435
_journal_page_last               439
_journal_paper_doi               10.1107/S0108768100018875
_journal_volume                  57
_journal_year                    2001
_chemical_formula_sum            'C H7 N2 O5 P'
_chemical_formula_weight         158.0
_chemical_name_common            'Urea-phosphoric acid'
_chemical_name_systematic
;
Urea-phosphoric acid 1:1 complex
;
_space_group_IT_number           61
_symmetry_cell_setting           orthorhombic
_symmetry_space_group_name_Hall  '-P 2ac 2ab'
_symmetry_space_group_name_H-M   'P b c a'
_cell_angle_alpha                90.00
_cell_angle_beta                 90.00
_cell_angle_gamma                90.00
_cell_formula_units_Z            8
_cell_length_a                   17.549
_cell_length_b                   7.446
_cell_length_c                   8.959
_cell_measurement_reflns_used    25
_cell_measurement_temperature    250.0(10)
_cell_volume                     1170.671
_computing_molecular_graphics    'ORTEP (Johnson, 1994)'
_computing_structure_refinement  'GSAS (Larsen & von Dreele, 1994)'
_diffrn_ambient_temperature      250.0(10)
_diffrn_measurement_device       SXD
_diffrn_measurement_method       'time-of-flight LAUE diffraction'
_diffrn_radiation_monochromator  none
_diffrn_radiation_probe          neutron
_diffrn_radiation_source         'ISIS spallation source'
_diffrn_radiation_type           neutron
_diffrn_radiation_wavelength     0.5-5.0
_diffrn_reflns_av_R_equivalents  .066
_diffrn_reflns_av_sigmaI/netI    .0426
_diffrn_reflns_limit_h_max       26
_diffrn_reflns_limit_h_min       0
_diffrn_reflns_limit_k_max       12
_diffrn_reflns_limit_k_min       0
_diffrn_reflns_limit_l_max       15
_diffrn_reflns_limit_l_min       0
_diffrn_reflns_number            1798
_exptl_absorpt_coefficient_mu    '1.960, at 1 Angstrom'
_exptl_absorpt_correction_T_max  .78
_exptl_absorpt_correction_T_min  .36
_exptl_absorpt_correction_type   empirical
_exptl_absorpt_process_details
;
The linear absorption coefficient is wavelength dependent
 and it is calculated as:
          mu = 1.00 + 0.96 * lambda  [cm^-1]
;
_exptl_crystal_colour            colourless
_exptl_crystal_density_diffrn    1.794
_exptl_crystal_density_method    'not measured'
_exptl_crystal_description       'irregular prisms'
_exptl_crystal_F_000             26.58
_exptl_crystal_size_max          3.0
_exptl_crystal_size_mid          2.5
_exptl_crystal_size_min          1.5
_refine_diff_density_max         1.112
_refine_diff_density_min         -1.365
_refine_ls_extinction_coef       8.410
_refine_ls_extinction_method     'Becker-Coppens Lorentzian model'
_refine_ls_goodness_of_fit_ref   1.182
_refine_ls_hydrogen_treatment    refall
_refine_ls_matrix_type           full
_refine_ls_number_parameters     145
_refine_ls_number_reflns         782
_refine_ls_number_restraints     0
_refine_ls_restrained_S_all      1.182
_refine_ls_R_factor_all          .093
_refine_ls_R_factor_gt           .093
_refine_ls_shift/su_max          .000
_refine_ls_shift/su_mean         .000
_refine_ls_structure_factor_coef Fsqd
_refine_ls_weighting_details     w=1/[σ²(Fo²)]
_refine_ls_weighting_scheme      calc
_refine_ls_wR_factor_ref         .171
_reflns_number_observed          782
_reflns_number_total             782
_reflns_observed_criterion       >3sigma(I)
_cod_data_source_file            an0570.cif
_cod_data_source_block           250K
_cod_depositor_comments
;
 Correcting the ATOM_TYPE loop after consulting the original supplementary
 data.

 Antanas Vaitkus,
 2018-08-09

The following automatic conversions were performed:
'_symmetry_cell_setting' value 'Orthorhombic' changed to 'orthorhombic'
according to '/home/saulius/struct/CIF-dictionaries/cif_core.dic'
dictionary named 'cif_core.dic' version 2.4.1 from 2010-06-29.

Automatic conversion script
Id: cif_fix_enum 1527 2010-12-29 10:47:43Z saulius 

The following automatic conversions were performed:

'_symmetry_cell_setting' value 'Orthorhombic' changed to
'orthorhombic' according to
/home/saulius/struct/CIF-dictionaries/cif_core.dic dictionary named
'cif_core.dic' version 2.4.1 from 2010-06-29.

Automatic conversion script
Id: cif_fix_values 1715 2011-07-08 13:25:40Z adriana 

The following automatic conversions were performed:

'_refine_ls_weighting_scheme' value 'calc w=1/[\s^2^(Fo^2^)]' was
changed to 'calc'. New tag '_refine_ls_weighting_details' was
created. The value of the new tag was set to 'w=1/[\s^2^(Fo^2^)]'.

Automatic conversion script
Id: cif_fix_values 3143 2015-03-26 13:38:13Z robertas 
;
_cod_original_cell_volume        1170.6
_cod_database_code               2103622
loop_
_symmetry_equiv_pos_as_xyz
'x, y, z'
'-x+1/2, -y, z+1/2'
'x+1/2, -y+1/2, -z'
'-x, y+1/2, -z+1/2'
'-x, -y, -z'
'x-1/2, y, -z-1/2'
'-x-1/2, y-1/2, z'
'x, -y-1/2, z-1/2'
loop_
_atom_site_label
_atom_site_fract_x
_atom_site_fract_y
_atom_site_fract_z
_atom_site_U_iso_or_equiv
_atom_site_adp_type
_atom_site_calc_flag
_atom_site_occupancy
_atom_site_type_symbol
P1 .3109(3) .2798(4) .3095(4) 1.80 Uani d 1 P
O1 .3394(3) .0913(6) .3618(5) 2.69 Uani d 1 O
O2 .2775(3) .3860(4) .4381(4) 2.17 Uani d 1 O
O3 .2466(3) .2497(5) .1954(5) 2.69 Uani d 1 O
O4 .3790(3) .3656(5) .2403(4) 2.64 Uani d 1 O
O5 .4469(3) .6331(4) .3106(4) 2.40 Uani d 1 O
N1 .5074(2) .7839(3) .4916(3) 2.67 Uani d 1 N
N2 .3968(2) .6352(4) .5421(3) 2.77 Uani d 1 N
C1 .4497(2) .6835(4) .4483(4) 1.80 Uani d 1 C
H1 .2979(6) .0121(9) .3916(9) 3.50 Uani d 1 H
H11 .5527(7) .8119(9) .4217(10) 4.66 Uani d 1 H
H12 .5135(7) .8252(10) .5982(8) 4.97 Uani d 1 H
H21 .3563(7) .5559(12) .5111(10) 5.02 Uani d 1 H
H22 .3987(7) .6719(11) .6479(8) 5.54 Uani d 1 H
H3 .2608(6) .1963(9) .0964(8) 3.62 Uani d 1 H
H4 .4088(6) .5081(10) .2809(8) 4.00 Uani d 1 H
loop_
_atom_site_aniso_label
_atom_site_aniso_U_11
_atom_site_aniso_U_22
_atom_site_aniso_U_33
_atom_site_aniso_U_12
_atom_site_aniso_U_13
_atom_site_aniso_U_23
P1 .020(4) .0175(17) .0156(17) -.0037(17) -.0010(18) -.0044(16)
O1 .020(4) .0271(19) .030(2) .004(2) -.002(2) .0004(18)
O2 .029(4) .0200(16) .0177(17) -.0005(17) .0042(19) -.0011(15)
O3 .018(4) .037(2) .0251(18) .0011(18) -.0063(18) -.0043(19)
O4 .026(4) .028(2) .0223(19) -.0039(19) .0061(19) .0008(15)
O5 .027(4) .0223(18) .0219(19) -.0045(17) .0006(18) .0005(16)
N1 .024(3) .0289(12) .0262(13) -.0075(13) .0027(13) -.0066(11)
N2 .021(3) .0345(15) .0275(14) -.0078(13) .0057(12) -.0043(11)
C1 .014(3) .0197(14) .0212(16) .0000(14) .0005(14) -.0002(12)
H1 .041(8) .022(3) .045(4) .008(3) .001(4) -.003(3)
H11 .043(9) .042(4) .046(5) -.010(4) .006(4) -.004(4)
H12 .067(10) .045(4) .030(4) -.003(5) -.011(4) -.013(3)
H21 .045(10) .050(5) .055(6) -.024(5) .008(5) -.017(4)
H22 .061(10) .068(5) .032(4) -.021(5) .000(4) -.026(4)
H3 .050(8) .029(3) .035(4) -.005(3) .007(4) -.003(3)
H4 .027(8) .050(5) .038(4) .002(4) .006(4) -.001(3)
loop_
_atom_type_symbol
_atom_type_description
_atom_type_scat_length_neutron
_atom_type_scat_source
C C 6.646 'International Tables Vol C Table 4.4.4.1'
H H -3.739 'International Tables Vol C Table 4.4.4.1'
N N 9.360 'International Tables Vol C Table 4.4.4.1'
O O 5.803 'International Tables Vol C Table 4.4.4.1'
loop_
_geom_angle_atom_site_label_1
_geom_angle_atom_site_label_2
_geom_angle_atom_site_label_3
_geom_angle
_geom_angle_publ_flag
O1 P1 O2 111.4(3) yes
O1 P1 O3 107.6(3) yes
O1 P1 O4 104.7(4) yes
O2 P1 O3 107.3(4) yes
O2 P1 O4 113.8(3) yes
O3 P1 O4 112.0(3) yes
P1 O1 H1 112.9(6) yes
P1 O3 H3 117.6(8) yes
P1 O4 H4 125.7(5) yes
C1 O5 H4 117.9(5) yes
C1 N1 H11 121.8(5) yes
C1 N1 H12 122.2(7) yes
H11 N1 H12 115.5(9) yes
C1 N2 H21 120.6(6) yes
C1 N2 H22 121.3(7) yes
H21 N2 H22 118.0(9) yes
O5 C1 N1 118.4(4) yes
O5 C1 N2 120.6(4) yes
N1 C1 N2 121.0(3) yes
loop_
_geom_bond_atom_site_label_1
_geom_bond_atom_site_label_2
_geom_bond_distance
_geom_bond_publ_flag
P1 O1 1.562(5) yes
P1 O2 1.516(5) yes
P1 O3 1.539(6) yes
P1 O4 1.490(7) yes
O1 H1 .974(12) yes
O3 H3 1.003(9) yes
O4 H4 1.237(9) yes
O5 C1 1.290(5) yes
O5 H4 1.176(10) yes
N1 C1 1.317(5) yes
N1 H11 1.032(12) yes
N1 H12 1.009(8) yes
N2 C1 1.302(5) yes
N2 H21 .965(11) yes
N2 H22 .988(8) yes
loop_
_geom_hbond_atom_site_label_D
_geom_hbond_atom_site_label_H
_geom_hbond_atom_site_label_A
_geom_hbond_site_symmetry_A
_geom_hbond_distance_DH
_geom_hbond_distance_HA
_geom_hbond_distance_DA
O1 H1 O2 7_655 .974(12) 1.676(11) 2.648(7)
O3 H3 O2 8_565 1.003(9) 1.573(8) 2.575(6)
O5 H4 O4 . 1.176(10) 1.237(9) 2.405(6)
loop_
_cod_related_entry_id
_cod_related_entry_database
_cod_related_entry_code
1 ChemSpider 19748
