#------------------------------------------------------------------------------
#$Date: 2017-10-13 08:28:26 +0300 (Fri, 13 Oct 2017) $
#$Revision: 201972 $
#$URL: file:///home/coder/svn-repositories/cod/cif/2/10/52/2105211.cif $
#------------------------------------------------------------------------------
#
# This file is available in the Crystallography Open Database (COD),
# http://www.crystallography.net/. The original data for this entry
# were provided by IUCr Journals, http://journals.iucr.org/.
#
# The file may be used within the scientific community so long as
# proper attribution is given to the journal article from which the
# data were obtained.
#
data_2105211
loop_
_publ_author_name
'Briggs, Naomi E. B.'
'Kennedy, Alan R.'
'Morrison, Catriona A.'
_publ_section_title
;
 42 salt forms of tyramine: structural comparison and the occurrence of
 hydrate formation
;
_journal_issue                   4
_journal_name_full               'Acta Crystallographica Section B'
_journal_page_first              453
_journal_page_last               464
_journal_paper_doi               10.1107/S0108768112026456
_journal_volume                  68
_journal_year                    2012
_chemical_formula_sum            'C8 H12 I N O'
_chemical_formula_weight         265.09
_space_group_IT_number           19
_symmetry_cell_setting           orthorhombic
_symmetry_space_group_name_Hall  'P 2ac 2ab'
_symmetry_space_group_name_H-M   'P 21 21 21'
_atom_sites_solution_hydrogens   geom
_atom_sites_solution_primary     direct
_atom_sites_solution_secondary   difmap
_audit_creation_method           SHELXL-97
_cell_angle_alpha                90.00
_cell_angle_beta                 90.00
_cell_angle_gamma                90.00
_cell_formula_units_Z            4
_cell_length_a                   5.1194(2)
_cell_length_b                   9.0278(2)
_cell_length_c                   20.1089(6)
_cell_measurement_reflns_used    3906
_cell_measurement_temperature    123(2)
_cell_measurement_theta_max      29.5999
_cell_measurement_theta_min      3.0259
_cell_volume                     929.37(5)
_computing_structure_refinement  'SHELXL-97 (Sheldrick, 1997)'
_diffrn_ambient_temperature      123(2)
_diffrn_measured_fraction_theta_full 0.990
_diffrn_measured_fraction_theta_max 0.990
_diffrn_measurement_device_type  'Oxford Diffraction Gemini S'
_diffrn_measurement_method       'omega scans'
_diffrn_radiation_monochromator  graphite
_diffrn_radiation_source         'fine-focus sealed tube'
_diffrn_radiation_type           MoK\a
_diffrn_radiation_wavelength     0.71073
_diffrn_reflns_av_R_equivalents  0.0210
_diffrn_reflns_av_sigmaI/netI    0.0251
_diffrn_reflns_limit_h_max       6
_diffrn_reflns_limit_h_min       -6
_diffrn_reflns_limit_k_max       11
_diffrn_reflns_limit_k_min       -11
_diffrn_reflns_limit_l_max       26
_diffrn_reflns_limit_l_min       -24
_diffrn_reflns_number            5287
_diffrn_reflns_theta_full        27.98
_diffrn_reflns_theta_max         27.98
_diffrn_reflns_theta_min         3.03
_exptl_absorpt_coefficient_mu    3.392
_exptl_absorpt_correction_T_max  1.00000
_exptl_absorpt_correction_T_min  0.80005
_exptl_absorpt_correction_type   multi-scan
_exptl_absorpt_process_details
;
CrysAlisPro, Oxford Diffraction Ltd.,
Version 1.171.33.52 (release 06-11-2009 CrysAlis171 .NET)
(compiled Nov  6 2009,16:24:50)
Empirical absorption correction using spherical harmonics,
 implemented in SCALE3 ABSPACK scaling algorithm.
;
_exptl_crystal_colour            colourless
_exptl_crystal_density_diffrn    1.895
_exptl_crystal_density_method    'not measured'
_exptl_crystal_description       block
_exptl_crystal_F_000             512
_exptl_crystal_size_max          0.1
_exptl_crystal_size_mid          0.1
_exptl_crystal_size_min          0.1
_refine_diff_density_max         0.503
_refine_diff_density_min         -0.273
_refine_ls_abs_structure_details 'Flack H D (1983), Acta Cryst. A39, 876-881'
_refine_ls_abs_structure_Flack   0.36(2)
_refine_ls_extinction_coef       0.0042(3)
_refine_ls_extinction_expression Fc^*^=kFc[1+0.001xFc²λ³/sin(2θ)]^-1/4^
_refine_ls_extinction_method     SHELXL
_refine_ls_goodness_of_fit_ref   0.981
_refine_ls_hydrogen_treatment    mixed
_refine_ls_matrix_type           full
_refine_ls_number_parameters     118
_refine_ls_number_reflns         2061
_refine_ls_number_restraints     0
_refine_ls_restrained_S_all      0.981
_refine_ls_R_factor_all          0.0198
_refine_ls_R_factor_gt           0.0175
_refine_ls_shift/su_max          0.005
_refine_ls_shift/su_mean         0.000
_refine_ls_structure_factor_coef Fsqd
_refine_ls_weighting_details
'calc w=1/[σ²(Fo²)+(0.0171P)²+0.0000P] where P=(Fo²+2Fc²)/3'
_refine_ls_weighting_scheme      calc
_refine_ls_wR_factor_gt          0.0350
_refine_ls_wR_factor_ref         0.0353
_reflns_number_gt                1928
_reflns_number_total             2061
_reflns_threshold_expression     I>2/s(I)
_cod_data_source_file            ry5045.cif
_cod_data_source_block           tyrhi
_cod_original_sg_symbol_H-M      P212121
_cod_database_code               2105211
loop_
_symmetry_equiv_pos_as_xyz
'x, y, z'
'-x+1/2, -y, z+1/2'
'x+1/2, -y+1/2, -z'
'-x, y+1/2, -z+1/2'
loop_
_atom_site_type_symbol
_atom_site_label
_atom_site_fract_x
_atom_site_fract_y
_atom_site_fract_z
_atom_site_U_iso_or_equiv
_atom_site_adp_type
_atom_site_calc_flag
_atom_site_refinement_flags
_atom_site_occupancy
_atom_site_symmetry_multiplicity
I I1 0.01408(3) 1.239375(14) 1.208155(7) 0.01737(6) Uani d . 1 1
O O1 -0.5536(5) 0.9508(2) 1.15898(9) 0.0190(5) Uani d . 1 1
N N1 -0.0285(6) 0.9584(2) 0.79502(12) 0.0182(4) Uani d . 1 1
C C1 -0.1339(6) 0.9906(3) 0.98208(13) 0.0155(6) Uani d . 1 1
C C2 -0.0585(5) 0.8922(2) 1.03206(12) 0.0159(6) Uani d . 1 1
H H2 0.0904 0.8311 1.0255 0.019 Uiso calc R 1 1
C C3 -0.1967(6) 0.8820(3) 1.09077(13) 0.0163(6) Uani d . 1 1
H H3 -0.1411 0.8154 1.1245 0.020 Uiso calc R 1 1
C C4 -0.4163(6) 0.9687(3) 1.10060(13) 0.0165(7) Uani d . 1 1
C C5 -0.4934(7) 1.0688(2) 1.05179(11) 0.0155(5) Uani d . 1 1
H H5 -0.6420 1.1299 1.0587 0.019 Uiso calc R 1 1
C C6 -0.3526(6) 1.0789(3) 0.99306(13) 0.0176(6) Uani d . 1 1
H H6 -0.4063 1.1471 0.9598 0.021 Uiso calc R 1 1
C C7 0.0135(7) 1.0013(2) 0.91693(11) 0.0183(5) Uani d . 1 1
H H7A 0.1863 0.9532 0.9216 0.022 Uiso calc R 1 1
H H7B 0.0420 1.1067 0.9055 0.022 Uiso calc R 1 1
C C8 -0.1399(5) 0.9262(3) 0.86172(12) 0.0143(6) Uani d . 1 1
H H8A -0.1395 0.8178 0.8692 0.017 Uiso calc R 1 1
H H8B -0.3235 0.9606 0.8632 0.017 Uiso calc R 1 1
H H2N -0.022(7) 1.050(3) 0.7871(13) 0.024(7) Uiso d . 1 1
H H3N 0.123(8) 0.914(4) 0.7844(18) 0.046(10) Uiso d . 1 1
H H1N -0.127(6) 0.921(3) 0.7615(15) 0.028(9) Uiso d . 1 1
H H1H -0.679(7) 1.000(3) 1.1585(16) 0.029(10) Uiso d . 1 1
loop_
_atom_site_aniso_label
_atom_site_aniso_U_11
_atom_site_aniso_U_22
_atom_site_aniso_U_33
_atom_site_aniso_U_12
_atom_site_aniso_U_13
_atom_site_aniso_U_23
I1 0.01644(9) 0.01712(8) 0.01855(8) -0.00064(10) 0.00067(9) 0.00100(6)
O1 0.0181(13) 0.0258(9) 0.0130(9) 0.0039(10) 0.0044(10) -0.0011(7)
N1 0.0201(13) 0.0211(9) 0.0135(10) 0.0006(11) 0.0045(16) -0.0012(9)
C1 0.0164(15) 0.0179(12) 0.0121(13) -0.0071(11) 0.0001(12) -0.0032(10)
C2 0.0137(15) 0.0173(10) 0.0168(12) -0.0012(10) -0.0011(12) -0.0037(9)
C3 0.0185(15) 0.0170(12) 0.0133(14) 0.0002(11) -0.0030(12) -0.0001(11)
C4 0.0193(18) 0.0171(11) 0.0131(13) -0.0043(10) -0.0010(12) -0.0059(10)
C5 0.0137(13) 0.0152(9) 0.0177(12) -0.0001(16) 0.0027(16) -0.0023(8)
C6 0.0198(15) 0.0172(12) 0.0156(14) -0.0047(11) -0.0062(12) 0.0024(11)
C7 0.0188(15) 0.0220(10) 0.0141(11) -0.0063(17) -0.0029(18) -0.0017(9)
C8 0.0138(15) 0.0185(12) 0.0105(13) 0.0012(11) 0.0043(12) 0.0003(10)
loop_
_atom_type_symbol
_atom_type_description
_atom_type_scat_dispersion_real
_atom_type_scat_dispersion_imag
_atom_type_scat_source
I I -0.4742 1.8119 'International Tables Vol C Tables 4.2.6.8 and 6.1.1.4'
O O 0.0106 0.0060 'International Tables Vol C Tables 4.2.6.8 and 6.1.1.4'
N N 0.0061 0.0033 'International Tables Vol C Tables 4.2.6.8 and 6.1.1.4'
C C 0.0033 0.0016 'International Tables Vol C Tables 4.2.6.8 and 6.1.1.4'
H H 0.0000 0.0000 'International Tables Vol C Tables 4.2.6.8 and 6.1.1.4'
loop_
_geom_angle_atom_site_label_1
_geom_angle_atom_site_label_2
_geom_angle_atom_site_label_3
_geom_angle
C4 O1 H1H 110(2)
C8 N1 H2N 112.2(19)
C8 N1 H3N 117(2)
H2N N1 H3N 111(3)
C8 N1 H1N 112.6(19)
H2N N1 H1N 104(3)
H3N N1 H1N 98(3)
C6 C1 C2 118.2(2)
C6 C1 C7 120.1(2)
C2 C1 C7 121.7(3)
C3 C2 C1 121.1(2)
C3 C2 H2 119.4
C1 C2 H2 119.4
C2 C3 C4 120.1(2)
C2 C3 H3 120.0
C4 C3 H3 120.0
O1 C4 C3 118.0(2)
O1 C4 C5 122.2(3)
C3 C4 C5 119.8(3)
C6 C5 C4 119.7(3)
C6 C5 H5 120.1
C4 C5 H5 120.1
C5 C6 C1 121.0(2)
C5 C6 H6 119.5
C1 C6 H6 119.5
C1 C7 C8 110.3(3)
C1 C7 H7A 109.6
C8 C7 H7A 109.6
C1 C7 H7B 109.6
C8 C7 H7B 109.6
H7A C7 H7B 108.1
N1 C8 C7 111.9(2)
N1 C8 H8A 109.2
C7 C8 H8A 109.2
N1 C8 H8B 109.2
C7 C8 H8B 109.2
H8A C8 H8B 107.9
loop_
_geom_bond_atom_site_label_1
_geom_bond_atom_site_label_2
_geom_bond_distance
O1 C4 1.378(3)
O1 H1H 0.78(3)
N1 C8 1.486(3)
N1 H2N 0.85(2)
N1 H3N 0.90(4)
N1 H1N 0.91(3)
C1 C6 1.392(4)
C1 C2 1.396(3)
C1 C7 1.515(4)
C2 C3 1.380(4)
C2 H2 0.9500
C3 C4 1.384(4)
C3 H3 0.9500
C4 C5 1.391(3)
C5 C6 1.386(4)
C5 H5 0.9500
C6 H6 0.9500
C7 C8 1.519(3)
C7 H7A 0.9900
C7 H7B 0.9900
C8 H8A 0.9900
C8 H8B 0.9900
loop_
_geom_torsion_atom_site_label_1
_geom_torsion_atom_site_label_2
_geom_torsion_atom_site_label_3
_geom_torsion_atom_site_label_4
_geom_torsion
C6 C1 C2 C3 0.1(4)
C7 C1 C2 C3 -179.0(2)
C1 C2 C3 C4 0.9(4)
C2 C3 C4 O1 177.6(2)
C2 C3 C4 C5 -1.6(4)
O1 C4 C5 C6 -177.9(2)
C3 C4 C5 C6 1.2(4)
C4 C5 C6 C1 -0.2(4)
C2 C1 C6 C5 -0.5(4)
C7 C1 C6 C5 178.7(2)
C6 C1 C7 C8 -74.4(3)
C2 C1 C7 C8 104.7(3)
C1 C7 C8 N1 169.2(2)
loop_
_cod_related_entry_id
_cod_related_entry_database
_cod_related_entry_code
1 ChemSpider 30654572
