#------------------------------------------------------------------------------
#$Date: 2016-02-20 02:53:41 +0200 (Sat, 20 Feb 2016) $
#$Revision: 176768 $
#$URL: svn://www.crystallography.net/cod/cif/2/10/58/2105859.cif $
#------------------------------------------------------------------------------
#
# This file is available in the Crystallography Open Database (COD),
# http://www.crystallography.net/. The original data for this entry
# were provided by IUCr Journals, http://journals.iucr.org/.
#
# The file may be used within the scientific community so long as
# proper attribution is given to the journal article from which the
# data were obtained.
#
data_2105859
loop_
_publ_author_name
'Dziubek, Kamil F.'
'Katrusiak, Andrzej'
_publ_section_title
;
 Structure--melting relations in isomeric dibromobenzenes
;
_journal_issue                   3
_journal_name_full               'Acta Crystallographica Section B'
_journal_page_first              492
_journal_page_last               497
_journal_paper_doi               10.1107/S2052520614011445
_journal_volume                  70
_journal_year                    2014
_chemical_formula_moiety         'C6 H4 Br2'
_chemical_formula_sum            'C6 H4 Br2'
_chemical_formula_weight         235.89
_chemical_melting_point          266
_chemical_name_common            m-dibromobenzene
_chemical_name_systematic
;
1,3-dibromobenzene
;
_space_group_IT_number           19
_symmetry_cell_setting           orthorhombic
_symmetry_space_group_name_Hall  'P 2ac 2ab'
_symmetry_space_group_name_H-M   'P 21 21 21'
_atom_sites_solution_hydrogens   geom
_atom_sites_solution_primary     direct
_atom_sites_solution_secondary   difmap
_audit_creation_method           SHELXL-97
_cell_angle_alpha                90.00
_cell_angle_beta                 90.00
_cell_angle_gamma                90.00
_cell_formula_units_Z            8
_cell_length_a                   4.1264(4)
_cell_length_b                   12.9505(13)
_cell_length_c                   26.257(2)
_cell_measurement_temperature    260(2)
_cell_volume                     1403.1(2)
_computing_cell_refinement       'CrysAlisPro (Agilent Technologies, 2014)'
_computing_data_collection       'CrysAlisPro (Agilent Technologies, 2014)'
_computing_data_reduction
'CrysAlisPro (Agilent Technologies, 2014); REDSHADE (Katrusiak, A. 2003)'
_computing_molecular_graphics    'DIAMOND (Crystal Impact, 1999)'
_computing_publication_material  'SHELXL-97 (Sheldrick, 1997)'
_computing_structure_refinement  'SHELXL-97 (Sheldrick, 1997)'
_computing_structure_solution    'SHELXS-97 (Sheldrick, 1997)'
_diffrn_ambient_temperature      260(2)
_diffrn_measured_fraction_theta_full 0.941
_diffrn_measured_fraction_theta_max 0.941
_diffrn_measurement_device_type  'KM-4 CCD'
_diffrn_measurement_method       ω-scans
_diffrn_radiation_monochromator  graphite
_diffrn_radiation_source         'fine-focus sealed tube'
_diffrn_radiation_type           MoK\a
_diffrn_radiation_wavelength     0.71073
_diffrn_reflns_av_R_equivalents  0.0588
_diffrn_reflns_av_sigmaI/netI    0.0660
_diffrn_reflns_limit_h_max       4
_diffrn_reflns_limit_h_min       -5
_diffrn_reflns_limit_k_max       17
_diffrn_reflns_limit_k_min       -16
_diffrn_reflns_limit_l_max       35
_diffrn_reflns_limit_l_min       -36
_diffrn_reflns_number            13571
_diffrn_reflns_theta_full        29.75
_diffrn_reflns_theta_max         29.75
_diffrn_reflns_theta_min         2.21
_diffrn_standards_decay_%        0
_diffrn_standards_interval_count 0
_diffrn_standards_number         0
_exptl_absorpt_coefficient_mu    11.444
_exptl_absorpt_correction_T_max  1.00000
_exptl_absorpt_correction_T_min  0.03806
_exptl_absorpt_correction_type   multi-scan
_exptl_absorpt_process_details
;
CrysAlisPro (Agilent Technologies, 2014).
Empirical absorption correction using spherical harmonics,
implemented in SCALE3 ABSPACK scaling algorithm.
;
_exptl_crystal_colour            colourless
_exptl_crystal_density_diffrn    2.234
_exptl_crystal_density_method    'not measured'
_exptl_crystal_description       block
_exptl_crystal_F_000             880
_exptl_crystal_size_max          0.3
_exptl_crystal_size_mid          0.3
_exptl_crystal_size_min          0.3
_refine_diff_density_max         0.433
_refine_diff_density_min         -0.360
_refine_ls_abs_structure_details 'Flack H D (1983), Acta Cryst. A39, 876-881'
_refine_ls_abs_structure_Flack   -0.03(3)
_refine_ls_extinction_method     none
_refine_ls_goodness_of_fit_ref   0.992
_refine_ls_hydrogen_treatment    constr
_refine_ls_matrix_type           full
_refine_ls_number_parameters     85
_refine_ls_number_reflns         3621
_refine_ls_number_restraints     0
_refine_ls_restrained_S_all      0.992
_refine_ls_R_factor_all          0.1148
_refine_ls_R_factor_gt           0.0514
_refine_ls_shift/su_max          0.001
_refine_ls_shift/su_mean         0.000
_refine_ls_structure_factor_coef Fsqd
_refine_ls_weighting_details
'calc w=1/[σ²(Fo²)+(0.0380P)²+0.0000P] where P=(Fo²+2Fc²)/3'
_refine_ls_weighting_scheme      calc
_refine_ls_wR_factor_gt          0.0940
_refine_ls_wR_factor_ref         0.1141
_reflns_number_gt                1976
_reflns_number_total             3621
_reflns_threshold_expression     >2sigma(I)
_cod_data_source_file            zb5043sup1.cif
_cod_data_source_block           m-dibromobenzene_260K
_cod_database_code               2105859
loop_
_symmetry_equiv_pos_as_xyz
'x, y, z'
'-x+1/2, -y, z+1/2'
'-x, y+1/2, -z+1/2'
'x+1/2, -y+1/2, -z'
loop_
_atom_site_type_symbol
_atom_site_label
_atom_site_fract_x
_atom_site_fract_y
_atom_site_fract_z
_atom_site_U_iso_or_equiv
_atom_site_adp_type
_atom_site_calc_flag
_atom_site_refinement_flags
_atom_site_occupancy
_atom_site_symmetry_multiplicity
Br Br1A 0.1640(2) 0.16460(7) 0.90745(4) 0.0829(3) Uani d . 1 1
Br Br3A 0.6981(3) 0.53185(7) 0.82852(4) 0.0852(3) Uani d . 1 1
C C1A 0.2684(17) 0.3074(6) 0.9160(3) 0.0612(19) Uiso d . 1 1
C C2A 0.4271(19) 0.3569(6) 0.8771(3) 0.0607(19) Uiso d . 1 1
H H2A 0.4892 0.3217 0.8478 0.073 Uiso calc R 1 1
C C3A 0.491(2) 0.4603(6) 0.8828(3) 0.068(2) Uiso d . 1 1
C C4A 0.408(2) 0.5122(7) 0.9260(3) 0.081(2) Uiso d . 1 1
H H4A 0.4595 0.5817 0.9297 0.097 Uiso calc R 1 1
C C5A 0.249(2) 0.4603(7) 0.9637(4) 0.086(3) Uiso d . 1 1
H H5A 0.1894 0.4959 0.9930 0.103 Uiso calc R 1 1
C C6A 0.175(2) 0.3583(6) 0.9600(3) 0.076(2) Uiso d . 1 1
H H6A 0.0664 0.3241 0.9860 0.092 Uiso calc R 1 1
Br Br1B -0.0880(3) 0.30918(8) 0.55237(3) 0.0875(3) Uani d . 1 1
Br Br3B -0.0720(2) 0.22241(8) 0.76288(3) 0.0839(3) Uani d . 1 1
C C1B 0.0349(19) 0.3466(6) 0.6195(3) 0.0607(19) Uiso d . 1 1
C C2B -0.0506(19) 0.2827(6) 0.6590(3) 0.0584(18) Uiso d . 1 1
H H2B -0.1641 0.2218 0.6531 0.070 Uiso calc R 1 1
C C3B 0.038(2) 0.3118(6) 0.7082(3) 0.066(2) Uiso d . 1 1
C C4B 0.216(2) 0.4003(6) 0.7174(3) 0.068(2) Uiso d . 1 1
H H4B 0.2753 0.4184 0.7504 0.082 Uiso calc R 1 1
C C5B 0.303(2) 0.4610(7) 0.6769(3) 0.076(2) Uiso d . 1 1
H H5B 0.4213 0.5209 0.6825 0.091 Uiso calc R 1 1
C C6B 0.217(2) 0.4345(6) 0.6281(3) 0.069(2) Uiso d . 1 1
H H6B 0.2821 0.4755 0.6009 0.082 Uiso calc R 1 1
loop_
_atom_site_aniso_label
_atom_site_aniso_U_11
_atom_site_aniso_U_22
_atom_site_aniso_U_33
_atom_site_aniso_U_12
_atom_site_aniso_U_13
_atom_site_aniso_U_23
Br1A 0.0901(7) 0.0682(5) 0.0906(6) -0.0145(5) 0.0002(6) 0.0058(5)
Br3A 0.0840(7) 0.0734(6) 0.0983(7) -0.0153(5) -0.0104(6) 0.0155(5)
Br1B 0.0940(7) 0.1064(7) 0.0620(5) -0.0044(6) -0.0010(5) 0.0014(5)
Br3B 0.0904(7) 0.0959(7) 0.0654(5) 0.0022(5) 0.0069(5) 0.0106(5)
loop_
_atom_type_symbol
_atom_type_description
_atom_type_scat_dispersion_real
_atom_type_scat_dispersion_imag
_atom_type_scat_source
C C 0.0033 0.0016 'International Tables Vol C Tables 4.2.6.8 and 6.1.1.4'
H H 0.0000 0.0000 'International Tables Vol C Tables 4.2.6.8 and 6.1.1.4'
Br Br -0.2901 2.4595 'International Tables Vol C Tables 4.2.6.8 and 6.1.1.4'
loop_
_geom_angle_atom_site_label_1
_geom_angle_atom_site_label_2
_geom_angle_atom_site_label_3
_geom_angle
C2A C1A C6A 122.1(7)
C2A C1A Br1A 118.2(6)
C6A C1A Br1A 119.7(6)
C3A C2A C1A 117.7(7)
C4A C3A C2A 121.7(8)
C4A C3A Br3A 119.7(6)
C2A C3A Br3A 118.6(6)
C3A C4A C5A 118.8(8)
C6A C5A C4A 122.3(9)
C5A C6A C1A 117.4(9)
C2B C1B C6B 120.9(7)
C2B C1B Br1B 118.6(6)
C6B C1B Br1B 120.5(6)
C1B C2B C3B 118.0(7)
C4B C3B C2B 121.7(8)
C4B C3B Br3B 120.1(6)
C2B C3B Br3B 118.2(6)
C5B C4B C3B 118.6(8)
C4B C5B C6B 121.0(8)
C5B C6B C1B 119.8(8)
loop_
_geom_bond_atom_site_label_1
_geom_bond_atom_site_label_2
_geom_bond_distance
Br1A C1A 1.912(7)
Br3A C3A 1.903(8)
C1A C2A 1.372(10)
C1A C6A 1.386(10)
C2A C3A 1.372(10)
C3A C4A 1.361(11)
C4A C5A 1.366(11)
C5A C6A 1.358(11)
Br1B C1B 1.897(7)
Br3B C3B 1.899(8)
C1B C2B 1.373(10)
C1B C6B 1.383(11)
C2B C3B 1.396(10)
C3B C4B 1.382(10)
C4B C5B 1.370(10)
C5B C6B 1.372(10)
