#------------------------------------------------------------------------------
#$Date: 2018-09-27 07:13:35 +0300 (Thu, 27 Sep 2018) $
#$Revision: 211196 $
#$URL: file:///home/coder/svn-repositories/cod/cif/2/10/61/2106158.cif $
#------------------------------------------------------------------------------
#
# This file is available in the Crystallography Open Database (COD),
# http://www.crystallography.net/. The original data for this entry
# were provided by IUCr Journals, http://journals.iucr.org/.
#
# The file may be used within the scientific community so long as
# proper attribution is given to the journal article from which the
# data were obtained.
#
data_2106158
loop_
_publ_author_name
'Michel, D.J.'
'Ryba, E.'
_publ_section_title
;
 The crystal structure of Ho Zn3
;
_journal_name_full               'Acta Crystallographica B (24,1968-38,1982)'
_journal_page_first              1267
_journal_page_last               1269
_journal_volume                  24
_journal_year                    1968
_chemical_formula_sum            'Dy Zn3'
_space_group_IT_number           62
_symmetry_space_group_name_Hall  '-P 2ac 2n'
_symmetry_space_group_name_H-M   'P n m a'
_cell_angle_alpha                90
_cell_angle_beta                 90
_cell_angle_gamma                90
_cell_formula_units_Z            4
_cell_length_a                   6.7
_cell_length_b                   4.398
_cell_length_c                   10.06
_cell_volume                     296.434
_citation_journal_id_ASTM        ACBCAR
_cod_data_source_file            Michel_ACBCAR_1968_1840.cif
_cod_data_source_block           Dy1Zn3
_cod_original_formula_sum        'Dy1 Zn3'
_cod_database_code               2106158
loop_
_symmetry_equiv_pos_as_xyz
x,y,z
-x+1/2,-y,z+1/2
x+1/2,-y+1/2,-z+1/2
-x,y+1/2,-z
-x,-y,-z
x-1/2,y,-z-1/2
-x-1/2,y-1/2,z-1/2
x,-y-1/2,z
loop_
_atom_site_label
_atom_site_type_symbol
_atom_site_fract_x
_atom_site_fract_y
_atom_site_fract_z
_atom_site_occupancy
_atom_site_U_iso_or_equiv
Zn1 Zn 0.216 0.25 0.042 1 0.0
Zn2 Zn 0.961 0.25 0.853 1 0.0
Dy1 Dy 0.279 0.25 0.336 1 0.0
Zn3 Zn 0.535 0.25 0.897 1 0.0
