#------------------------------------------------------------------------------
#$Date: 2017-10-13 11:03:29 +0300 (Fri, 13 Oct 2017) $
#$Revision: 201974 $
#$URL: file:///home/coder/svn-repositories/cod/cif/2/21/03/2210326.cif $
#------------------------------------------------------------------------------
#
# This file is available in the Crystallography Open Database (COD),
# http://www.crystallography.net/. The original data for this entry
# were provided by IUCr Journals, http://journals.iucr.org/.
#
# The file may be used within the scientific community so long as
# proper attribution is given to the journal article from which the
# data were obtained.
#
data_2210326
loop_
_publ_author_name
'Chen, Ping'
'Li, Dan'
'Zhang, Ling'
_publ_section_title
;
 N-(4-Chlorobenzyl)phthalimide
;
_journal_coeditor_code           LH2153
_journal_issue                   9
_journal_name_full               'Acta Crystallographica Section E'
_journal_page_first              o4136
_journal_page_last               o4137
_journal_paper_doi               10.1107/S1600536806031266
_journal_volume                  62
_journal_year                    2006
_chemical_formula_iupac          'C15 H10 Cl N O2'
_chemical_formula_moiety         'C15 H10 Cl N O2'
_chemical_formula_sum            'C15 H10 Cl N O2'
_chemical_formula_weight         271.69
_chemical_melting_point          404.5(5)
_chemical_name_systematic
;
N-(4-Chlorobenzyl)phthaimide
;
_space_group_IT_number           14
_symmetry_cell_setting           monoclinic
_symmetry_space_group_name_Hall  '-P 2ybc'
_symmetry_space_group_name_H-M   'P 1 21/c 1'
_atom_sites_solution_hydrogens   geom
_atom_sites_solution_primary     direct
_atom_sites_solution_secondary   difmap
_cell_angle_alpha                90.00
_cell_angle_beta                 103.763(6)
_cell_angle_gamma                90.00
_cell_formula_units_Z            4
_cell_length_a                   12.796(5)
_cell_length_b                   14.005(5)
_cell_length_c                   7.188(3)
_cell_measurement_reflns_used    1253
_cell_measurement_temperature    294(2)
_cell_measurement_theta_max      22.17
_cell_measurement_theta_min      3.26
_cell_volume                     1251.2(8)
_computing_cell_refinement       'SAINT (Bruker, 1997)'
_computing_data_collection       'SMART (Bruker, 1997)'
_computing_data_reduction        SAINT
_computing_molecular_graphics
'SHELXTL (Bruker, 1997) and PLATON (Spek, 2003)'
_computing_publication_material  SHELXTL
_computing_structure_refinement  'SHELXL97 (Sheldrick, 1997)'
_computing_structure_solution    'SHELXS97 (Sheldrick, 1997)'
_diffrn_ambient_temperature      294(2)
_diffrn_measured_fraction_theta_full 0.993
_diffrn_measured_fraction_theta_max 0.993
_diffrn_measurement_device_type  'Bruker SMART CCD'
_diffrn_measurement_method       'φ and ω'
_diffrn_radiation_monochromator  graphite
_diffrn_radiation_source         'fine-focus sealed tube'
_diffrn_radiation_type           MoK\a
_diffrn_radiation_wavelength     0.71073
_diffrn_reflns_av_R_equivalents  0.0544
_diffrn_reflns_av_sigmaI/netI    0.0685
_diffrn_reflns_limit_h_max       15
_diffrn_reflns_limit_h_min       -15
_diffrn_reflns_limit_k_max       14
_diffrn_reflns_limit_k_min       -17
_diffrn_reflns_limit_l_max       9
_diffrn_reflns_limit_l_min       -8
_diffrn_reflns_number            6736
_diffrn_reflns_theta_full        26.42
_diffrn_reflns_theta_max         26.42
_diffrn_reflns_theta_min         1.64
_diffrn_standards_interval_count 0
_diffrn_standards_interval_time  0
_diffrn_standards_number         0
_exptl_absorpt_coefficient_mu    0.301
_exptl_absorpt_correction_T_max  0.9591
_exptl_absorpt_correction_T_min  0.9367
_exptl_absorpt_correction_type   multi-scan
_exptl_absorpt_process_details   '(SADABS; Bruker, 1997)'
_exptl_crystal_colour            colourless
_exptl_crystal_density_diffrn    1.442
_exptl_crystal_density_method    'not measured'
_exptl_crystal_description       rod
_exptl_crystal_F_000             560
_exptl_crystal_size_max          0.22
_exptl_crystal_size_mid          0.20
_exptl_crystal_size_min          0.14
_refine_diff_density_max         0.244
_refine_diff_density_min         -0.321
_refine_ls_extinction_method     none
_refine_ls_goodness_of_fit_ref   0.991
_refine_ls_hydrogen_treatment    constr
_refine_ls_matrix_type           full
_refine_ls_number_parameters     172
_refine_ls_number_reflns         2546
_refine_ls_number_restraints     0
_refine_ls_restrained_S_all      0.991
_refine_ls_R_factor_all          0.1459
_refine_ls_R_factor_gt           0.0511
_refine_ls_shift/su_max          0.000
_refine_ls_shift/su_mean         0.000
_refine_ls_structure_factor_coef Fsqd
_refine_ls_weighting_details
'calc w=1/[σ²(Fo²)+(0.0661P)²+0.1703P] where P=(Fo²+2Fc²)/3'
_refine_ls_weighting_scheme      calc
_refine_ls_wR_factor_gt          0.1205
_refine_ls_wR_factor_ref         0.1583
_reflns_number_gt                1102
_reflns_number_total             2546
_reflns_threshold_expression     I>2σ(I)
_cod_data_source_file            lh2153.cif
_cod_data_source_block           I
_cod_depositor_comments
;
The following automatic conversions were performed:
'_symmetry_cell_setting' value 'Monoclinic' changed to 'monoclinic'
according to '/home/saulius/struct/CIF-dictionaries/cif_core.dic'
dictionary named 'cif_core.dic' version 2.4.1 from 2010-06-29.

Automatic conversion script
Id: cif_fix_enum 1527 2010-12-29 10:47:43Z saulius 

The following automatic conversions were performed:

'_chemical_melting_point' value '404-405' was changed to '404.5(5)' -
the average value was taken and precision was estimated.

Automatic conversion script
Id: cif_fix_values 1646 2011-03-28 12:23:43Z adriana 

The following automatic conversions were performed:

'_chemical_melting_point' value '404-405' was changed to '404.5(5)' -
the average value was taken and precision was
estimated.

'_symmetry_cell_setting' value 'Monoclinic' changed to
'monoclinic' according to
/home/saulius/struct/CIF-dictionaries/cif_core.dic dictionary named
'cif_core.dic' version 2.4.1 from 2010-06-29.

Automatic conversion script
Id: cif_fix_values 1715 2011-07-08 13:25:40Z adriana 
;
_cod_original_sg_symbol_H-M      'P 21/c'
_cod_database_code               2210326
_cod_database_fobs_code          2210326
loop_
_symmetry_equiv_pos_as_xyz
'x, y, z'
'-x, y+1/2, -z+1/2'
'-x, -y, -z'
'x, -y-1/2, z-1/2'
loop_
_atom_site_type_symbol
_atom_site_label
_atom_site_fract_x
_atom_site_fract_y
_atom_site_fract_z
_atom_site_U_iso_or_equiv
_atom_site_adp_type
_atom_site_calc_flag
_atom_site_refinement_flags
_atom_site_occupancy
Cl Cl1 -0.11559(8) 0.38195(8) 0.08860(17) 0.0905(4) Uani d . 1
O O1 0.3739(2) 0.53077(15) 0.7950(4) 0.0769(8) Uani d . 1
O O2 0.35779(18) 0.20810(15) 0.7575(3) 0.0631(7) Uani d . 1
N N1 0.3417(2) 0.37020(17) 0.7861(4) 0.0502(7) Uani d . 1
C C1 0.4036(3) 0.4509(2) 0.7770(4) 0.0518(9) Uani d . 1
C C2 0.5061(3) 0.4155(2) 0.7443(4) 0.0469(9) Uani d . 1
C C3 0.5953(3) 0.4645(2) 0.7231(5) 0.0610(10) Uani d . 1
H H3 0.5981 0.5309 0.7292 0.073 Uiso calc R 1
C C4 0.6794(3) 0.4125(3) 0.6929(5) 0.0690(11) Uani d . 1
H H4 0.7407 0.4439 0.6769 0.083 Uiso calc R 1
C C5 0.6757(3) 0.3148(3) 0.6855(5) 0.0647(10) Uani d . 1
H H5 0.7351 0.2814 0.6666 0.078 Uiso calc R 1
C C6 0.5862(3) 0.2645(2) 0.7055(5) 0.0561(9) Uani d . 1
H H6 0.5836 0.1982 0.6998 0.067 Uiso calc R 1
C C7 0.5013(3) 0.3174(2) 0.7341(4) 0.0449(9) Uani d . 1
C C8 0.3950(3) 0.2874(2) 0.7598(4) 0.0493(9) Uani d . 1
C C9 0.2332(3) 0.3732(2) 0.8122(5) 0.0586(9) Uani d . 1
H H9A 0.2253 0.4300 0.8849 0.070 Uiso calc R 1
H H9B 0.2222 0.3183 0.8876 0.070 Uiso calc R 1
C C10 0.1471(3) 0.37373(19) 0.6291(5) 0.0466(8) Uani d . 1
C C11 0.1703(3) 0.3795(2) 0.4531(5) 0.0518(8) Uani d . 1
H H11 0.2418 0.3821 0.4455 0.062 Uiso calc R 1
C C12 0.0901(3) 0.3816(2) 0.2870(5) 0.0611(9) Uani d . 1
H H12 0.1076 0.3853 0.1687 0.073 Uiso calc R 1
C C13 -0.0144(3) 0.3783(2) 0.2968(5) 0.0561(9) Uani d . 1
C C14 -0.0402(3) 0.3724(2) 0.4699(6) 0.0694(11) Uani d . 1
H H14 -0.1119 0.3703 0.4765 0.083 Uiso calc R 1
C C15 0.0401(3) 0.3696(2) 0.6338(6) 0.0638(10) Uani d . 1
H H15 0.0221 0.3649 0.7514 0.077 Uiso calc R 1
loop_
_atom_site_aniso_label
_atom_site_aniso_U_11
_atom_site_aniso_U_22
_atom_site_aniso_U_33
_atom_site_aniso_U_12
_atom_site_aniso_U_13
_atom_site_aniso_U_23
Cl1 0.0674(7) 0.0967(8) 0.0963(9) 0.0094(6) -0.0024(6) -0.0087(7)
O1 0.106(2) 0.0371(14) 0.093(2) 0.0058(13) 0.0361(17) -0.0057(13)
O2 0.0690(16) 0.0402(13) 0.0832(18) -0.0062(12) 0.0238(14) -0.0001(12)
N1 0.0564(17) 0.0402(15) 0.0563(18) 0.0035(14) 0.0177(14) -0.0008(13)
C1 0.071(3) 0.040(2) 0.042(2) -0.0024(18) 0.0091(18) -0.0038(16)
C2 0.056(2) 0.0424(19) 0.039(2) -0.0019(16) 0.0045(18) 0.0018(15)
C3 0.072(3) 0.052(2) 0.056(2) -0.013(2) 0.008(2) 0.0081(18)
C4 0.062(3) 0.077(3) 0.064(3) -0.017(2) 0.006(2) 0.008(2)
C5 0.056(3) 0.077(3) 0.059(3) 0.005(2) 0.010(2) 0.006(2)
C6 0.064(2) 0.046(2) 0.055(2) 0.0049(19) 0.0055(19) 0.0018(17)
C7 0.055(2) 0.0398(19) 0.037(2) 0.0003(15) 0.0047(18) 0.0028(14)
C8 0.058(2) 0.0422(19) 0.044(2) 0.0000(18) 0.0049(17) 0.0014(16)
C9 0.074(3) 0.053(2) 0.056(2) 0.0076(18) 0.030(2) 0.0039(18)
C10 0.056(2) 0.0347(17) 0.055(2) 0.0066(15) 0.0255(18) 0.0040(16)
C11 0.044(2) 0.059(2) 0.057(2) 0.0060(17) 0.0221(18) 0.0011(19)
C12 0.062(2) 0.071(2) 0.055(2) 0.007(2) 0.024(2) 0.0032(19)
C13 0.049(2) 0.047(2) 0.071(3) 0.0044(17) 0.0125(18) -0.0062(19)
C14 0.052(2) 0.070(3) 0.093(3) 0.0042(19) 0.029(2) 0.006(2)
C15 0.063(3) 0.072(2) 0.066(3) 0.005(2) 0.035(2) 0.006(2)
loop_
_atom_type_symbol
_atom_type_description
_atom_type_scat_dispersion_real
_atom_type_scat_dispersion_imag
_atom_type_scat_source
C C 0.0033 0.0016 'International Tables Vol C Tables 4.2.6.8 and 6.1.1.4'
H H 0.0000 0.0000 'International Tables Vol C Tables 4.2.6.8 and 6.1.1.4'
N N 0.0061 0.0033 'International Tables Vol C Tables 4.2.6.8 and 6.1.1.4'
O O 0.0106 0.0060 'International Tables Vol C Tables 4.2.6.8 and 6.1.1.4'
Cl Cl 0.1484 0.1585 'International Tables Vol C Tables 4.2.6.8 and 6.1.1.4'
loop_
_geom_angle_atom_site_label_1
_geom_angle_atom_site_label_2
_geom_angle_atom_site_label_3
_geom_angle
C8 N1 C1 111.8(3)
C8 N1 C9 124.3(3)
C1 N1 C9 123.9(3)
O1 C1 N1 123.7(3)
O1 C1 C2 130.5(3)
N1 C1 C2 105.8(3)
C3 C2 C7 121.5(3)
C3 C2 C1 130.2(3)
C7 C2 C1 108.4(3)
C4 C3 C2 117.4(3)
C4 C3 H3 121.3
C2 C3 H3 121.3
C3 C4 C5 121.4(3)
C3 C4 H4 119.3
C5 C4 H4 119.3
C4 C5 C6 121.8(3)
C4 C5 H5 119.1
C6 C5 H5 119.1
C7 C6 C5 116.6(3)
C7 C6 H6 121.7
C5 C6 H6 121.7
C6 C7 C2 121.4(3)
C6 C7 C8 130.7(3)
C2 C7 C8 107.9(3)
O2 C8 N1 124.7(3)
O2 C8 C7 129.2(3)
N1 C8 C7 106.1(3)
N1 C9 C10 114.4(3)
N1 C9 H9A 108.7
C10 C9 H9A 108.7
N1 C9 H9B 108.7
C10 C9 H9B 108.7
H9A C9 H9B 107.6
C11 C10 C15 117.3(3)
C11 C10 C9 122.4(3)
C15 C10 C9 120.2(3)
C10 C11 C12 121.5(3)
C10 C11 H11 119.2
C12 C11 H11 119.2
C13 C12 C11 119.6(3)
C13 C12 H12 120.2
C11 C12 H12 120.2
C12 C13 C14 120.3(3)
C12 C13 Cl1 119.8(3)
C14 C13 Cl1 119.8(3)
C13 C14 C15 119.5(3)
C13 C14 H14 120.2
C15 C14 H14 120.2
C14 C15 C10 121.7(3)
C14 C15 H15 119.2
C10 C15 H15 119.2
loop_
_geom_bond_atom_site_label_1
_geom_bond_atom_site_label_2
_geom_bond_distance
Cl1 C13 1.731(4)
O1 C1 1.199(3)
O2 C8 1.207(3)
N1 C8 1.380(4)
N1 C1 1.390(4)
N1 C9 1.446(4)
C1 C2 1.472(4)
C2 C3 1.372(4)
C2 C7 1.376(4)
C3 C4 1.359(5)
C3 H3 0.9300
C4 C5 1.371(5)
C4 H4 0.9300
C5 C6 1.380(4)
C5 H5 0.9300
C6 C7 1.369(4)
C6 H6 0.9300
C7 C8 1.477(4)
C9 C10 1.502(5)
C9 H9A 0.9700
C9 H9B 0.9700
C10 C11 1.369(4)
C10 C15 1.379(4)
C11 C12 1.377(5)
C11 H11 0.9300
C12 C13 1.357(4)
C12 H12 0.9300
C13 C14 1.363(5)
C14 C15 1.367(5)
C14 H14 0.9300
C15 H15 0.9300
loop_
_geom_hbond_atom_site_label_D
_geom_hbond_atom_site_label_H
_geom_hbond_atom_site_label_A
_geom_hbond_site_symmetry_A
_geom_hbond_distance_DH
_geom_hbond_distance_HA
_geom_hbond_distance_DA
_geom_hbond_angle_DHA
_geom_hbond_publ_flag
C3 H3 O2 2_656 0.93 2.54 3.461(4) 169.3 yes
C6 H6 O1 2_646 0.93 2.41 3.314(4) 165.4 yes
C11 H11 O2 4_565 0.93 2.57 3.293(4) 135.4 yes
loop_
_geom_torsion_atom_site_label_1
_geom_torsion_atom_site_label_2
_geom_torsion_atom_site_label_3
_geom_torsion_atom_site_label_4
_geom_torsion
C8 N1 C1 O1 179.7(3)
C9 N1 C1 O1 2.0(5)
C8 N1 C1 C2 -0.8(3)
C9 N1 C1 C2 -178.5(3)
O1 C1 C2 C3 -1.0(6)
N1 C1 C2 C3 179.6(3)
O1 C1 C2 C7 179.8(3)
N1 C1 C2 C7 0.4(3)
C7 C2 C3 C4 -0.5(5)
C1 C2 C3 C4 -179.6(3)
C2 C3 C4 C5 -0.6(5)
C3 C4 C5 C6 1.0(6)
C4 C5 C6 C7 -0.3(5)
C5 C6 C7 C2 -0.7(5)
C5 C6 C7 C8 179.7(3)
C3 C2 C7 C6 1.1(5)
C1 C2 C7 C6 -179.6(3)
C3 C2 C7 C8 -179.2(3)
C1 C2 C7 C8 0.1(3)
C1 N1 C8 O2 -178.4(3)
C9 N1 C8 O2 -0.8(5)
C1 N1 C8 C7 0.8(3)
C9 N1 C8 C7 178.5(3)
C6 C7 C8 O2 -1.6(6)
C2 C7 C8 O2 178.7(3)
C6 C7 C8 N1 179.1(3)
C2 C7 C8 N1 -0.6(3)
C8 N1 C9 C10 -85.0(4)
C1 N1 C9 C10 92.4(3)
N1 C9 C10 C11 -5.6(4)
N1 C9 C10 C15 175.4(3)
C15 C10 C11 C12 0.3(4)
C9 C10 C11 C12 -178.8(3)
C10 C11 C12 C13 0.2(5)
C11 C12 C13 C14 -0.3(5)
C11 C12 C13 Cl1 179.4(2)
C12 C13 C14 C15 -0.2(5)
Cl1 C13 C14 C15 -179.9(3)
C13 C14 C15 C10 0.8(5)
C11 C10 C15 C14 -0.8(5)
C9 C10 C15 C14 178.3(3)
loop_
_cod_related_entry_id
_cod_related_entry_database
_cod_related_entry_code
1 ChemSpider 225884
