#------------------------------------------------------------------------------
#$Date: 2020-03-17 13:09:09 +0200 (Tue, 17 Mar 2020) $
#$Revision: 249437 $
#$URL: file:///home/coder/svn-repositories/cod/cif/2/21/12/2211250.cif $
#------------------------------------------------------------------------------
#
# This file is available in the Crystallography Open Database (COD),
# http://www.crystallography.net/. The original data for this entry
# were provided by IUCr Journals, http://journals.iucr.org/.
#
# The file may be used within the scientific community so long as
# proper attribution is given to the journal article from which the
# data were obtained.
#
data_2211250
loop_
_publ_author_name
'Sui, Yan'
'Xiao, Yi-An'
'Fang, Xiao-Niu'
'Zeng, Xi-Rui'
'Li, Meng-Hua'
_publ_section_title
;
 A new dinuclear CuII--LuIII complex with a salen-type Schiff base
 ligand
;
_journal_coeditor_code           AT2141
_journal_issue                   12
_journal_name_full               'Acta Crystallographica Section E'
_journal_page_first              m3205
_journal_page_last               m3207
_journal_paper_doi               10.1107/S160053680604565X
_journal_volume                  62
_journal_year                    2006
_chemical_formula_iupac          '[Cu Lu (C20 H22 N2 O4) (N O3)3]'
_chemical_formula_moiety         'C20 H22 Cu Lu N5 O13'
_chemical_formula_sum            'C20 H22 Cu Lu N5 O13'
_chemical_formula_weight         778.94
_chemical_name_systematic
;
{6,6'-Diethoxy-2,2'-[ethane-1,2-
diylbis(nitrilomethylidyne)]diphenolato}trinitratolutetium(III)copper(II)
;
_space_group_IT_number           19
_symmetry_cell_setting           orthorhombic
_symmetry_space_group_name_Hall  'P 2ac 2ab'
_symmetry_space_group_name_H-M   'P 21 21 21'
_atom_sites_solution_hydrogens   geom
_atom_sites_solution_primary     direct
_atom_sites_solution_secondary   difmap
_cell_angle_alpha                90.00
_cell_angle_beta                 90.00
_cell_angle_gamma                90.00
_cell_formula_units_Z            4
_cell_length_a                   8.5948(3)
_cell_length_b                   13.8147(4)
_cell_length_c                   21.1553(7)
_cell_measurement_reflns_used    18360
_cell_measurement_temperature    296(2)
_cell_measurement_theta_max      27.50
_cell_measurement_theta_min      1.76
_cell_volume                     2511.87(14)
_computing_cell_refinement       APEX2
_computing_data_collection       'APEX2 (Bruker, 2004)'
_computing_data_reduction        APEX2
_computing_molecular_graphics    APEX2
_computing_publication_material  APEX2
_computing_structure_refinement  APEX2
_computing_structure_solution    APEX2
_diffrn_ambient_temperature      296(2)
_diffrn_detector_area_resol_mean 0
_diffrn_measured_fraction_theta_full 0.997
_diffrn_measured_fraction_theta_max 0.997
_diffrn_measurement_device_type  'Bruker APEXII area-detector'
_diffrn_measurement_method       'φ and ω'
_diffrn_radiation_monochromator  graphite
_diffrn_radiation_source         'fine-focus sealed tube'
_diffrn_radiation_type           MoK\a
_diffrn_radiation_wavelength     0.71073
_diffrn_reflns_av_R_equivalents  0.0300
_diffrn_reflns_av_sigmaI/netI    0.0405
_diffrn_reflns_limit_h_max       11
_diffrn_reflns_limit_h_min       -11
_diffrn_reflns_limit_k_max       17
_diffrn_reflns_limit_k_min       -16
_diffrn_reflns_limit_l_max       26
_diffrn_reflns_limit_l_min       -27
_diffrn_reflns_number            18360
_diffrn_reflns_theta_full        27.50
_diffrn_reflns_theta_max         27.50
_diffrn_reflns_theta_min         1.76
_diffrn_standards_decay_%        0
_diffrn_standards_interval_count 0
_diffrn_standards_interval_time  0
_diffrn_standards_number         0
_exptl_absorpt_coefficient_mu    4.832
_exptl_absorpt_correction_T_max  0.602
_exptl_absorpt_correction_T_min  0.478
_exptl_absorpt_correction_type   multi-scan
_exptl_absorpt_process_details   '(SADABS; Bruker, 2004)'
_exptl_crystal_colour            red
_exptl_crystal_density_diffrn    2.060
_exptl_crystal_density_method    'not measured'
_exptl_crystal_description       block
_exptl_crystal_F_000             1524
_exptl_crystal_size_max          0.156
_exptl_crystal_size_mid          0.140
_exptl_crystal_size_min          0.105
_refine_diff_density_max         1.527
_refine_diff_density_min         -2.395
_refine_ls_abs_structure_details 'Flack (1983), with 2476 Freidel pairs'
_refine_ls_abs_structure_Flack   0.156(16)
_refine_ls_extinction_coef       0.0025(4)
_refine_ls_extinction_expression Fc^*^=kFc[1+0.001xFc²λ³/sin(2θ)]^-1/4^
_refine_ls_extinction_method     'APEX2 (Bruker, 2004)'
_refine_ls_goodness_of_fit_ref   1.012
_refine_ls_hydrogen_treatment    constr
_refine_ls_matrix_type           full
_refine_ls_number_parameters     364
_refine_ls_number_reflns         5736
_refine_ls_number_restraints     0
_refine_ls_restrained_S_all      1.012
_refine_ls_R_factor_all          0.0595
_refine_ls_R_factor_gt           0.0485
_refine_ls_shift/su_max          0.002
_refine_ls_shift/su_mean         0.000
_refine_ls_structure_factor_coef Fsqd
_refine_ls_weighting_details
'calc w = 1/[σ²(Fo²)+(0.0975P)²] where P=(Fo²+2Fc²)/3'
_refine_ls_weighting_scheme      calc
_refine_ls_wR_factor_gt          0.1308
_refine_ls_wR_factor_ref         0.1365
_reflns_number_gt                4572
_reflns_number_total             5736
_reflns_threshold_expression     I>2σ(I)
_cod_data_source_file            at2141.cif
_cod_data_source_block           I
_cod_database_code               2211250
_cod_database_fobs_code          2211250
loop_
_symmetry_equiv_pos_as_xyz
'x, y, z'
'-x+1/2, -y, z+1/2'
'-x, y+1/2, -z+1/2'
'x+1/2, -y+1/2, -z'
loop_
_atom_site_type_symbol
_atom_site_label
_atom_site_fract_x
_atom_site_fract_y
_atom_site_fract_z
_atom_site_U_iso_or_equiv
_atom_site_adp_type
_atom_site_calc_flag
_atom_site_refinement_flags
_atom_site_occupancy
. . . . . . . . . .
loop_
_cod_entry_issue_id
_cod_entry_issue_origin
_cod_entry_issue_severity
_cod_entry_issue_description
_cod_entry_issue_author
_cod_entry_issue_date
1 original retraction
;
    This file does not describe any real compound and was retracted by
    the authors. The previously deposited coordinates can be reviewed
    in older revisions of this file or in the COD Subversion
    repository, svn://www.crystallography.net/cod/retracted/.

    The precise reasons for the retraction and other circumstances are
    extensively discussed in the Acta Cryst. E editorial:

    William T. A. Harrison, Jim Simpson and Matthias Weil, Acta
    Cryst. E 66 (2010) e1--e2

    http://journals.iucr.org/e/issues/2010/01/00/me0406/index.html
    http://journals.iucr.org/e/issues/2010/01/00/me0406/me0406.pdf
    doi:10.1107/S1600536809051757
    (http://dx.doi.org/10.1107/S1600536809051757)
;
'Saulius Gra\<zulis' 2010-03-20
