#------------------------------------------------------------------------------
#$Date: 2020-03-17 12:35:40 +0200 (Tue, 17 Mar 2020) $
#$Revision: 249436 $
#$URL: file:///home/coder/svn-repositories/cod/cif/2/21/53/2215361.cif $
#------------------------------------------------------------------------------
#
# This file is available in the Crystallography Open Database (COD),
# http://www.crystallography.net/. The original data for this entry
# were provided by IUCr Journals, http://journals.iucr.org/.
#
# The file may be used within the scientific community so long as
# proper attribution is given to the journal article from which the
# data were obtained.
#
data_2215361
loop_
_publ_author_name
'Li, Zhong-Fang'
'Wang, Su-Wen'
'Zhang, Qian'
'Yu, Xian-Jin'
_publ_section_title
catena-Poly[[(2,2'-bipyridine-κ²N,N')iron(II)]-μ-5-carboxy-4-carboxylatoimidazol-1-ido-κ⁴N³,O⁴:N¹,O⁵]
_journal_coeditor_code           BI2233
_journal_issue                   10
_journal_name_full               'Acta Crystallographica Section E'
_journal_page_first              m2445
_journal_page_last               m2445
_journal_paper_doi               10.1107/S1600536807042122
_journal_volume                  63
_journal_year                    2007
_chemical_formula_iupac          '[Fe (C5 H2 N2 O4) (C10 H8 N2)]'
_chemical_formula_moiety         'C15 H10 Fe N4 O4'
_chemical_formula_sum            'C15 H10 Fe N4 O4'
_chemical_formula_weight         366.12
_chemical_name_systematic
;
catena-Poly[[(2,2'-bipyridine-κ²N,N')iron(II)]-μ-
5-carboxy-4-carboxylatoimidazol-1-ido-
κ⁴N³,O⁴:N¹,O⁵]
;
_space_group_IT_number           14
_symmetry_cell_setting           monoclinic
_symmetry_space_group_name_Hall  '-P 2ybc'
_symmetry_space_group_name_H-M   'P 1 21/c 1'
_atom_sites_solution_hydrogens   geom
_atom_sites_solution_primary     direct
_atom_sites_solution_secondary   difmap
_audit_creation_method           SHELXL97
_cell_angle_alpha                90.00
_cell_angle_beta                 101.8060(10)
_cell_angle_gamma                90.00
_cell_formula_units_Z            8
_cell_length_a                   19.9862(10)
_cell_length_b                   9.8828(5)
_cell_length_c                   14.4351(7)
_cell_measurement_reflns_used    5866
_cell_measurement_temperature    293(2)
_cell_measurement_theta_max      26.70
_cell_measurement_theta_min      2.31
_cell_volume                     2790.9(2)
_computing_cell_refinement       'SAINT-Plus (Bruker, 2001)'
_computing_data_collection       'APEX2 (Bruker, 2004)'
_computing_data_reduction        'SAINT-Plus (Bruker, 2001)'
_computing_molecular_graphics    'SHELXTL (Bruker, 2001)'
_computing_publication_material  'SHELXTL (Bruker, 2001)'
_computing_structure_refinement  'SHELXL97 (Sheldrick, 1997)'
_computing_structure_solution    'SHELXS97 (Sheldrick, 1997)'
_diffrn_ambient_temperature      293(2)
_diffrn_measured_fraction_theta_full 0.993
_diffrn_measured_fraction_theta_max 0.993
_diffrn_measurement_device_type  'Bruker APEXII CCD area-detector'
_diffrn_measurement_method       'φ and ω'
_diffrn_radiation_monochromator  graphite
_diffrn_radiation_source         'fine-focus sealed tube'
_diffrn_radiation_type           MoK\a
_diffrn_radiation_wavelength     0.71073
_diffrn_reflns_av_R_equivalents  0.0268
_diffrn_reflns_av_sigmaI/netI    0.0298
_diffrn_reflns_limit_h_max       20
_diffrn_reflns_limit_h_min       -25
_diffrn_reflns_limit_k_max       10
_diffrn_reflns_limit_k_min       -11
_diffrn_reflns_limit_l_max       18
_diffrn_reflns_limit_l_min       -17
_diffrn_reflns_number            15091
_diffrn_reflns_theta_full        26.70
_diffrn_reflns_theta_max         26.70
_diffrn_reflns_theta_min         2.31
_diffrn_standards_number         0
_exptl_absorpt_coefficient_mu    1.111
_exptl_absorpt_correction_T_max  0.7461
_exptl_absorpt_correction_T_min  0.6465
_exptl_absorpt_correction_type   multi-scan
_exptl_absorpt_process_details   '(SADABS; Bruker, 2001)'
_exptl_crystal_colour            green
_exptl_crystal_density_diffrn    1.743
_exptl_crystal_density_method    'not measured'
_exptl_crystal_description       block
_exptl_crystal_F_000             1488
_exptl_crystal_size_max          0.43
_exptl_crystal_size_mid          0.35
_exptl_crystal_size_min          0.28
_refine_diff_density_max         0.437
_refine_diff_density_min         -0.493
_refine_ls_extinction_method     none
_refine_ls_goodness_of_fit_ref   1.001
_refine_ls_hydrogen_treatment    mixed
_refine_ls_matrix_type           full
_refine_ls_number_parameters     437
_refine_ls_number_reflns         5866
_refine_ls_number_restraints     1
_refine_ls_restrained_S_all      1.001
_refine_ls_R_factor_all          0.0416
_refine_ls_R_factor_gt           0.0357
_refine_ls_shift/su_max          0.000
_refine_ls_shift/su_mean         0.000
_refine_ls_structure_factor_coef Fsqd
_refine_ls_weighting_details
'calc w = 1/[σ²(Fo²)+(0.061P)²+2.1242P] where P=(Fo²+2Fc²)/3'
_refine_ls_weighting_scheme      calc
_refine_ls_wR_factor_gt          0.0955
_refine_ls_wR_factor_ref         0.0998
_reflns_number_gt                4863
_reflns_number_total             5866
_reflns_threshold_expression     I>2σ(I)
_cod_data_source_file            bi2233.cif
_cod_data_source_block           I
_cod_original_sg_symbol_H-M      'P 21/c'
_cod_database_code               2215361
_cod_database_fobs_code          2215361
loop_
_symmetry_equiv_pos_as_xyz
'x, y, z'
'-x, y+1/2, -z+1/2'
'-x, -y, -z'
'x, -y-1/2, z-1/2'
loop_
_atom_site_type_symbol
_atom_site_label
_atom_site_fract_x
_atom_site_fract_y
_atom_site_fract_z
_atom_site_U_iso_or_equiv
_atom_site_adp_type
_atom_site_calc_flag
_atom_site_refinement_flags
_atom_site_occupancy
. . . . . . . . . .
loop_
_atom_type_symbol
_atom_type_description
_atom_type_scat_dispersion_real
_atom_type_scat_dispersion_imag
_atom_type_scat_source
C C 0.0033 0.0016 'International Tables Vol C Tables 4.2.6.8 and 6.1.1.4'
H H 0.0000 0.0000 'International Tables Vol C Tables 4.2.6.8 and 6.1.1.4'
N N 0.0061 0.0033 'International Tables Vol C Tables 4.2.6.8 and 6.1.1.4'
O O 0.0106 0.0060 'International Tables Vol C Tables 4.2.6.8 and 6.1.1.4'
Fe Fe 0.3463 0.8444 'International Tables Vol C Tables 4.2.6.8 and 6.1.1.4'
loop_
_cod_entry_issue_id
_cod_entry_issue_origin
_cod_entry_issue_severity
_cod_entry_issue_description
_cod_entry_issue_author
_cod_entry_issue_date
1 original retraction
;
    This file does not describe any real compound and was retracted by
    the authors. The previously deposited coordinates can be reviewed
    in older revisions of this file or in the COD Subversion
    repository, svn://www.crystallography.net/cod/retracted/.

    The precise reasons for the retraction and other circumstances are
    extensively discussed in the Acta Cryst. E editorial:

    Acta Cryst. E 68 (2012) e14--e15

    http://journals.iucr.org/e/issues/2012/07/00/me0451/index.html
    http://journals.iucr.org/e/issues/2012/07/00/me0451/me0451.pdf
    doi:10.1107/S1600536811037603
    (http://dx.doi.org/10.1107/S1600536811037603)
;
'Andrius Merkys' 2017-02-20
