#------------------------------------------------------------------------------
#$Date: 2020-03-17 13:09:09 +0200 (Tue, 17 Mar 2020) $
#$Revision: 249437 $
#$URL: file:///home/coder/svn-repositories/cod/cif/2/21/62/2216262.cif $
#------------------------------------------------------------------------------
#
# This file is available in the Crystallography Open Database (COD),
# http://www.crystallography.net/. The original data for this entry
# were provided by IUCr Journals, http://journals.iucr.org/.
#
# The file may be used within the scientific community so long as
# proper attribution is given to the journal article from which the
# data were obtained.
#
data_2216262
loop_
_publ_author_name
'Liu, Yin-Qiu'
_publ_section_title
;
 Dichlorido(1,10-phenanthroline)copper(II)
;
_journal_coeditor_code           BI2255
_journal_issue                   12
_journal_name_full               'Acta Crystallographica Section E'
_journal_page_first              m2991
_journal_paper_doi               10.1107/S1600536807056735
_journal_volume                  63
_journal_year                    2007
_chemical_formula_iupac          '[Cu Cl2 (C12 H8 N2)]'
_chemical_formula_moiety         'C12 H8 Cl2 Cu N2'
_chemical_formula_sum            'C12 H8 Cl2 Cu N2'
_chemical_formula_weight         314.65
_chemical_name_systematic
;
Dichlorido(1,10-phenanthroline)copper(II)
;
_space_group_IT_number           14
_symmetry_cell_setting           monoclinic
_symmetry_space_group_name_Hall  '-P 2ybc'
_symmetry_space_group_name_H-M   'P 1 21/c 1'
_atom_sites_solution_hydrogens   geom
_atom_sites_solution_primary     direct
_atom_sites_solution_secondary   difmap
_audit_creation_method           SHELXL-97
_cell_angle_alpha                90.00
_cell_angle_beta                 122.53(3)
_cell_angle_gamma                90.00
_cell_formula_units_Z            4
_cell_length_a                   8.000(5)
_cell_length_b                   15.669(8)
_cell_length_c                   11.348(5)
_cell_measurement_reflns_used    3375
_cell_measurement_temperature    293(2)
_cell_measurement_theta_max      28.2795
_cell_measurement_theta_min      0.987849
_cell_volume                     1199.3(12)
_computing_cell_refinement       'SAINT (Bruker, 1997)'
_computing_data_collection       'SMART (Bruker, 1997)'
_computing_data_reduction        'SAINT (Bruker, 1997)'
_computing_molecular_graphics    'SHELXTL (Bruker, 1997)'
_computing_publication_material  'SHELXTL (Bruker, 1997)'
_computing_structure_refinement  'SHELXL97 (Sheldrick, 1997)'
_computing_structure_solution    'SHELXS97 (Sheldrick, 1997)'
_diffrn_ambient_temperature      293(2)
_diffrn_measured_fraction_theta_full 0.993
_diffrn_measured_fraction_theta_max 0.993
_diffrn_measurement_device_type  'Bruker SMART CCD'
_diffrn_measurement_method       'phi and omega scans'
_diffrn_radiation_monochromator  graphite
_diffrn_radiation_source         'fine-focus sealed tube'
_diffrn_radiation_type           MoK\a
_diffrn_radiation_wavelength     0.71073
_diffrn_reflns_av_R_equivalents  0.0417
_diffrn_reflns_av_sigmaI/netI    0.0396
_diffrn_reflns_limit_h_max       9
_diffrn_reflns_limit_h_min       -9
_diffrn_reflns_limit_k_max       18
_diffrn_reflns_limit_k_min       -18
_diffrn_reflns_limit_l_max       13
_diffrn_reflns_limit_l_min       -13
_diffrn_reflns_number            7416
_diffrn_reflns_theta_full        25.48
_diffrn_reflns_theta_max         25.48
_diffrn_reflns_theta_min         2.49
_diffrn_standards_number         0
_exptl_absorpt_coefficient_mu    2.241
_exptl_absorpt_correction_type   none
_exptl_crystal_colour            blue
_exptl_crystal_density_diffrn    1.743
_exptl_crystal_density_method    'not measured'
_exptl_crystal_description       block
_exptl_crystal_F_000             628
_exptl_crystal_size_max          0.26
_exptl_crystal_size_mid          0.07
_exptl_crystal_size_min          0.06
_refine_diff_density_max         0.260
_refine_diff_density_min         -0.322
_refine_ls_extinction_method     none
_refine_ls_goodness_of_fit_ref   0.993
_refine_ls_hydrogen_treatment    constr
_refine_ls_matrix_type           full
_refine_ls_number_parameters     162
_refine_ls_number_reflns         2220
_refine_ls_number_restraints     0
_refine_ls_restrained_S_all      0.993
_refine_ls_R_factor_all          0.0609
_refine_ls_R_factor_gt           0.0352
_refine_ls_shift/su_max          0.001
_refine_ls_shift/su_mean         0.000
_refine_ls_structure_factor_coef Fsqd
_refine_ls_weighting_details
'calc w=1/[σ²(Fo²)+(0.0486P)²] where P=(Fo²+2Fc²)/3'
_refine_ls_weighting_scheme      calc
_refine_ls_wR_factor_gt          0.0817
_refine_ls_wR_factor_ref         0.0907
_reflns_number_gt                1510
_reflns_number_total             2220
_reflns_threshold_expression     I>2σ(I)
_cod_data_source_file            bi2255.cif
_cod_data_source_block           I
_cod_original_sg_symbol_H-M      'P 21/c'
_cod_database_code               2216262
_cod_database_fobs_code          2216262
loop_
_symmetry_equiv_pos_as_xyz
'x, y, z'
'-x, y+1/2, -z+1/2'
'-x, -y, -z'
'x, -y-1/2, z-1/2'
loop_
_atom_site_type_symbol
_atom_site_label
_atom_site_fract_x
_atom_site_fract_y
_atom_site_fract_z
_atom_site_U_iso_or_equiv
_atom_site_adp_type
_atom_site_calc_flag
_atom_site_refinement_flags
_atom_site_occupancy
. . . . . . . . . .
loop_
_cod_entry_issue_id
_cod_entry_issue_origin
_cod_entry_issue_severity
_cod_entry_issue_description
_cod_entry_issue_author
_cod_entry_issue_date
1 original retraction
;
    This file does not describe any real compound and was retracted by
    the authors. The previously deposited coordinates can be reviewed
    in older revisions of this file or in the COD Subversion
    repository, svn://www.crystallography.net/cod/retracted/.

    The precise reasons for the retraction and other circumstances are
    extensively discussed in the Acta Cryst. E editorial:

    William T. A. Harrison, Jim Simpson and Matthias Weil, Acta
    Cryst. E 66 (2010) e1--e2

    http://journals.iucr.org/e/issues/2010/01/00/me0406/index.html
    http://journals.iucr.org/e/issues/2010/01/00/me0406/me0406.pdf
    doi:10.1107/S1600536809051757
    (http://dx.doi.org/10.1107/S1600536809051757)
;
'Saulius Gra\<zulis' 2010-03-20
