#------------------------------------------------------------------------------
#$Date: 2017-10-13 12:31:46 +0300 (Fri, 13 Oct 2017) $
#$Revision: 201979 $
#$URL: file:///home/coder/svn-repositories/cod/cif/2/23/13/2231361.cif $
#------------------------------------------------------------------------------
#
# This file is available in the Crystallography Open Database (COD),
# http://www.crystallography.net/. The original data for this entry
# were provided by IUCr Journals, http://journals.iucr.org/.
#
# The file may be used within the scientific community so long as
# proper attribution is given to the journal article from which the
# data were obtained.
#
data_2231361
loop_
_publ_author_name
'Asiri, Abdullah M.'
'Al-Youbi, Abdulrahman O.'
'Zayed, Mohie E. M.'
'Ng, Seik Weng'
_publ_section_title
;
 1-Chloro-1-[(4-chlorophenyl)hydrazinylidene]propan-2-one
;
_journal_coeditor_code           XU5260
_journal_issue                   8
_journal_name_full               'Acta Crystallographica Section E'
_journal_page_first              o1962
_journal_paper_doi               10.1107/S1600536811026390
_journal_volume                  67
_journal_year                    2011
_chemical_formula_iupac          'C9 H8 Cl2 N2 O'
_chemical_formula_moiety         'C9 H8 Cl2 N2 O'
_chemical_formula_sum            'C9 H8 Cl2 N2 O'
_chemical_formula_weight         231.07
_chemical_name_systematic
;
1-Chloro-1-[(4-chlorophenyl)hydrazinylidene]propan-2-one
;
_space_group_IT_number           14
_symmetry_cell_setting           monoclinic
_symmetry_space_group_name_Hall  '-P 2ybc'
_symmetry_space_group_name_H-M   'P 1 21/c 1'
_atom_sites_solution_hydrogens   geom
_atom_sites_solution_primary     direct
_atom_sites_solution_secondary   difmap
_audit_creation_method           SHELXL-97
_cell_angle_alpha                90.00
_cell_angle_beta                 96.976(7)
_cell_angle_gamma                90.00
_cell_formula_units_Z            4
_cell_length_a                   5.7558(4)
_cell_length_b                   23.3282(17)
_cell_length_c                   7.4107(6)
_cell_measurement_reflns_used    1477
_cell_measurement_temperature    100(2)
_cell_measurement_theta_max      74.1374
_cell_measurement_theta_min      3.7865
_cell_volume                     987.69(13)
_computing_cell_refinement       'CrysAlis PRO (Agilent, 2010)'
_computing_data_collection       'CrysAlis PRO (Agilent, 2010)'
_computing_data_reduction        'CrysAlis PRO (Agilent, 2010)'
_computing_molecular_graphics    'X-SEED (Barbour, 2001)'
_computing_publication_material  'publCIF (Westrip, 2010)'
_computing_structure_refinement  'SHELXL97 (Sheldrick, 2008)'
_computing_structure_solution    'SHELXS97 (Sheldrick, 2008)'
_diffrn_ambient_temperature      100(2)
_diffrn_detector_area_resol_mean 10.4041
_diffrn_measured_fraction_theta_full 0.964
_diffrn_measured_fraction_theta_max 0.964
_diffrn_measurement_device_type
'Agilent SuperNova Dual diffractometer with an Atlas detector'
_diffrn_measurement_method       ω
_diffrn_radiation_monochromator  Mirror
_diffrn_radiation_source         'SuperNova (Cu) X-ray Source'
_diffrn_radiation_type           CuK\a
_diffrn_radiation_wavelength     1.54184
_diffrn_reflns_av_R_equivalents  0.0359
_diffrn_reflns_av_sigmaI/netI    0.0488
_diffrn_reflns_limit_h_max       7
_diffrn_reflns_limit_h_min       -6
_diffrn_reflns_limit_k_max       28
_diffrn_reflns_limit_k_min       -27
_diffrn_reflns_limit_l_max       9
_diffrn_reflns_limit_l_min       -9
_diffrn_reflns_number            3486
_diffrn_reflns_theta_full        74.31
_diffrn_reflns_theta_max         74.31
_diffrn_reflns_theta_min         3.79
_diffrn_standards_decay_%        0
_diffrn_standards_interval_count 0
_diffrn_standards_interval_time  0
_diffrn_standards_number         0
_exptl_absorpt_coefficient_mu    5.647
_exptl_absorpt_correction_T_max  0.8489
_exptl_absorpt_correction_T_min  0.2425
_exptl_absorpt_correction_type   multi-scan
_exptl_absorpt_process_details   '(CrysAlis PRO; Agilent, 2010)'
_exptl_crystal_colour            yellow
_exptl_crystal_density_diffrn    1.554
_exptl_crystal_density_method    'not measured'
_exptl_crystal_description       prism
_exptl_crystal_F_000             472
_exptl_crystal_size_max          0.35
_exptl_crystal_size_mid          0.05
_exptl_crystal_size_min          0.03
_refine_diff_density_max         1.282
_refine_diff_density_min         -0.536
_refine_ls_extinction_coef       0.0015(7)
_refine_ls_extinction_expression Fc^*^=kFc[1+0.001xFc²λ³/sin(2θ)]^-1/4^
_refine_ls_extinction_method     'SHELXL97 (Sheldrick, 2008)'
_refine_ls_goodness_of_fit_ref   1.166
_refine_ls_hydrogen_treatment    mixed
_refine_ls_matrix_type           full
_refine_ls_number_parameters     133
_refine_ls_number_reflns         1939
_refine_ls_number_restraints     0
_refine_ls_restrained_S_all      1.166
_refine_ls_R_factor_all          0.0799
_refine_ls_R_factor_gt           0.0699
_refine_ls_shift/su_max          0.002
_refine_ls_shift/su_mean         0.000
_refine_ls_structure_factor_coef Fsqd
_refine_ls_weighting_details
'calc w=1/[σ²(Fo²)+(0.0903P)²+4.1934P] where P=(Fo²+2Fc²)/3'
_refine_ls_weighting_scheme      calc
_refine_ls_wR_factor_gt          0.1994
_refine_ls_wR_factor_ref         0.2075
_reflns_number_gt                1640
_reflns_number_total             1939
_reflns_threshold_expression     I>2σ(I)
_cod_data_source_file            xu5260.cif
_cod_data_source_block           I
_cod_original_sg_symbol_H-M      'P 21/c'
_cod_database_code               2231361
_cod_database_fobs_code          2231361
loop_
_symmetry_equiv_pos_as_xyz
'x, y, z'
'-x, y+1/2, -z+1/2'
'-x, -y, -z'
'x, -y-1/2, z-1/2'
loop_
_atom_site_type_symbol
_atom_site_label
_atom_site_fract_x
_atom_site_fract_y
_atom_site_fract_z
_atom_site_U_iso_or_equiv
_atom_site_adp_type
_atom_site_calc_flag
_atom_site_refinement_flags
_atom_site_occupancy
_atom_site_symmetry_multiplicity
Cl Cl1 0.2378(2) 0.21916(5) 0.50652(16) 0.0233(4) Uani d . 1 1
Cl Cl2 0.7056(2) 0.56866(5) 0.85227(16) 0.0253(4) Uani d . 1 1
O O1 -0.2165(6) 0.23416(15) 0.2828(5) 0.0272(8) Uani d . 1 1
N N1 0.1754(7) 0.33248(18) 0.5054(5) 0.0194(9) Uani d . 1 1
N N2 0.3787(7) 0.33782(18) 0.6093(5) 0.0204(9) Uani d . 1 1
H H2 0.464(14) 0.308(3) 0.632(10) 0.05(2) Uiso d . 1 1
C C1 -0.2428(9) 0.3362(2) 0.2694(8) 0.0290(12) Uani d . 1 1
H H1A -0.3553 0.3296 0.1612 0.044 Uiso calc R 1 1
H H1B -0.1229 0.3634 0.2402 0.044 Uiso calc R 1 1
H H1C -0.3244 0.3520 0.3669 0.044 Uiso calc R 1 1
C C2 -0.1284(9) 0.2803(2) 0.3310(7) 0.0215(10) Uani d . 1 1
C C3 0.0947(9) 0.2835(2) 0.4510(6) 0.0193(10) Uani d . 1 1
C C4 0.4510(8) 0.3930(2) 0.6690(6) 0.0197(10) Uani d . 1 1
C C5 0.6761(9) 0.4003(2) 0.7582(7) 0.0235(11) Uani d . 1 1
H H5 0.7773 0.3682 0.7794 0.028 Uiso calc R 1 1
C C6 0.7533(9) 0.4543(2) 0.8162(6) 0.0226(10) Uani d . 1 1
H H6 0.9070 0.4595 0.8768 0.027 Uiso calc R 1 1
C C7 0.6036(9) 0.5004(2) 0.7845(6) 0.0195(10) Uani d . 1 1
C C8 0.3792(9) 0.4940(2) 0.6972(7) 0.0221(10) Uani d . 1 1
H H8 0.2789 0.5263 0.6771 0.027 Uiso calc R 1 1
C C9 0.3016(8) 0.4404(2) 0.6392(6) 0.0209(10) Uani d . 1 1
H H9 0.1474 0.4356 0.5793 0.025 Uiso calc R 1 1
loop_
_atom_site_aniso_label
_atom_site_aniso_U_11
_atom_site_aniso_U_22
_atom_site_aniso_U_33
_atom_site_aniso_U_12
_atom_site_aniso_U_13
_atom_site_aniso_U_23
Cl1 0.0260(7) 0.0181(6) 0.0248(6) 0.0025(4) -0.0012(5) 0.0005(4)
Cl2 0.0281(7) 0.0178(6) 0.0279(6) -0.0023(5) -0.0050(5) -0.0019(4)
O1 0.0274(19) 0.0194(18) 0.033(2) -0.0044(15) -0.0023(15) -0.0029(15)
N1 0.019(2) 0.021(2) 0.0179(18) -0.0010(16) -0.0002(15) 0.0004(16)
N2 0.021(2) 0.018(2) 0.021(2) -0.0031(17) -0.0028(16) -0.0005(16)
C1 0.024(3) 0.025(3) 0.036(3) -0.003(2) -0.007(2) 0.002(2)
C2 0.021(2) 0.020(2) 0.024(2) -0.0049(19) 0.0022(19) -0.0011(19)
C3 0.021(2) 0.018(2) 0.019(2) 0.0010(18) 0.0013(18) 0.0013(18)
C4 0.024(2) 0.020(2) 0.016(2) -0.0012(19) 0.0014(18) 0.0006(18)
C5 0.022(2) 0.023(3) 0.024(2) 0.005(2) -0.0008(19) 0.000(2)
C6 0.018(2) 0.027(3) 0.021(2) 0.003(2) -0.0032(18) -0.001(2)
C7 0.024(2) 0.015(2) 0.019(2) -0.0017(18) -0.0001(18) -0.0013(17)
C8 0.020(2) 0.020(2) 0.025(2) 0.0015(19) -0.0023(19) -0.0008(19)
C9 0.018(2) 0.023(2) 0.021(2) 0.0008(19) -0.0002(18) -0.0001(19)
loop_
_atom_type_symbol
_atom_type_description
_atom_type_scat_dispersion_real
_atom_type_scat_dispersion_imag
_atom_type_scat_source
C C 0.0181 0.0091 'International Tables Vol C Tables 4.2.6.8 and 6.1.1.4'
H H 0.0000 0.0000 'International Tables Vol C Tables 4.2.6.8 and 6.1.1.4'
N N 0.0311 0.0180 'International Tables Vol C Tables 4.2.6.8 and 6.1.1.4'
O O 0.0492 0.0322 'International Tables Vol C Tables 4.2.6.8 and 6.1.1.4'
Cl Cl 0.3639 0.7018 'International Tables Vol C Tables 4.2.6.8 and 6.1.1.4'
loop_
_geom_angle_atom_site_label_1
_geom_angle_atom_site_label_2
_geom_angle_atom_site_label_3
_geom_angle
C3 N1 N2 121.8(4)
N1 N2 C4 118.4(4)
N1 N2 H2 119(5)
C4 N2 H2 123(5)
C2 C1 H1A 109.5
C2 C1 H1B 109.5
H1A C1 H1B 109.5
C2 C1 H1C 109.5
H1A C1 H1C 109.5
H1B C1 H1C 109.5
O1 C2 C3 121.3(5)
O1 C2 C1 121.5(4)
C3 C2 C1 117.2(4)
N1 C3 C2 119.4(4)
N1 C3 Cl1 123.6(4)
C2 C3 Cl1 117.0(4)
C5 C4 C9 119.7(5)
C5 C4 N2 119.0(4)
C9 C4 N2 121.3(4)
C6 C5 C4 120.2(5)
C6 C5 H5 119.9
C4 C5 H5 119.9
C7 C6 C5 119.1(5)
C7 C6 H6 120.5
C5 C6 H6 120.5
C6 C7 C8 121.5(4)
C6 C7 Cl2 118.7(4)
C8 C7 Cl2 119.8(4)
C9 C8 C7 119.6(5)
C9 C8 H8 120.2
C7 C8 H8 120.2
C8 C9 C4 119.8(4)
C8 C9 H9 120.1
C4 C9 H9 120.1
loop_
_geom_bond_atom_site_label_1
_geom_bond_atom_site_label_2
_geom_bond_distance
Cl1 C3 1.737(5)
Cl2 C7 1.749(5)
O1 C2 1.225(6)
N1 C3 1.280(6)
N1 N2 1.326(6)
N2 C4 1.407(6)
N2 H2 0.85(8)
C1 C2 1.506(7)
C1 H1A 0.9800
C1 H1B 0.9800
C1 H1C 0.9800
C2 C3 1.472(7)
C4 C5 1.392(7)
C4 C9 1.401(7)
C5 C6 1.386(7)
C5 H5 0.9500
C6 C7 1.382(7)
C6 H6 0.9500
C7 C8 1.381(7)
C8 C9 1.379(7)
C8 H8 0.9500
C9 H9 0.9500
loop_
_geom_hbond_atom_site_label_D
_geom_hbond_atom_site_label_H
_geom_hbond_atom_site_label_A
_geom_hbond_site_symmetry_A
_geom_hbond_distance_DH
_geom_hbond_distance_HA
_geom_hbond_distance_DA
_geom_hbond_angle_DHA
_geom_hbond_publ_flag
N2 H2 O1 4_666 0.85(8) 2.26(8) 3.029(6) 150(7) yes
loop_
_geom_torsion_atom_site_label_1
_geom_torsion_atom_site_label_2
_geom_torsion_atom_site_label_3
_geom_torsion_atom_site_label_4
_geom_torsion
C3 N1 N2 C4 -177.6(4)
N2 N1 C3 C2 -178.0(4)
N2 N1 C3 Cl1 0.4(7)
O1 C2 C3 N1 -176.7(5)
C1 C2 C3 N1 3.6(7)
O1 C2 C3 Cl1 4.8(7)
C1 C2 C3 Cl1 -174.9(4)
N1 N2 C4 C5 -171.9(4)
N1 N2 C4 C9 7.6(7)
C9 C4 C5 C6 -0.5(7)
N2 C4 C5 C6 179.0(4)
C4 C5 C6 C7 0.1(8)
C5 C6 C7 C8 0.2(8)
C5 C6 C7 Cl2 -178.2(4)
C6 C7 C8 C9 -0.2(8)
Cl2 C7 C8 C9 178.1(4)
C7 C8 C9 C4 -0.1(7)
C5 C4 C9 C8 0.5(7)
N2 C4 C9 C8 -179.0(4)
loop_
_cod_related_entry_id
_cod_related_entry_database
_cod_related_entry_code
1 ChemSpider 4647075
