#------------------------------------------------------------------------------
#$Date: 2018-09-27 07:13:35 +0300 (Thu, 27 Sep 2018) $
#$Revision: 211196 $
#$URL: file:///home/coder/svn-repositories/cod/cif/2/31/00/2310080.cif $
#------------------------------------------------------------------------------
#
# This file is available in the Crystallography Open Database (COD),
# http://www.crystallography.net/. The original data for this entry
# were provided by IUCr Journals, http://journals.iucr.org/.
#
# The file may be used within the scientific community so long as
# proper attribution is given to the journal article from which the
# data were obtained.
#
data_2310080
loop_
_publ_author_name
'Moriarty, J.L.jr.'
'Baenziger, N.C.'
'Humphreys, J.E.'
'Gordon, R.O.'
_publ_section_title
;
 X-ray examination of some rare-earth-containing binary alloy systems
;
_journal_name_full               'Acta Crystallographica (1,1948-23,1967)'
_journal_page_first              840
_journal_page_last               841
_journal_paper_doi               10.1107/S0365110X6600402X
_journal_volume                  21
_journal_year                    1966
_chemical_formula_sum            'Au Yb'
_space_group_IT_number           221
_symmetry_space_group_name_Hall  '-P 4 2 3'
_symmetry_space_group_name_H-M   'P m -3 m'
_cell_angle_alpha                90
_cell_angle_beta                 90
_cell_angle_gamma                90
_cell_formula_units_Z            1
_cell_length_a                   3.5634
_cell_length_b                   3.5634
_cell_length_c                   3.5634
_cell_volume                     45.247
_citation_journal_id_ASTM        ACCRA9
_cod_data_source_file            gold_390.cif
_cod_data_source_block           Au1Yb1
_cod_original_cell_volume        45.24741
_cod_original_formula_sum        'Au1 Yb1'
_cod_database_code               2310080
loop_
_symmetry_equiv_pos_as_xyz
x,y,z
-y,x,z
-x,-y,z
y,-x,z
x,-y,-z
y,x,-z
-x,y,-z
-y,-x,-z
z,x,y
-x,z,y
-z,-x,y
x,-z,y
z,-x,-y
x,z,-y
-z,x,-y
-x,-z,-y
y,z,x
y,-z,-x
z,y,-x
-y,z,-x
-z,-y,-x
-y,-z,x
z,-y,x
-z,y,x
-x,-y,-z
y,-x,-z
x,y,-z
-y,x,-z
-x,y,z
-y,-x,z
x,-y,z
y,x,z
-z,-x,-y
x,-z,-y
z,x,-y
-x,z,-y
-z,x,y
-x,-z,y
z,-x,y
x,z,y
-y,-z,-x
-y,z,x
-z,-y,x
y,-z,x
z,y,x
y,z,-x
-z,y,-x
z,-y,-x
loop_
_atom_site_label
_atom_site_type_symbol
_atom_site_fract_x
_atom_site_fract_y
_atom_site_fract_z
_atom_site_occupancy
_atom_site_U_iso_or_equiv
Au1 Au 0 0 0 1 0.0
Yb1 Yb 0.5 0.5 0.5 1 0.0
