#------------------------------------------------------------------------------
#$Date: 2018-09-27 07:13:35 +0300 (Thu, 27 Sep 2018) $
#$Revision: 211196 $
#$URL: file:///home/coder/svn-repositories/cod/cif/2/31/02/2310250.cif $
#------------------------------------------------------------------------------
#
# This file is available in the Crystallography Open Database (COD),
# http://www.crystallography.net/. The original data for this entry
# were provided by IUCr Journals, http://journals.iucr.org/.
#
# The file may be used within the scientific community so long as
# proper attribution is given to the journal article from which the
# data were obtained.
#
data_2310250
loop_
_publ_author_name
'Spooner, F.J.'
'Wilson, C.G.'
_publ_section_title
;
 Ordering in binary sigma phases
;
_journal_name_full               'Acta Crystallographica (1,1948-23,1967)'
_journal_page_first              1533
_journal_page_last               1538
_journal_volume                  17
_journal_year                    1964
_chemical_formula_sum            'Mo1.95 Os1.05'
_space_group_IT_number           136
_symmetry_space_group_name_Hall  '-P 4n 2n'
_symmetry_space_group_name_H-M   'P 42/m n m'
_cell_angle_alpha                90
_cell_angle_beta                 90
_cell_angle_gamma                90
_cell_formula_units_Z            10
_cell_length_a                   9.615
_cell_length_b                   9.615
_cell_length_c                   4.941
_cell_volume                     456.787
_citation_journal_id_ASTM        ACCRA9
_cod_data_source_file            Spooner_ACCRA9_1964_1237.cif
_cod_data_source_block           Mo1.95Os1.05
_cod_original_cell_volume        456.7867
_cod_database_code               2310250
loop_
_symmetry_equiv_pos_as_xyz
x,y,z
-y+1/2,x+1/2,z+1/2
-x,-y,z
y+1/2,-x+1/2,z+1/2
x+1/2,-y+1/2,-z+1/2
y,x,-z
-x+1/2,y+1/2,-z+1/2
-y,-x,-z
-x,-y,-z
y-1/2,-x-1/2,-z-1/2
x,y,-z
-y-1/2,x-1/2,-z-1/2
-x-1/2,y-1/2,z-1/2
-y,-x,z
x-1/2,-y-1/2,z-1/2
y,x,z
loop_
_atom_site_label
_atom_site_type_symbol
_atom_site_fract_x
_atom_site_fract_y
_atom_site_fract_z
_atom_site_occupancy
_atom_site_U_iso_or_equiv
Os3 Os 0.4363 0.1316 0 0.062 0.0
Mo3 Mo 0.4363 0.1316 0 0.938 0.0
Mo1 Mo 0 0 0 0.25 0.0
Mo4 Mo 0.7376 0.0653 0 0.062 0.0
Os4 Os 0.7376 0.0653 0 0.938 0.0
Mo5 Mo 0.1823 0.1823 0.2524 0.875 0.0
Os1 Os 0 0 0 0.75 0.0
Mo2 Mo 0.3981 0.3981 0 1 0.0
Os5 Os 0.1823 0.1823 0.2524 0.125 0.0
