#------------------------------------------------------------------------------
#$Date: 2016-02-13 21:28:24 +0200 (Sat, 13 Feb 2016) $
#$Revision: 176429 $
#$URL: svn://www.crystallography.net/cod/cif/2/31/08/2310844.cif $
#------------------------------------------------------------------------------
#
# This file is available in the Crystallography Open Database (COD),
# http://www.crystallography.net/. The original data for this entry
# were provided by IUCr Journals, http://journals.iucr.org/.
#
# The file may be used within the scientific community so long as
# proper attribution is given to the journal article from which the
# data were obtained.
#
data_2310844
loop_
_publ_author_name
'Vorres, K.'
'Donohue, J.'
_publ_section_title
;
 The structure of titanium oxydifluoride
;
_journal_name_full               'Acta Crystallographica (1,1948-23,1967)'
_journal_page_first              25
_journal_page_last               26
_journal_volume                  8
_journal_year                    1955
_chemical_formula_sum            'F2 O Ti'
_chemical_name_systematic        'Ti O F2'
_space_group_IT_number           221
_symmetry_space_group_name_Hall  '-P 4 2 3'
_symmetry_space_group_name_H-M   'P m -3 m'
_cell_angle_alpha                90
_cell_angle_beta                 90
_cell_angle_gamma                90
_cell_formula_units_Z            1
_cell_length_a                   3.798
_cell_length_b                   3.798
_cell_length_c                   3.798
_cell_volume                     54.785
_citation_journal_id_ASTM        ACCRA9
_cod_data_source_file            Vorres_ACCRA9_1955_521.cif
_cod_data_source_block           F2O1Ti1
_cod_original_cell_volume        54.78541
_cod_original_formula_sum        'F2 O1 Ti1'
_cod_database_code               2310844
loop_
_symmetry_equiv_pos_as_xyz
x,y,z
-y,x,z
-x,-y,z
y,-x,z
x,-y,-z
y,x,-z
-x,y,-z
-y,-x,-z
z,x,y
-x,z,y
-z,-x,y
x,-z,y
z,-x,-y
x,z,-y
-z,x,-y
-x,-z,-y
y,z,x
y,-z,-x
z,y,-x
-y,z,-x
-z,-y,-x
-y,-z,x
z,-y,x
-z,y,x
-x,-y,-z
y,-x,-z
x,y,-z
-y,x,-z
-x,y,z
-y,-x,z
x,-y,z
y,x,z
-z,-x,-y
x,-z,-y
z,x,-y
-x,z,-y
-z,x,y
-x,-z,y
z,-x,y
x,z,y
-y,-z,-x
-y,z,x
-z,-y,x
y,-z,x
z,y,x
y,z,-x
-z,y,-x
z,-y,-x
loop_
_atom_site_label
_atom_site_type_symbol
_atom_site_fract_x
_atom_site_fract_y
_atom_site_fract_z
_atom_site_occupancy
_atom_site_U_iso_or_equiv
Ti1 Ti+4 0 0 0 1 0.0
O1 O-2 0 0 0.5 0.33 0.0
F1 F-1 0 0 0.5 0.67 0.0
