data_3000127
loop_
_publ_author_name
'Mario Tribaudino'
_journal_name_full               'To be published in mineralogical magazine'
_chemical_formula_sum            'Ca0.2 Co1.8 O6 Si2'
_symmetry_space_group_name_Hall  '-P 2ybc'
_symmetry_space_group_name_H-M   'P 1 21/c 1'
_cell_angle_alpha                90
_cell_angle_beta                 108.430(15)
_cell_angle_gamma                90
_cell_length_a                   9.719(2)
_cell_length_b                   8.955(3)
_cell_length_c                   5.2420(10)
_cell_measurement_temperature    293(2)
_cell_volume                     432.83(19)
_diffrn_ambient_temperature      293(2)
_diffrn_radiation_type           MoK\a
_diffrn_radiation_wavelength     0.71073
_refine_ls_goodness_of_fit_ref   1.039
_refine_ls_R_factor_all          0.1164
_refine_ls_R_factor_gt           0.0644
_refine_ls_wR_factor_gt          0.1319
_refine_ls_wR_factor_ref         0.1538
_cod_database_code               3000127
_cod_hold_until_date             2017-10-17
loop_
_atom_site_label
_atom_site_fract_x
_atom_site_fract_y
_atom_site_fract_z
? ? ? ?
