data_3000304
loop_
_publ_author_name
'Akio Ojida'
_publ_section_title
;
 ENTER SECTION TITLE
;
_journal_name_full               'To be published in Communications Chemistry'
_chemical_formula_sum            'C32 H32 Cl2 N5 O8 Zn'
_space_group_name_Hall           '-P 2ac 2ab'
_space_group_name_H-M_alt        'P b c a'
_cell_angle_alpha                90.0000
_cell_angle_beta                 90.0000
_cell_angle_gamma                90.0000
_cell_length_a                   11.704(2)
_cell_length_b                   16.022(3)
_cell_length_c                   33.430(6)
_cell_measurement_temperature    90
_cell_volume                     6268.8(19)
_diffrn_ambient_temperature      90
_diffrn_radiation_type           'Mo K\a'
_diffrn_radiation_wavelength     0.71075
_refine_ls_goodness_of_fit_ref   1.162
_refine_ls_R_factor_gt           0.0307
_refine_ls_wR_factor_ref         0.0357
_cod_database_code               3000304
_cod_hold_until_date             2021-11-08
loop_
_atom_site_label
_atom_site_fract_x
_atom_site_fract_y
_atom_site_fract_z
? ? ? ?
