data_3000361
loop_
_publ_author_name
'X.-L. Shen'
'H. Ma'
'Dilip Bhoi'
'J. Gouchi'
'Y. Uwatoko'
'A. Dalan'
'Y. Kawamura'
'H. Sato'
'I. Umehara'
'M. Uehara'
_publ_section_title
;
 Pressure induced superconductivity and multiple structural transitions in
 CsCl-type cubic CeZn single crystal
;
_journal_name_full               'To be published in Crystals'
_chemical_formula_sum            'Ce Zn'
_chemical_name_common            CeZn
_chemical_name_systematic        'Cerium Zinc'
_space_group_name_Hall           '-P 2yb'
_space_group_name_H-M_alt        'P 1 21/m 1'
_cell_angle_alpha                90
_cell_angle_beta                 113.66(8)
_cell_angle_gamma                90
_cell_length_a                   6.190(3)
_cell_length_b                   4.659(7)
_cell_length_c                   6.200(5)
_cell_measurement_temperature    293(2)
_cell_volume                     163.8(3)
_diffrn_ambient_temperature      293(2)
_diffrn_radiation_probe          x-ray
_diffrn_radiation_type           'Mo K\a'
_diffrn_radiation_wavelength     0.71073
_refine_ls_goodness_of_fit_ref   1.330
_refine_ls_R_factor_all          0.1236
_refine_ls_R_factor_gt           0.1046
_refine_ls_wR_factor_gt          0.2842
_refine_ls_wR_factor_ref         0.2967
_cod_database_code               3000361
_cod_hold_until_date             2023-09-15
loop_
_atom_site_label
_atom_site_fract_x
_atom_site_fract_y
_atom_site_fract_z
? ? ? ?
