data_3000391
loop_
_publ_author_name
'Cametti, Georgia'
'Roos, Diana'
'Prieur, Damien'
'Scheinost, Andreas'
'Churakov, Sergey'
_journal_name_full               'To be published in Scientific Reports'
_chemical_formula_sum            'O167.88 Pb11.42 Si72'
_chemical_name_common            Pb-stellerite
_space_group_name_Hall           '-A 2a 2a'
_space_group_name_H-M_alt        'A m m a'
_cell_angle_alpha                90
_cell_angle_beta                 90
_cell_angle_gamma                90
_cell_length_a                   13.6684(3)
_cell_length_b                   17.8690(4)
_cell_length_c                   17.6896(4)
_cell_measurement_temperature    398(2)
_cell_volume                     4320.52(17)
_diffrn_ambient_temperature      398(2)
_diffrn_radiation_type           MoK\a
_diffrn_radiation_wavelength     0.71073
_refine_ls_goodness_of_fit_ref   1.035
_refine_ls_R_factor_all          0.1277
_refine_ls_R_factor_gt           0.0931
_refine_ls_wR_factor_gt          0.2432
_refine_ls_wR_factor_ref         0.2647
_cod_database_code               3000391
_cod_hold_until_date             2022-11-20
loop_
_atom_site_label
_atom_site_fract_x
_atom_site_fract_y
_atom_site_fract_z
? ? ? ?
