data_3000403
loop_
_publ_author_name
'Jong Hyuk Kim'
'Mi Kyung Kim'
'Ki Won Jeong'
'Hyun Jun Shin'
'Jae Min Hong'
'Jin Seok Kim'
'Kyungsun Moon'
'Nara Lee'
'Young Jai Choi'
_journal_name_full               'To be published in Scientific Reports'
_chemical_formula_sum            'As2 Ca0.9 Co2 Sr0.1'
_space_group_name_Hall           '-I 4 2'
_space_group_name_H-M_alt        'I 4/m m m'
_cell_angle_alpha                90
_cell_angle_beta                 90
_cell_angle_gamma                90
_cell_length_a                   3.9970(2)
_cell_length_b                   3.9970(2)
_cell_length_c                   10.3356(10)
_cell_measurement_temperature    93(2)
_cell_volume                     165.12(2)
_diffrn_ambient_temperature      93(2)
_diffrn_radiation_type           MoK\a
_diffrn_radiation_wavelength     0.71073
_refine_ls_goodness_of_fit_ref   1.132
_refine_ls_R_factor_all          0.0286
_refine_ls_R_factor_gt           0.0283
_refine_ls_wR_factor_gt          0.0777
_refine_ls_wR_factor_ref         0.0779
_cod_database_code               3000403
_cod_hold_until_date             2022-12-19
loop_
_atom_site_label
_atom_site_fract_x
_atom_site_fract_y
_atom_site_fract_z
? ? ? ?
