data_3000431
loop_
_publ_author_name
'Wu, Jin-Cheng'
'Escudero-Adan, Eduardo C.'
'Martinez-Belmonte, Marta'
'de Mendoza, Javier'
_journal_name_full               'To be published in Frontiers in Chemistry'
_chemical_formula_sum            'C66 H66 K4 O28 U2'
_space_group_name_Hall           '-I 2b 2c 3'
_space_group_name_H-M_alt        'I a -3'
_cell_angle_alpha                90
_cell_angle_beta                 90
_cell_angle_gamma                90
_cell_length_a                   23.722(5)
_cell_length_b                   23.722(5)
_cell_length_c                   23.722(5)
_cell_measurement_temperature    100(2)
_cell_volume                     13349(5)
_diffrn_ambient_temperature      100(2)
_diffrn_radiation_type           MoK\a
_diffrn_radiation_wavelength     0.71073
_refine_ls_goodness_of_fit_ref   1.127
_refine_ls_R_factor_all          0.1184
_refine_ls_R_factor_gt           0.0563
_refine_ls_wR_factor_gt          0.1277
_refine_ls_wR_factor_ref         0.1543
_cod_database_code               3000431
_cod_hold_until_date             2023-07-14
loop_
_atom_site_label
_atom_site_fract_x
_atom_site_fract_y
_atom_site_fract_z
? ? ? ?
