data_3000484
loop_
_publ_author_name
Zugenmaier
_publ_section_title
;
 Crystal and Molecular Structures of Two Phthalocyanines,
 Chloro(phthalocyaninato)gallium(III) (ClGaPc) and
 (μ-Oxo)bis[(phthalocyaninato)gallium(III)] (PcGaOGaPc)
;
_journal_name_full               'To be published in Crystals'
_chemical_formula_sum            'C64 H32 Cl2 Ga2 N16'
_chemical_name_common            ClGaPc
_chemical_name_systematic
;  
Chloro(phthalocyaninato)gallium(III) (ClGaPc)
;
_space_group_name_Hall           '-P 1'
_space_group_name_H-M_alt        'P -1'
_cell_angle_alpha                98.350(10)
_cell_angle_beta                 108.720(10)
_cell_angle_gamma                90.00(2)
_cell_length_a                   13.772(3)
_cell_length_b                   13.766(3)
_cell_length_c                   14.038(3)
_cell_measurement_temperature    291(2)
_cell_volume                     2490.8(9)
_diffrn_ambient_temperature      291(2)
_diffrn_radiation_type           MoK\a
_diffrn_radiation_wavelength     0.71073
_refine_ls_goodness_of_fit_ref   1.041
_refine_ls_R_factor_all          0.1025
_refine_ls_R_factor_gt           0.0598
_refine_ls_wR_factor_gt          0.1545
_refine_ls_wR_factor_ref         0.1765
_cod_database_code               3000484
_cod_hold_until_date             2024-06-29
loop_
_atom_site_label
_atom_site_fract_x
_atom_site_fract_y
_atom_site_fract_z
? ? ? ?
