data_3000500
loop_
_publ_author_name
'Morgan Redington'
_journal_name_full               'To be published in Chemistry of Materials'
_chemical_formula_sum            'Ca H17 Li2'
_space_group_name_Hall           '-R 3 2"'
_space_group_name_H-M_alt        'R -3 m :H'
_cell_angle_alpha                90.0000000000
_cell_angle_beta                 90.0000000000
_cell_angle_gamma                120.0000000000
_cell_length_a                   5.2341591850
_cell_length_b                   5.2341591850
_cell_length_c                   12.3470625000
_cell_volume                     292.946
_cod_database_code               3000500
_cod_hold_until_date             2024-11-17
_cod_depositor_requested_release_date 2024-11-17
loop_
_atom_site_label
_atom_site_fract_x
_atom_site_fract_y
_atom_site_fract_z
? ? ? ?
