data_3000504
loop_
_publ_author_name
'Morgan Redington'
_journal_name_full               'To be published in Chemistry of Materials'
_chemical_formula_sum            'Ca H12 Li2'
_space_group_name_Hall           '-P 2yb'
_space_group_name_H-M_alt        'P 1 21/m 1'
_cell_angle_alpha                90.0000000000
_cell_angle_beta                 93.5219612477
_cell_angle_gamma                90.0000000000
_cell_length_a                   3.0493352102
_cell_length_b                   3.4212053793
_cell_length_c                   9.3406050997
_cell_volume                     97.261
_cod_database_code               3000504
_cod_hold_until_date             2024-11-17
_cod_depositor_requested_release_date 2024-11-17
loop_
_atom_site_label
_atom_site_fract_x
_atom_site_fract_y
_atom_site_fract_z
? ? ? ?
