data_3000505
loop_
_publ_author_name
'Morgan Redington'
_journal_name_full               'To be published in Chemistry of Materials'
_chemical_formula_sum            'Ca H13 Li2'
_space_group_name_Hall           '-P 1'
_space_group_name_H-M_alt        'P -1'
_cell_angle_alpha                93.9379225001
_cell_angle_beta                 105.6578465881
_cell_angle_gamma                106.4355725041
_cell_length_a                   3.3451001080
_cell_length_b                   5.5211547329
_cell_length_c                   6.0198972059
_cell_volume                     101.406
_cod_database_code               3000505
_cod_hold_until_date             2024-11-17
_cod_depositor_requested_release_date 2024-11-17
loop_
_atom_site_label
_atom_site_fract_x
_atom_site_fract_y
_atom_site_fract_z
? ? ? ?
