data_3000514
loop_
_publ_author_name
'Morgan Redington'
_journal_name_full               'To be published in Chemistry of Materials'
_chemical_formula_sum            'Ca H11 Li2'
_space_group_name_Hall           '-P 1'
_space_group_name_H-M_alt        'P -1'
_cell_angle_alpha                80.4388891375
_cell_angle_beta                 73.3125435233
_cell_angle_gamma                77.8528986786
_cell_length_a                   3.3641408071
_cell_length_b                   4.5296552921
_cell_length_c                   5.0790519700
_cell_volume                     72.014
_cod_database_code               3000514
_cod_hold_until_date             2024-11-17
_cod_depositor_requested_release_date 2024-11-17
loop_
_atom_site_label
_atom_site_fract_x
_atom_site_fract_y
_atom_site_fract_z
? ? ? ?
