data_3000517
loop_
_publ_author_name
'Morgan Redington'
_journal_name_full               'To be published in Chemistry of Materials'
_chemical_formula_sum            'Ca H14 Li2'
_space_group_name_Hall           'P 2ac -2'
_space_group_name_H-M_alt        'P m n 21'
_cell_angle_alpha                90.0000000000
_cell_angle_beta                 90.0000000000
_cell_angle_gamma                90.0000000000
_cell_length_a                   3.2144010023
_cell_length_b                   2.6988172627
_cell_length_c                   9.4693509838
_cell_volume                     82.147
_cod_database_code               3000517
_cod_hold_until_date             2024-11-17
_cod_depositor_requested_release_date 2024-11-17
loop_
_atom_site_label
_atom_site_fract_x
_atom_site_fract_y
_atom_site_fract_z
? ? ? ?
