data_3000520
loop_
_publ_author_name
'Morgan Redington'
_journal_name_full               'To be published in Chemistry of Materials'
_chemical_formula_sum            'Ca H17 Li2'
_space_group_name_Hall           '-C 2y'
_space_group_name_H-M_alt        'C 1 2/m 1'
_cell_angle_alpha                90.0000000000
_cell_angle_beta                 123.7972027075
_cell_angle_gamma                90.0000000000
_cell_length_a                   8.5724180820
_cell_length_b                   5.0030549467
_cell_length_c                   5.0554089632
_cell_volume                     180.178
_cod_database_code               3000520
_cod_hold_until_date             2024-11-17
_cod_depositor_requested_release_date 2024-11-17
loop_
_atom_site_label
_atom_site_fract_x
_atom_site_fract_y
_atom_site_fract_z
? ? ? ?
