data_3000529
loop_
_publ_author_name
'Morgan Redington'
_journal_name_full               'To be published in Chemistry of Materials'
_chemical_formula_sum            'Ca H18 Li2'
_space_group_name_Hall           'A 2 -2b'
_space_group_name_H-M_alt        'A e m 2'
_cell_angle_alpha                90.0000000000
_cell_angle_beta                 90.0000000000
_cell_angle_gamma                90.0000000000
_cell_length_a                   3.9924453000
_cell_length_b                   4.8553660000
_cell_length_c                   8.4194306000
_cell_volume                     163.209
_cod_database_code               3000529
_cod_hold_until_date             2024-11-17
_cod_depositor_requested_release_date 2024-11-17
loop_
_atom_site_label
_atom_site_fract_x
_atom_site_fract_y
_atom_site_fract_z
? ? ? ?
