data_3000531
loop_
_publ_author_name
'Morgan Redington'
_journal_name_full               'To be published in Chemistry of Materials'
_chemical_formula_sum            'Ca H20 Li2'
_space_group_name_Hall           '-I 2 2'
_space_group_name_H-M_alt        'I m m m'
_cell_angle_alpha                90.0000000000
_cell_angle_beta                 90.0000000000
_cell_angle_gamma                90.0000000000
_cell_length_a                   4.6275503048
_cell_length_b                   6.6666517823
_cell_length_c                   2.8634423232
_cell_volume                     88.338
_cod_database_code               3000531
_cod_hold_until_date             2024-11-17
_cod_depositor_requested_release_date 2024-11-17
loop_
_atom_site_label
_atom_site_fract_x
_atom_site_fract_y
_atom_site_fract_z
? ? ? ?
